Workbook
Name Control_Avg: 'Control Sample Data'!$M$3:$M$98
Name new: [1]newLot!$E$5:$E$132
Name old: [1]oldLot!$E$5:$E$132
Name Test_Avg: 'Test Sample Data'!$M$3:$M$98

Sheet Instructions
A2: Instructions for using the analysis worksheets Important notes: 1. Data cells are yellow. You can change and input values in these cells. 2. Formulas cells are gray or white. Please do not touch these cells. They contain formulas for calculation use. 3. A set of sample data is displayed for illustration purpose. Follow the instruction and replace sample data with your array info and experimental Ct values. 4. To ensure the best performance, use GeneCopoeia recommended and supported reagents. Test sample data: input test sample Ct values 1. Yellow cells: copy and paste your test sample Ct values by clicking “paste special” then selecting “paste values” 2. Up to 10 replicated samples’ Ct values can be uploaded Control sample data: input control sample Ct values 1. Yellow cells: copy and paste your control sample Ct values by clicking “paste special” then selecting “paste values” 2. Up to 10 replicated samples’ Ct values can be uploaded Normalization: choose housekeeping genes 1. Yellow cells: type the gene symbols of housekeeping (HK) genes that will be used for normalization. 2. Up to 20 HK genes can be used. Results: display fold difference 1. The fold changes of the differential expression (test vs. control) are displayed here automatically. 2. T-test p values will be automatically displayed if sample replicates are included. 3D plot: Illustrate fold difference in 3D 1. Up-regulation: z-axis values >1 2. Down-regulation: z-axis values <1 3. The title of each axis can be changed by clicking and editing it Scatter plot: Display fold change with defined threshold 1. Graphs the expression level ((2 ^ (-ΔCt)) of each gene (control vs. test). 2. Black line: indicates fold change ((2 ^ (-ΔΔCt)) of 1, which means no change. 3. Yellow cell: enter and define your desired threshold of fold change. 4. Pink line: indicates the desired threshold of fold change. 5. The scale and title of each axis can be adjusted and edited by clicking and reformatting it. 6. Note: ΔCt = Ct (GOI) – avg. (Ct (HKG)). GOI stands for each gene of interest. HKG stands for the housekeeping genes. Volcano plot: Display fold change with defined threshold and p-value 1. Yellow cells: define threshold of fold change and p-value 2. Black line: indicates fold change of 1. 3. Pink line: indicates the desired threshold of fold change 4. Blue line: indicates the desired p value of the t-test threshold. 5. The scale and title of each axis can be adjusted and edited. QC report: display the analysis of array control wells 1. Display analysis of PCR, RT and NC control wells.

Sheet Gene Table
A1: PCR Array Catalog #: | C1: QM031
A2: Position | B2: Catalog No. | C2: Mature miRNA accession No. | D2: Mature miRNA ID
A3: A01 | B3: HmiRQP0227 | C3: MIMAT0000069 | D3: hsa-miR-16-5p
A4: A02 | B4: HmiRQP0074 | C4: MIMAT0000422 | D4: hsa-miR-124-3p
A5: A03 | B5: HmiRQP0219 | C5: MIMAT0000452 | D5: hsa-miR-154-5p
A6: A04 | B6: HmiRQP0354 | C6: MIMAT0000082 | D6: hsa-miR-26a-5p
A7: A05 | B7: HmiRQP0225 | C7: MIMAT0000417 | D7: hsa-miR-15b-5p
A8: A06 | B8: HmiRQP0309 | C8: MIMAT0000241 | D8: hsa-miR-208a
A9: A07 | B9: HmiRQP0310 | C9: MIMAT0004960 | D9: hsa-miR-208b
A10: A08 | B10: HmiRQP0316 | C10: MIMAT0000076 | D10: hsa-miR-21-5p
A11: A09 | B11: HmiRQP0317 | C11: MIMAT0000267 | D11: hsa-miR-210
A12: A10 | B12: HmiRQP0349 | C12: MIMAT0000080 | D12: hsa-miR-24-3p
A13: A11 | B13: HmiRQP0491 | C13: MIMAT0001340 | D13: hsa-miR-423-3p
... A98: H12 | B98: PCR | C98: PCR | D98: PCR

Sheet Test Sample Data
A1: Symbol | B1: Well | C1: =Results!C2 -> Test Sample | P1: Ct Range | Q1: Distribution of Ct Values | AA1: AVG | AB1: STD
C2: exp1 | D2: exp2 | E2: exp3 | F2: exp4 | G2: exp5 | H2: exp6 | I2: exp7 | J2: exp8 | K2: exp9 | L2: exp10 | M2: AVG | N2: SD | Q2: exp1 | R2: exp2 | S2: exp3 | T2: exp4 | U2: exp5 | V2: exp6 | W2: exp7 | X2: exp8 | Y2: exp9 | Z2: exp10
A3: ='Gene Table'!D3 -> hsa-miR-16-5p | B3: A01 | P3: <25 | Q3: =IF(COUNTIF(C$3:C$98,"<35")=0,"",COUNTIF(C$3:C$98,"<25")-COUNTIF(C$3:C$98,"=0")) | R3: =IF(COUNTIF(D$3:D$98,"<35")=0,"",COUNTIF(D$3:D$98,"<25")-COUNTIF(D$3:D$98,"=0")) | S3: =IF(COUNTIF(E$3:E$98,"<35")=0,"",COUNTIF(E$3:E$98,"<25")-COUNTIF(E$3:E$98,"=0")) | T3: =IF(COUNTIF(F$3:F$98,"<35")=0,"",COUNTIF(F$3:F$98,"<25")-COUNTIF(F$3:F$98,"=0")) | U3: =IF(COUNTIF(G$3:G$98,"<35")=0,"",COUNTIF(G$3:G$98,"<25")-COUNTIF(G$3:G$98,"=0")) | V3: =IF(COUNTIF(H$3:H$98,"<35")=0,"",COUNTIF(H$3:H$98,"<25")-COUNTIF(H$3:H$98,"=0")) | W3: =IF(COUNTIF(I$3:I$98,"<35")=0,"",COUNTIF(I$3:I$98,"<25")-COUNTIF(I$3:I$98,"=0")) | X3: =IF(COUNTIF(J$3:J$98,"<35")=0,"",COUNTIF(J$3:J$98,"<25")-COUNTIF(J$3:J$98,"=0")) | ... Z3: =IF(COUNTIF(L$3:L$98,"<35")=0,"",COUNTIF(L$3:L$98,"<25")-COUNTIF(L$3:L$98,"=0")) | AA3: =AVERAGE(Q3:Z3) -> #DIV/0! | AB3: =STDEV(Q3:Z3) -> #DIV/0!
A4: ='Gene Table'!D4 -> hsa-miR-124-3p | B4: A02 | P4: 25-30 | Q4: =IF(COUNTIF(C$3:C$98,"<35")=0,"",COUNTIF(C$3:C$98,"<30")-Q3-COUNTIF(C$3:C$98,"=0")) | R4: =IF(COUNTIF(D$3:D$98,"<35")=0,"",COUNTIF(D$3:D$98,"<30")-R3-COUNTIF(D$3:D$98,"=0")) | S4: =IF(COUNTIF(E$3:E$98,"<35")=0,"",COUNTIF(E$3:E$98,"<30")-S3-COUNTIF(E$3:E$98,"=0")) | T4: =IF(COUNTIF(F$3:F$98,"<35")=0,"",COUNTIF(F$3:F$98,"<30")-T3-COUNTIF(F$3:F$98,"=0")) | U4: =IF(COUNTIF(G$3:G$98,"<35")=0,"",COUNTIF(G$3:G$98,"<30")-U3-COUNTIF(G$3:G$98,"=0")) | V4: =IF(COUNTIF(H$3:H$98,"<35")=0,"",COUNTIF(H$3:H$98,"<30")-V3-COUNTIF(H$3:H$98,"=0")) | W4: =IF(COUNTIF(I$3:I$98,"<35")=0,"",COUNTIF(I$3:I$98,"<30")-W3-COUNTIF(I$3:I$98,"=0")) | X4: =IF(COUNTIF(J$3:J$98,"<35")=0,"",COUNTIF(J$3:J$98,"<30")-X3-COUNTIF(J$3:J$98,"=0")) | ... Z4: =IF(COUNTIF(L$3:L$98,"<35")=0,"",COUNTIF(L$3:L$98,"<30")-Z3-COUNTIF(L$3:L$98,"=0")) | AA4: =AVERAGE(Q4:Z4) -> #DIV/0! | AB4: =STDEV(Q4:Z4) -> #DIV/0!
A5: ='Gene Table'!D5 -> hsa-miR-154-5p | B5: A03 | P5: 30-35 | Q5: =IF(COUNTIF(C$3:C$98,"<35")=0,"",COUNTIF(C$3:C$98,"<35")-SUM(Q3:Q4)-COUNTIF(C$3:C$98,"=0")) | R5: =IF(COUNTIF(D$3:D$98,"<35")=0,"",COUNTIF(D$3:D$98,"<35")-SUM(R3:R4)-COUNTIF(D$3:D$98,"=0")) | S5: =IF(COUNTIF(E$3:E$98,"<35")=0,"",COUNTIF(E$3:E$98,"<35")-SUM(S3:S4)-COUNTIF(E$3:E$98,"=0")) | T5: =IF(COUNTIF(F$3:F$98,"<35")=0,"",COUNTIF(F$3:F$98,"<35")-SUM(T3:T4)-COUNTIF(F$3:F$98,"=0")) | U5: =IF(COUNTIF(G$3:G$98,"<35")=0,"",COUNTIF(G$3:G$98,"<35")-SUM(U3:U4)-COUNTIF(G$3:G$98,"=0")) | V5: =IF(COUNTIF(H$3:H$98,"<35")=0,"",COUNTIF(H$3:H$98,"<35")-SUM(V3:V4)-COUNTIF(H$3:H$98,"=0")) | W5: =IF(COUNTIF(I$3:I$98,"<35")=0,"",COUNTIF(I$3:I$98,"<35")-SUM(W3:W4)-COUNTIF(I$3:I$98,"=0")) | X5: =IF(COUNTIF(J$3:J$98,"<35")=0,"",COUNTIF(J$3:J$98,"<35")-SUM(X3:X4)-COUNTIF(J$3:J$98,"=0")) | ... Z5: =IF(COUNTIF(L$3:L$98,"<35")=0,"",COUNTIF(L$3:L$98,"<35")-SUM(Z3:Z4)-COUNTIF(L$3:L$98,"=0")) | AA5: =AVERAGE(Q5:Z5) -> #DIV/0! | AB5: =STDEV(Q5:Z5) -> #DIV/0!
A6: ='Gene Table'!D6 -> hsa-miR-26a-5p | B6: A04 | P6: Absent Calls | Q6: =IF(COUNTIF(C$3:C$98,"<40")=0,"",COUNTIF(C$3:C$98,"N/A")+COUNTBLANK(C$3:C$98)+COUNTIF(C$3:C$98,">=35")+COUNTIF(C$3:C$98,"=0")+COUNTIF(C$3:C$98,"Undetermined")) | R6: =IF(COUNTIF(D$3:D$98,"<40")=0,"",COUNTIF(D$3:D$98,"N/A")+COUNTBLANK(D$3:D$98)+COUNTIF(D$3:D$98,">=35")+COUNTIF(D$3:D$98,"=0")+COUNTIF(D$3:D$98,"Undetermined")) | S6: =IF(COUNTIF(E$3:E$98,"<40")=0,"",COUNTIF(E$3:E$98,"N/A")+COUNTBLANK(E$3:E$98)+COUNTIF(E$3:E$98,">=35")+COUNTIF(E$3:E$98,"=0")+COUNTIF(E$3:E$98,"Undetermined")) | T6: =IF(COUNTIF(F$3:F$98,"<40")=0,"",COUNTIF(F$3:F$98,"N/A")+COUNTBLANK(F$3:F$98)+COUNTIF(F$3:F$98,">=35")+COUNTIF(F$3:F$98,"=0")+COUNTIF(F$3:F$98,"Undetermined")) | U6: =IF(COUNTIF(G$3:G$98,"<40")=0,"",COUNTIF(G$3:G$98,"N/A")+COUNTBLANK(G$3:G$98)+COUNTIF(G$3:G$98,">=35")+COUNTIF(G$3:G$98,"=0")+COUNTIF(G$3:G$98,"Undetermined")) | V6: =IF(COUNTIF(H$3:H$98,"<40")=0,"",COUNTIF(H$3:H$98,"N/A")+COUNTBLANK(H$3:H$98)+COUNTIF(H$3:H$98,">=35")+COUNTIF(H$3:H$98,"=0")+COUNTIF(H$3:H$98,"Undetermined")) | W6: =IF(COUNTIF(I$3:I$98,"<40")=0,"",COUNTIF(I$3:I$98,"N/A")+COUNTBLANK(I$3:I$98)+COUNTIF(I$3:I$98,">=35")+COUNTIF(I$3:I$98,"=0")+COUNTIF(I$3:I$98,"Undetermined")) | X6: =IF(COUNTIF(J$3:J$98,"<40")=0,"",COUNTIF(J$3:J$98,"N/A")+COUNTBLANK(J$3:J$98)+COUNTIF(J$3:J$98,">=35")+COUNTIF(J$3:J$98,"=0")+COUNTIF(J$3:J$98,"Undetermined")) | ... Z6: =IF(COUNTIF(L$3:L$98,"<40")=0,"",COUNTIF(L$3:L$98,"N/A")+COUNTBLANK(L$3:L$98)+COUNTIF(L$3:L$98,">=35")+COUNTIF(L$3:L$98,"=0")+COUNTIF(L$3:L$98,"Undetermined")) | AA6: =AVERAGE(Q6:Z6) -> #DIV/0! | AB6: =STDEV(Q6:Z6) -> #DIV/0!
A7: ='Gene Table'!D7 -> hsa-miR-15b-5p | B7: A05 | P7: Percent Distribution of Ct Values
A8: ='Gene Table'!D8 -> hsa-miR-208a | B8: A06 | P8: <25 | Q8: =IF(Q3="","",Q3/SUM(Q$3:Q$6)) | R8: =IF(R3="","",R3/SUM(R$3:R$6)) | S8: =IF(S3="","",S3/SUM(S$3:S$6)) | T8: =IF(T3="","",T3/SUM(T$3:T$6)) | U8: =IF(U3="","",U3/SUM(U$3:U$6)) | V8: =IF(V3="","",V3/SUM(V$3:V$6)) | W8: =IF(W3="","",W3/SUM(W$3:W$6)) | X8: =IF(X3="","",X3/SUM(X$3:X$6)) | ... Z8: =IF(Z3="","",Z3/SUM(Z$3:Z$6)) | AA8: =AVERAGE(Q8:Z8) -> #DIV/0! | AB8: =STDEV(Q8:Z8) -> #DIV/0!
A9: ='Gene Table'!D9 -> hsa-miR-208b | B9: A07 | P9: 25-30 | Q9: =IF(Q4="","",Q4/SUM(Q$3:Q$6)) | R9: =IF(R4="","",R4/SUM(R$3:R$6)) | S9: =IF(S4="","",S4/SUM(S$3:S$6)) | T9: =IF(T4="","",T4/SUM(T$3:T$6)) | U9: =IF(U4="","",U4/SUM(U$3:U$6)) | V9: =IF(V4="","",V4/SUM(V$3:V$6)) | W9: =IF(W4="","",W4/SUM(W$3:W$6)) | X9: =IF(X4="","",X4/SUM(X$3:X$6)) | ... Z9: =IF(Z4="","",Z4/SUM(Z$3:Z$6)) | AA9: =AVERAGE(Q9:Z9) -> #DIV/0! | AB9: =STDEV(Q9:Z9) -> #DIV/0!
A10: ='Gene Table'!D10 -> hsa-miR-21-5p | B10: A08 | P10: 30-35 | Q10: =IF(Q5="","",Q5/SUM(Q$3:Q$6)) | R10: =IF(R5="","",R5/SUM(R$3:R$6)) | S10: =IF(S5="","",S5/SUM(S$3:S$6)) | T10: =IF(T5="","",T5/SUM(T$3:T$6)) | U10: =IF(U5="","",U5/SUM(U$3:U$6)) | V10: =IF(V5="","",V5/SUM(V$3:V$6)) | W10: =IF(W5="","",W5/SUM(W$3:W$6)) | X10: =IF(X5="","",X5/SUM(X$3:X$6)) | ... Z10: =IF(Z5="","",Z5/SUM(Z$3:Z$6)) | AA10: =AVERAGE(Q10:Z10) -> #DIV/0! | AB10: =STDEV(Q10:Z10) -> #DIV/0!
A11: ='Gene Table'!D11 -> hsa-miR-210 | B11: A09 | P11: Absent Calls | Q11: =IF(Q6="","",Q6/SUM(Q$3:Q$6)) | R11: =IF(R6="","",R6/SUM(R$3:R$6)) | S11: =IF(S6="","",S6/SUM(S$3:S$6)) | T11: =IF(T6="","",T6/SUM(T$3:T$6)) | U11: =IF(U6="","",U6/SUM(U$3:U$6)) | V11: =IF(V6="","",V6/SUM(V$3:V$6)) | W11: =IF(W6="","",W6/SUM(W$3:W$6)) | X11: =IF(X6="","",X6/SUM(X$3:X$6)) | ... Z11: =IF(Z6="","",Z6/SUM(Z$3:Z$6)) | AA11: =AVERAGE(Q11:Z11) -> #DIV/0! | AB11: =STDEV(Q11:Z11) -> #DIV/0!
A12: ='Gene Table'!D12 -> hsa-miR-24-3p | B12: A10
A13: ='Gene Table'!D13 -> hsa-miR-423-3p | B13: A11
A14: ='Gene Table'!D14 -> hsa-miR-126-3p | B14: A12
A15: ='Gene Table'!D15 -> hsa-miR-132-3p | B15: B01
A16: ='Gene Table'!D16 -> hsa-miR-134 | B16: B02
A17: ='Gene Table'!D17 -> hsa-miR-142-5p | B17: B03
A18: ='Gene Table'!D18 -> hsa-miR-185-5p | B18: B04
A19: ='Gene Table'!D19 -> hsa-miR-195-5p | B19: B05
A20: ='Gene Table'!D20 -> hsa-miR-221-3p | B20: B06
A21: ='Gene Table'!D21 -> hsa-miR-223-3p | B21: B07
A22: ='Gene Table'!D22 -> hsa-miR-296-5p | B22: B08
A23: ='Gene Table'!D23 -> hsa-miR-335-5p | B23: B09
... A98: ='Gene Table'!D98 -> PCR | B98: H12
A100: Note: If there are fewer than 3 data points, the standard deviation (SD) will appear as "N/A".

Sheet Control Sample Data
A1: Symbol | B1: Well | C1: =Results!D2 -> Control Sample | P1: Ct Range | Q1: Distribution of Ct Values | AA1: AVG | AB1: STD
C2: exp1 | D2: exp2 | E2: exp3 | F2: exp4 | G2: exp5 | H2: exp6 | I2: exp7 | J2: exp8 | K2: exp9 | L2: exp10 | M2: AVG | N2: SD | Q2: exp1 | R2: exp2 | S2: exp3 | T2: exp4 | U2: exp5 | V2: exp6 | W2: exp7 | X2: exp8 | Y2: exp9 | Z2: exp10
A3: ='Gene Table'!D3 -> hsa-miR-16-5p | B3: A01 | P3: <25 | Q3: =IF(COUNTIF(C$3:C$98,"<35")=0,"",COUNTIF(C$3:C$98,"<25")-COUNTIF(C$3:C$98,"=0")) | R3: =IF(COUNTIF(D$3:D$98,"<35")=0,"",COUNTIF(D$3:D$98,"<25")-COUNTIF(D$3:D$98,"=0")) | S3: =IF(COUNTIF(E$3:E$98,"<35")=0,"",COUNTIF(E$3:E$98,"<25")-COUNTIF(E$3:E$98,"=0")) | T3: =IF(COUNTIF(F$3:F$98,"<35")=0,"",COUNTIF(F$3:F$98,"<25")-COUNTIF(F$3:F$98,"=0")) | U3: =IF(COUNTIF(G$3:G$98,"<35")=0,"",COUNTIF(G$3:G$98,"<25")-COUNTIF(G$3:G$98,"=0")) | V3: =IF(COUNTIF(H$3:H$98,"<35")=0,"",COUNTIF(H$3:H$98,"<25")-COUNTIF(H$3:H$98,"=0")) | W3: =IF(COUNTIF(I$3:I$98,"<35")=0,"",COUNTIF(I$3:I$98,"<25")-COUNTIF(I$3:I$98,"=0")) | X3: =IF(COUNTIF(J$3:J$98,"<35")=0,"",COUNTIF(J$3:J$98,"<25")-COUNTIF(J$3:J$98,"=0")) | ... Z3: =IF(COUNTIF(L$3:L$98,"<35")=0,"",COUNTIF(L$3:L$98,"<25")-COUNTIF(L$3:L$98,"=0")) | AA3: =AVERAGE(Q3:Z3) -> #DIV/0! | AB3: =STDEV(Q3:Z3) -> #DIV/0!
A4: ='Gene Table'!D4 -> hsa-miR-124-3p | B4: A02 | P4: 25-30 | Q4: =IF(COUNTIF(C$3:C$98,"<35")=0,"",COUNTIF(C$3:C$98,"<30")-Q3-COUNTIF(C$3:C$98,"=0")) | R4: =IF(COUNTIF(D$3:D$98,"<35")=0,"",COUNTIF(D$3:D$98,"<30")-R3-COUNTIF(D$3:D$98,"=0")) | S4: =IF(COUNTIF(E$3:E$98,"<35")=0,"",COUNTIF(E$3:E$98,"<30")-S3-COUNTIF(E$3:E$98,"=0")) | T4: =IF(COUNTIF(F$3:F$98,"<35")=0,"",COUNTIF(F$3:F$98,"<30")-T3-COUNTIF(F$3:F$98,"=0")) | U4: =IF(COUNTIF(G$3:G$98,"<35")=0,"",COUNTIF(G$3:G$98,"<30")-U3-COUNTIF(G$3:G$98,"=0")) | V4: =IF(COUNTIF(H$3:H$98,"<35")=0,"",COUNTIF(H$3:H$98,"<30")-V3-COUNTIF(H$3:H$98,"=0")) | W4: =IF(COUNTIF(I$3:I$98,"<35")=0,"",COUNTIF(I$3:I$98,"<30")-W3-COUNTIF(I$3:I$98,"=0")) | X4: =IF(COUNTIF(J$3:J$98,"<35")=0,"",COUNTIF(J$3:J$98,"<30")-X3-COUNTIF(J$3:J$98,"=0")) | ... Z4: =IF(COUNTIF(L$3:L$98,"<35")=0,"",COUNTIF(L$3:L$98,"<30")-Z3-COUNTIF(L$3:L$98,"=0")) | AA4: =AVERAGE(Q4:Z4) -> #DIV/0! | AB4: =STDEV(Q4:Z4) -> #DIV/0!
A5: ='Gene Table'!D5 -> hsa-miR-154-5p | B5: A03 | P5: 30-35 | Q5: =IF(COUNTIF(C$3:C$98,"<35")=0,"",COUNTIF(C$3:C$98,"<35")-SUM(Q3:Q4)-COUNTIF(C$3:C$98,"=0")) | R5: =IF(COUNTIF(D$3:D$98,"<35")=0,"",COUNTIF(D$3:D$98,"<35")-SUM(R3:R4)-COUNTIF(D$3:D$98,"=0")) | S5: =IF(COUNTIF(E$3:E$98,"<35")=0,"",COUNTIF(E$3:E$98,"<35")-SUM(S3:S4)-COUNTIF(E$3:E$98,"=0")) | T5: =IF(COUNTIF(F$3:F$98,"<35")=0,"",COUNTIF(F$3:F$98,"<35")-SUM(T3:T4)-COUNTIF(F$3:F$98,"=0")) | U5: =IF(COUNTIF(G$3:G$98,"<35")=0,"",COUNTIF(G$3:G$98,"<35")-SUM(U3:U4)-COUNTIF(G$3:G$98,"=0")) | V5: =IF(COUNTIF(H$3:H$98,"<35")=0,"",COUNTIF(H$3:H$98,"<35")-SUM(V3:V4)-COUNTIF(H$3:H$98,"=0")) | W5: =IF(COUNTIF(I$3:I$98,"<35")=0,"",COUNTIF(I$3:I$98,"<35")-SUM(W3:W4)-COUNTIF(I$3:I$98,"=0")) | X5: =IF(COUNTIF(J$3:J$98,"<35")=0,"",COUNTIF(J$3:J$98,"<35")-SUM(X3:X4)-COUNTIF(J$3:J$98,"=0")) | ... Z5: =IF(COUNTIF(L$3:L$98,"<35")=0,"",COUNTIF(L$3:L$98,"<35")-SUM(Z3:Z4)-COUNTIF(L$3:L$98,"=0")) | AA5: =AVERAGE(Q5:Z5) -> #DIV/0! | AB5: =STDEV(Q5:Z5) -> #DIV/0!
A6: ='Gene Table'!D6 -> hsa-miR-26a-5p | B6: A04 | P6: Absent Calls | Q6: =IF(COUNTIF(C$3:C$98,"<40")=0,"",COUNTIF(C$3:C$98,"N/A")+COUNTBLANK(C$3:C$98)+COUNTIF(C$3:C$98,">=35")+COUNTIF(C$3:C$98,"=0")+COUNTIF(C$3:C$98,"Undetermined")) | R6: =IF(COUNTIF(D$3:D$98,"<40")=0,"",COUNTIF(D$3:D$98,"N/A")+COUNTBLANK(D$3:D$98)+COUNTIF(D$3:D$98,">=35")+COUNTIF(D$3:D$98,"=0")+COUNTIF(D$3:D$98,"Undetermined")) | S6: =IF(COUNTIF(E$3:E$98,"<40")=0,"",COUNTIF(E$3:E$98,"N/A")+COUNTBLANK(E$3:E$98)+COUNTIF(E$3:E$98,">=35")+COUNTIF(E$3:E$98,"=0")+COUNTIF(E$3:E$98,"Undetermined")) | T6: =IF(COUNTIF(F$3:F$98,"<40")=0,"",COUNTIF(F$3:F$98,"N/A")+COUNTBLANK(F$3:F$98)+COUNTIF(F$3:F$98,">=35")+COUNTIF(F$3:F$98,"=0")+COUNTIF(F$3:F$98,"Undetermined")) | U6: =IF(COUNTIF(G$3:G$98,"<40")=0,"",COUNTIF(G$3:G$98,"N/A")+COUNTBLANK(G$3:G$98)+COUNTIF(G$3:G$98,">=35")+COUNTIF(G$3:G$98,"=0")+COUNTIF(G$3:G$98,"Undetermined")) | V6: =IF(COUNTIF(H$3:H$98,"<40")=0,"",COUNTIF(H$3:H$98,"N/A")+COUNTBLANK(H$3:H$98)+COUNTIF(H$3:H$98,">=35")+COUNTIF(H$3:H$98,"=0")+COUNTIF(H$3:H$98,"Undetermined")) | W6: =IF(COUNTIF(I$3:I$98,"<40")=0,"",COUNTIF(I$3:I$98,"N/A")+COUNTBLANK(I$3:I$98)+COUNTIF(I$3:I$98,">=35")+COUNTIF(I$3:I$98,"=0")+COUNTIF(I$3:I$98,"Undetermined")) | X6: =IF(COUNTIF(J$3:J$98,"<40")=0,"",COUNTIF(J$3:J$98,"N/A")+COUNTBLANK(J$3:J$98)+COUNTIF(J$3:J$98,">=35")+COUNTIF(J$3:J$98,"=0")+COUNTIF(J$3:J$98,"Undetermined")) | ... Z6: =IF(COUNTIF(L$3:L$98,"<40")=0,"",COUNTIF(L$3:L$98,"N/A")+COUNTBLANK(L$3:L$98)+COUNTIF(L$3:L$98,">=35")+COUNTIF(L$3:L$98,"=0")+COUNTIF(L$3:L$98,"Undetermined")) | AA6: =AVERAGE(Q6:Z6) -> #DIV/0! | AB6: =STDEV(Q6:Z6) -> #DIV/0!
A7: ='Gene Table'!D7 -> hsa-miR-15b-5p | B7: A05 | P7: Percent Distribution of Ct Values
A8: ='Gene Table'!D8 -> hsa-miR-208a | B8: A06 | P8: <25 | Q8: =IF(Q3="","",Q3/SUM(Q$3:Q$6)) | R8: =IF(R3="","",R3/SUM(R$3:R$6)) | S8: =IF(S3="","",S3/SUM(S$3:S$6)) | T8: =IF(T3="","",T3/SUM(T$3:T$6)) | U8: =IF(U3="","",U3/SUM(U$3:U$6)) | V8: =IF(V3="","",V3/SUM(V$3:V$6)) | W8: =IF(W3="","",W3/SUM(W$3:W$6)) | X8: =IF(X3="","",X3/SUM(X$3:X$6)) | ... AA8: =IF(AA3="","",AA3/SUM(AA$3:AA$6)) -> #DIV/0! | AB8: =STDEV(Q8:Z8) -> #DIV/0!
A9: ='Gene Table'!D9 -> hsa-miR-208b | B9: A07 | P9: 25-30 | Q9: =IF(Q4="","",Q4/SUM(Q$3:Q$6)) | R9: =IF(R4="","",R4/SUM(R$3:R$6)) | S9: =IF(S4="","",S4/SUM(S$3:S$6)) | T9: =IF(T4="","",T4/SUM(T$3:T$6)) | U9: =IF(U4="","",U4/SUM(U$3:U$6)) | V9: =IF(V4="","",V4/SUM(V$3:V$6)) | W9: =IF(W4="","",W4/SUM(W$3:W$6)) | X9: =IF(X4="","",X4/SUM(X$3:X$6)) | ... AA9: =IF(AA4="","",AA4/SUM(AA$3:AA$6)) -> #DIV/0! | AB9: =STDEV(Q9:Z9) -> #DIV/0!
A10: ='Gene Table'!D10 -> hsa-miR-21-5p | B10: A08 | P10: 30-35 | Q10: =IF(Q5="","",Q5/SUM(Q$3:Q$6)) | R10: =IF(R5="","",R5/SUM(R$3:R$6)) | S10: =IF(S5="","",S5/SUM(S$3:S$6)) | T10: =IF(T5="","",T5/SUM(T$3:T$6)) | U10: =IF(U5="","",U5/SUM(U$3:U$6)) | V10: =IF(V5="","",V5/SUM(V$3:V$6)) | W10: =IF(W5="","",W5/SUM(W$3:W$6)) | X10: =IF(X5="","",X5/SUM(X$3:X$6)) | ... AA10: =IF(AA5="","",AA5/SUM(AA$3:AA$6)) -> #DIV/0! | AB10: =STDEV(Q10:Z10) -> #DIV/0!
A11: ='Gene Table'!D11 -> hsa-miR-210 | B11: A09 | P11: Absent Calls | Q11: =IF(Q6="","",Q6/SUM(Q$3:Q$6)) | R11: =IF(R6="","",R6/SUM(R$3:R$6)) | S11: =IF(S6="","",S6/SUM(S$3:S$6)) | T11: =IF(T6="","",T6/SUM(T$3:T$6)) | U11: =IF(U6="","",U6/SUM(U$3:U$6)) | V11: =IF(V6="","",V6/SUM(V$3:V$6)) | W11: =IF(W6="","",W6/SUM(W$3:W$6)) | X11: =IF(X6="","",X6/SUM(X$3:X$6)) | ... AA11: =IF(AA6="","",AA6/SUM(AA$3:AA$6)) -> #DIV/0! | AB11: =STDEV(Q11:Z11) -> #DIV/0!
A12: ='Gene Table'!D12 -> hsa-miR-24-3p | B12: A10
A13: ='Gene Table'!D13 -> hsa-miR-423-3p | B13: A11
A14: ='Gene Table'!D14 -> hsa-miR-126-3p | B14: A12
A15: ='Gene Table'!D15 -> hsa-miR-132-3p | B15: B01
A16: ='Gene Table'!D16 -> hsa-miR-134 | B16: B02
A17: ='Gene Table'!D17 -> hsa-miR-142-5p | B17: B03
A18: ='Gene Table'!D18 -> hsa-miR-185-5p | B18: B04
A19: ='Gene Table'!D19 -> hsa-miR-195-5p | B19: B05
A20: ='Gene Table'!D20 -> hsa-miR-221-3p | B20: B06
A21: ='Gene Table'!D21 -> hsa-miR-223-3p | B21: B07
A22: ='Gene Table'!D22 -> hsa-miR-296-5p | B22: B08
A23: ='Gene Table'!D23 -> hsa-miR-335-5p | B23: B09
... A98: ='Gene Table'!D98 -> PCR | B98: H12
A100: Note: If there are fewer than 3 data points, the standard deviation (SD) will appear as "N/A".

Sheet Choose Housekeeping Genes
A1: Housekeeping Gene Symbol | C1: Well | D1: =Results!C2 -> Test Sample | O1: Housekeeping Gene Symbol | Q1: Well | R1: =Results!D2 -> Control Sample
D2: exp1 | E2: exp2 | F2: exp3 | G2: exp4 | H2: exp5 | I2: exp6 | J2: exp7 | K2: exp8 | L2: exp9 | M2: exp10 | R2: exp1 | S2: exp2 | T2: exp3 | U2: exp4 | V2: exp5 | W2: exp6 | X2: exp7 | Y2: exp8 | Z2: exp9 | AA2: exp10
A3: ='Gene Table'!D89 -> HK1 | C3: =IF(A3="","",IF(VLOOKUP($A3,'Test Sample Data'!$A$3:$L$98,2,FALSE)=0,"",VLOOKUP($A3,'Test Sample Data'!$A$3:$L$98,2,FALSE))) -> H03 | D3: =IF(A3="","",IF(VLOOKUP($A3,'Test Sample Data'!$A$3:$L$98,3,FALSE)=0,"",VLOOKUP($A3,'Test Sample Data'!$A$3:$L$98,3,FALSE))) | E3: =IF(A3="","",IF(VLOOKUP($A3,'Test Sample Data'!$A$3:$L$98,4,FALSE)=0,"",VLOOKUP($A3,'Test Sample Data'!$A$3:$L$98,4,FALSE))) | F3: =IF(A3="","",IF(VLOOKUP($A3,'Test Sample Data'!$A$3:$L$98,5,FALSE)=0,"",VLOOKUP($A3,'Test Sample Data'!$A$3:$L$98,5,FALSE))) | G3: =IF(A3="","",IF(VLOOKUP($A3,'Test Sample Data'!$A$3:$L$98,6,FALSE)=0,"",VLOOKUP($A3,'Test Sample Data'!$A$3:$L$98,6,FALSE))) | H3: =IF(A3="","",IF(VLOOKUP($A3,'Test Sample Data'!$A$3:$L$98,7,FALSE)=0,"",VLOOKUP($A3,'Test Sample Data'!$A$3:$L$98,7,FALSE))) | I3: =IF(A3="","",IF(VLOOKUP($A3,'Test Sample Data'!$A$3:$L$98,8,FALSE)=0,"",VLOOKUP($A3,'Test Sample Data'!$A$3:$L$98,8,FALSE))) | J3: =IF(A3="","",IF(VLOOKUP($A3,'Test Sample Data'!$A$3:$L$98,9,FALSE)=0,"",VLOOKUP($A3,'Test Sample Data'!$A$3:$L$98,9,FALSE))) | K3: =IF(A3="","",IF(VLOOKUP($A3,'Test Sample Data'!$A$3:$L$98,10,FALSE)=0,"",VLOOKUP($A3,'Test Sample Data'!$A$3:$L$98,10,FALSE))) | L3: =IF(A3="","",IF(VLOOKUP($A3,'Test Sample Data'!$A$3:$L$98,11,FALSE)=0,"",VLOOKUP($A3,'Test Sample Data'!$A$3:$L$98,11,FALSE))) | M3: =IF(A3="","",IF(VLOOKUP($A3,'Test Sample Data'!$A$3:$L$98,12,FALSE)=0,"",VLOOKUP($A3,'Test Sample Data'!$A$3:$L$98,12,FALSE))) | O3: =IF(A3=0,"",A3) -> HK1 | Q3: =IF('Choose Housekeeping Genes'!C3=0,"",'Choose Housekeeping Genes'!C3) -> H03 | R3: =IF(A3="","",IF(VLOOKUP($A3,'Control Sample Data'!$A$3:$L$98,3,FALSE)=0,"",VLOOKUP($A3,'Control Sample Data'!$A$3:$L$98,3,FALSE))) | S3: =IF(A3="","",IF(VLOOKUP($A3,'Control Sample Data'!$A$3:$L$98,4,FALSE)=0,"",VLOOKUP($A3,'Control Sample Data'!$A$3:$L$98,4,FALSE))) | T3: =IF(A3="","",IF(VLOOKUP($A3,'Control Sample Data'!$A$3:$L$98,5,FALSE)=0,"",VLOOKUP($A3,'Control Sample Data'!$A$3:$L$98,5,FALSE))) | U3: =IF(A3="","",IF(VLOOKUP($A3,'Control Sample Data'!$A$3:$L$98,6,FALSE)=0,"",VLOOKUP($A3,'Control Sample Data'!$A$3:$L$98,6,FALSE))) | V3: =IF(A3="","",IF(VLOOKUP($A3,'Control Sample Data'!$A$3:$L$98,7,FALSE)=0,"",VLOOKUP($A3,'Control Sample Data'!$A$3:$L$98,7,FALSE))) | W3: =IF(A3="","",IF(VLOOKUP($A3,'Control Sample Data'!$A$3:$L$98,8,FALSE)=0,"",VLOOKUP($A3,'Control Sample Data'!$A$3:$L$98,8,FALSE))) | X3: =IF(A3="","",IF(VLOOKUP($A3,'Control Sample Data'!$A$3:$L$98,9,FALSE)=0,"",VLOOKUP($A3,'Control Sample Data'!$A$3:$L$98,9,FALSE))) | Y3: =IF($A3="","",IF(VLOOKUP($A3,'Control Sample Data'!$A$3:$L$98,10,FALSE)=0,"",VLOOKUP($A3,'Control Sample Data'!$A$3:$L$98,10,FALSE))) | Z3: =IF(A3="","",IF(VLOOKUP($A3,'Control Sample Data'!$A$3:$L$98,11,FALSE)=0,"",VLOOKUP($A3,'Control Sample Data'!$A$3:$L$98,11,FALSE))) | AA3: =IF(A3="","",IF(VLOOKUP($A3,'Control Sample Data'!$A$3:$L$98,12,FALSE)=0,"",VLOOKUP($A3,'Control Sample Data'!$A$3:$L$98,12,FALSE)))
A4: ='Gene Table'!D90 -> HK2 | C4: =IF(A4="","",IF(VLOOKUP($A4,'Test Sample Data'!$A$3:$L$98,2,FALSE)=0,"",VLOOKUP($A4,'Test Sample Data'!$A$3:$L$98,2,FALSE))) -> H04 | D4: =IF(A4="","",IF(VLOOKUP($A4,'Test Sample Data'!$A$3:$L$98,3,FALSE)=0,"",VLOOKUP($A4,'Test Sample Data'!$A$3:$L$98,3,FALSE))) | E4: =IF(A4="","",IF(VLOOKUP($A4,'Test Sample Data'!$A$3:$L$98,4,FALSE)=0,"",VLOOKUP($A4,'Test Sample Data'!$A$3:$L$98,4,FALSE))) | F4: =IF(A4="","",IF(VLOOKUP($A4,'Test Sample Data'!$A$3:$L$98,5,FALSE)=0,"",VLOOKUP($A4,'Test Sample Data'!$A$3:$L$98,5,FALSE))) | G4: =IF(A4="","",IF(VLOOKUP($A4,'Test Sample Data'!$A$3:$L$98,6,FALSE)=0,"",VLOOKUP($A4,'Test Sample Data'!$A$3:$L$98,6,FALSE))) | H4: =IF(A4="","",IF(VLOOKUP($A4,'Test Sample Data'!$A$3:$L$98,7,FALSE)=0,"",VLOOKUP($A4,'Test Sample Data'!$A$3:$L$98,7,FALSE))) | I4: =IF(A4="","",IF(VLOOKUP($A4,'Test Sample Data'!$A$3:$L$98,8,FALSE)=0,"",VLOOKUP($A4,'Test Sample Data'!$A$3:$L$98,8,FALSE))) | J4: =IF(A4="","",IF(VLOOKUP($A4,'Test Sample Data'!$A$3:$L$98,9,FALSE)=0,"",VLOOKUP($A4,'Test Sample Data'!$A$3:$L$98,9,FALSE))) | K4: =IF(A4="","",IF(VLOOKUP($A4,'Test Sample Data'!$A$3:$L$98,10,FALSE)=0,"",VLOOKUP($A4,'Test Sample Data'!$A$3:$L$98,10,FALSE))) | L4: =IF(A4="","",IF(VLOOKUP($A4,'Test Sample Data'!$A$3:$L$98,11,FALSE)=0,"",VLOOKUP($A4,'Test Sample Data'!$A$3:$L$98,11,FALSE))) | M4: =IF(A4="","",IF(VLOOKUP($A4,'Test Sample Data'!$A$3:$L$98,12,FALSE)=0,"",VLOOKUP($A4,'Test Sample Data'!$A$3:$L$98,12,FALSE))) | O4: =IF(A4=0,"",A4) -> HK2 | Q4: =IF('Choose Housekeeping Genes'!C4=0,"",'Choose Housekeeping Genes'!C4) -> H04 | R4: =IF(A4="","",IF(VLOOKUP($A4,'Control Sample Data'!$A$3:$L$98,3,FALSE)=0,"",VLOOKUP($A4,'Control Sample Data'!$A$3:$L$98,3,FALSE))) | S4: =IF(A4="","",IF(VLOOKUP($A4,'Control Sample Data'!$A$3:$L$98,4,FALSE)=0,"",VLOOKUP($A4,'Control Sample Data'!$A$3:$L$98,4,FALSE))) | T4: =IF(A4="","",IF(VLOOKUP($A4,'Control Sample Data'!$A$3:$L$98,5,FALSE)=0,"",VLOOKUP($A4,'Control Sample Data'!$A$3:$L$98,5,FALSE))) | U4: =IF(A4="","",IF(VLOOKUP($A4,'Control Sample Data'!$A$3:$L$98,6,FALSE)=0,"",VLOOKUP($A4,'Control Sample Data'!$A$3:$L$98,6,FALSE))) | V4: =IF(A4="","",IF(VLOOKUP($A4,'Control Sample Data'!$A$3:$L$98,7,FALSE)=0,"",VLOOKUP($A4,'Control Sample Data'!$A$3:$L$98,7,FALSE))) | W4: =IF(A4="","",IF(VLOOKUP($A4,'Control Sample Data'!$A$3:$L$98,8,FALSE)=0,"",VLOOKUP($A4,'Control Sample Data'!$A$3:$L$98,8,FALSE))) | X4: =IF(A4="","",IF(VLOOKUP($A4,'Control Sample Data'!$A$3:$L$98,9,FALSE)=0,"",VLOOKUP($A4,'Control Sample Data'!$A$3:$L$98,9,FALSE))) | Y4: =IF($A4="","",IF(VLOOKUP($A4,'Control Sample Data'!$A$3:$L$98,10,FALSE)=0,"",VLOOKUP($A4,'Control Sample Data'!$A$3:$L$98,10,FALSE))) | Z4: =IF(A4="","",IF(VLOOKUP($A4,'Control Sample Data'!$A$3:$L$98,11,FALSE)=0,"",VLOOKUP($A4,'Control Sample Data'!$A$3:$L$98,11,FALSE))) | AA4: =IF(A4="","",IF(VLOOKUP($A4,'Control Sample Data'!$A$3:$L$98,12,FALSE)=0,"",VLOOKUP($A4,'Control Sample Data'!$A$3:$L$98,12,FALSE)))
A5: ='Gene Table'!D91 -> HK3 | C5: =IF(A5="","",IF(VLOOKUP($A5,'Test Sample Data'!$A$3:$L$98,2,FALSE)=0,"",VLOOKUP($A5,'Test Sample Data'!$A$3:$L$98,2,FALSE))) -> H05 | D5: =IF(A5="","",IF(VLOOKUP($A5,'Test Sample Data'!$A$3:$L$98,3,FALSE)=0,"",VLOOKUP($A5,'Test Sample Data'!$A$3:$L$98,3,FALSE))) | E5: =IF(A5="","",IF(VLOOKUP($A5,'Test Sample Data'!$A$3:$L$98,4,FALSE)=0,"",VLOOKUP($A5,'Test Sample Data'!$A$3:$L$98,4,FALSE))) | F5: =IF(A5="","",IF(VLOOKUP($A5,'Test Sample Data'!$A$3:$L$98,5,FALSE)=0,"",VLOOKUP($A5,'Test Sample Data'!$A$3:$L$98,5,FALSE))) | G5: =IF(A5="","",IF(VLOOKUP($A5,'Test Sample Data'!$A$3:$L$98,6,FALSE)=0,"",VLOOKUP($A5,'Test Sample Data'!$A$3:$L$98,6,FALSE))) | H5: =IF(A5="","",IF(VLOOKUP($A5,'Test Sample Data'!$A$3:$L$98,7,FALSE)=0,"",VLOOKUP($A5,'Test Sample Data'!$A$3:$L$98,7,FALSE))) | I5: =IF(A5="","",IF(VLOOKUP($A5,'Test Sample Data'!$A$3:$L$98,8,FALSE)=0,"",VLOOKUP($A5,'Test Sample Data'!$A$3:$L$98,8,FALSE))) | J5: =IF(A5="","",IF(VLOOKUP($A5,'Test Sample Data'!$A$3:$L$98,9,FALSE)=0,"",VLOOKUP($A5,'Test Sample Data'!$A$3:$L$98,9,FALSE))) | K5: =IF(A5="","",IF(VLOOKUP($A5,'Test Sample Data'!$A$3:$L$98,10,FALSE)=0,"",VLOOKUP($A5,'Test Sample Data'!$A$3:$L$98,10,FALSE))) | L5: =IF(A5="","",IF(VLOOKUP($A5,'Test Sample Data'!$A$3:$L$98,11,FALSE)=0,"",VLOOKUP($A5,'Test Sample Data'!$A$3:$L$98,11,FALSE))) | M5: =IF(A5="","",IF(VLOOKUP($A5,'Test Sample Data'!$A$3:$L$98,12,FALSE)=0,"",VLOOKUP($A5,'Test Sample Data'!$A$3:$L$98,12,FALSE))) | O5: =IF(A5=0,"",A5) -> HK3 | Q5: =IF('Choose Housekeeping Genes'!C5=0,"",'Choose Housekeeping Genes'!C5) -> H05 | R5: =IF(A5="","",IF(VLOOKUP($A5,'Control Sample Data'!$A$3:$L$98,3,FALSE)=0,"",VLOOKUP($A5,'Control Sample Data'!$A$3:$L$98,3,FALSE))) | S5: =IF(A5="","",IF(VLOOKUP($A5,'Control Sample Data'!$A$3:$L$98,4,FALSE)=0,"",VLOOKUP($A5,'Control Sample Data'!$A$3:$L$98,4,FALSE))) | T5: =IF(A5="","",IF(VLOOKUP($A5,'Control Sample Data'!$A$3:$L$98,5,FALSE)=0,"",VLOOKUP($A5,'Control Sample Data'!$A$3:$L$98,5,FALSE))) | U5: =IF(A5="","",IF(VLOOKUP($A5,'Control Sample Data'!$A$3:$L$98,6,FALSE)=0,"",VLOOKUP($A5,'Control Sample Data'!$A$3:$L$98,6,FALSE))) | V5: =IF(A5="","",IF(VLOOKUP($A5,'Control Sample Data'!$A$3:$L$98,7,FALSE)=0,"",VLOOKUP($A5,'Control Sample Data'!$A$3:$L$98,7,FALSE))) | W5: =IF(A5="","",IF(VLOOKUP($A5,'Control Sample Data'!$A$3:$L$98,8,FALSE)=0,"",VLOOKUP($A5,'Control Sample Data'!$A$3:$L$98,8,FALSE))) | X5: =IF(A5="","",IF(VLOOKUP($A5,'Control Sample Data'!$A$3:$L$98,9,FALSE)=0,"",VLOOKUP($A5,'Control Sample Data'!$A$3:$L$98,9,FALSE))) | Y5: =IF($A5="","",IF(VLOOKUP($A5,'Control Sample Data'!$A$3:$L$98,10,FALSE)=0,"",VLOOKUP($A5,'Control Sample Data'!$A$3:$L$98,10,FALSE))) | Z5: =IF(A5="","",IF(VLOOKUP($A5,'Control Sample Data'!$A$3:$L$98,11,FALSE)=0,"",VLOOKUP($A5,'Control Sample Data'!$A$3:$L$98,11,FALSE))) | AA5: =IF(A5="","",IF(VLOOKUP($A5,'Control Sample Data'!$A$3:$L$98,12,FALSE)=0,"",VLOOKUP($A5,'Control Sample Data'!$A$3:$L$98,12,FALSE)))
A6: ='Gene Table'!D92 -> HK4 | C6: =IF(A6="","",IF(VLOOKUP($A6,'Test Sample Data'!$A$3:$L$98,2,FALSE)=0,"",VLOOKUP($A6,'Test Sample Data'!$A$3:$L$98,2,FALSE))) -> H06 | D6: =IF(A6="","",IF(VLOOKUP($A6,'Test Sample Data'!$A$3:$L$98,3,FALSE)=0,"",VLOOKUP($A6,'Test Sample Data'!$A$3:$L$98,3,FALSE))) | E6: =IF(A6="","",IF(VLOOKUP($A6,'Test Sample Data'!$A$3:$L$98,4,FALSE)=0,"",VLOOKUP($A6,'Test Sample Data'!$A$3:$L$98,4,FALSE))) | F6: =IF(A6="","",IF(VLOOKUP($A6,'Test Sample Data'!$A$3:$L$98,5,FALSE)=0,"",VLOOKUP($A6,'Test Sample Data'!$A$3:$L$98,5,FALSE))) | G6: =IF(A6="","",IF(VLOOKUP($A6,'Test Sample Data'!$A$3:$L$98,6,FALSE)=0,"",VLOOKUP($A6,'Test Sample Data'!$A$3:$L$98,6,FALSE))) | H6: =IF(A6="","",IF(VLOOKUP($A6,'Test Sample Data'!$A$3:$L$98,7,FALSE)=0,"",VLOOKUP($A6,'Test Sample Data'!$A$3:$L$98,7,FALSE))) | I6: =IF(A6="","",IF(VLOOKUP($A6,'Test Sample Data'!$A$3:$L$98,8,FALSE)=0,"",VLOOKUP($A6,'Test Sample Data'!$A$3:$L$98,8,FALSE))) | J6: =IF(A6="","",IF(VLOOKUP($A6,'Test Sample Data'!$A$3:$L$98,9,FALSE)=0,"",VLOOKUP($A6,'Test Sample Data'!$A$3:$L$98,9,FALSE))) | K6: =IF(A6="","",IF(VLOOKUP($A6,'Test Sample Data'!$A$3:$L$98,10,FALSE)=0,"",VLOOKUP($A6,'Test Sample Data'!$A$3:$L$98,10,FALSE))) | L6: =IF(A6="","",IF(VLOOKUP($A6,'Test Sample Data'!$A$3:$L$98,11,FALSE)=0,"",VLOOKUP($A6,'Test Sample Data'!$A$3:$L$98,11,FALSE))) | M6: =IF(A6="","",IF(VLOOKUP($A6,'Test Sample Data'!$A$3:$L$98,12,FALSE)=0,"",VLOOKUP($A6,'Test Sample Data'!$A$3:$L$98,12,FALSE))) | O6: =IF(A6=0,"",A6) -> HK4 | Q6: =IF('Choose Housekeeping Genes'!C6=0,"",'Choose Housekeeping Genes'!C6) -> H06 | R6: =IF(A6="","",IF(VLOOKUP($A6,'Control Sample Data'!$A$3:$L$98,3,FALSE)=0,"",VLOOKUP($A6,'Control Sample Data'!$A$3:$L$98,3,FALSE))) | S6: =IF(A6="","",IF(VLOOKUP($A6,'Control Sample Data'!$A$3:$L$98,4,FALSE)=0,"",VLOOKUP($A6,'Control Sample Data'!$A$3:$L$98,4,FALSE))) | T6: =IF(A6="","",IF(VLOOKUP($A6,'Control Sample Data'!$A$3:$L$98,5,FALSE)=0,"",VLOOKUP($A6,'Control Sample Data'!$A$3:$L$98,5,FALSE))) | U6: =IF(A6="","",IF(VLOOKUP($A6,'Control Sample Data'!$A$3:$L$98,6,FALSE)=0,"",VLOOKUP($A6,'Control Sample Data'!$A$3:$L$98,6,FALSE))) | V6: =IF(A6="","",IF(VLOOKUP($A6,'Control Sample Data'!$A$3:$L$98,7,FALSE)=0,"",VLOOKUP($A6,'Control Sample Data'!$A$3:$L$98,7,FALSE))) | W6: =IF(A6="","",IF(VLOOKUP($A6,'Control Sample Data'!$A$3:$L$98,8,FALSE)=0,"",VLOOKUP($A6,'Control Sample Data'!$A$3:$L$98,8,FALSE))) | X6: =IF(A6="","",IF(VLOOKUP($A6,'Control Sample Data'!$A$3:$L$98,9,FALSE)=0,"",VLOOKUP($A6,'Control Sample Data'!$A$3:$L$98,9,FALSE))) | Y6: =IF($A6="","",IF(VLOOKUP($A6,'Control Sample Data'!$A$3:$L$98,10,FALSE)=0,"",VLOOKUP($A6,'Control Sample Data'!$A$3:$L$98,10,FALSE))) | Z6: =IF(A6="","",IF(VLOOKUP($A6,'Control Sample Data'!$A$3:$L$98,11,FALSE)=0,"",VLOOKUP($A6,'Control Sample Data'!$A$3:$L$98,11,FALSE))) | AA6: =IF(A6="","",IF(VLOOKUP($A6,'Control Sample Data'!$A$3:$L$98,12,FALSE)=0,"",VLOOKUP($A6,'Control Sample Data'!$A$3:$L$98,12,FALSE)))
A7: ='Gene Table'!D93 -> HK5 | C7: =IF(A7="","",IF(VLOOKUP($A7,'Test Sample Data'!$A$3:$L$98,2,FALSE)=0,"",VLOOKUP($A7,'Test Sample Data'!$A$3:$L$98,2,FALSE))) -> H07 | D7: =IF(A7="","",IF(VLOOKUP($A7,'Test Sample Data'!$A$3:$L$98,3,FALSE)=0,"",VLOOKUP($A7,'Test Sample Data'!$A$3:$L$98,3,FALSE))) | E7: =IF(A7="","",IF(VLOOKUP($A7,'Test Sample Data'!$A$3:$L$98,4,FALSE)=0,"",VLOOKUP($A7,'Test Sample Data'!$A$3:$L$98,4,FALSE))) | F7: =IF(A7="","",IF(VLOOKUP($A7,'Test Sample Data'!$A$3:$L$98,5,FALSE)=0,"",VLOOKUP($A7,'Test Sample Data'!$A$3:$L$98,5,FALSE))) | G7: =IF(A7="","",IF(VLOOKUP($A7,'Test Sample Data'!$A$3:$L$98,6,FALSE)=0,"",VLOOKUP($A7,'Test Sample Data'!$A$3:$L$98,6,FALSE))) | H7: =IF(A7="","",IF(VLOOKUP($A7,'Test Sample Data'!$A$3:$L$98,7,FALSE)=0,"",VLOOKUP($A7,'Test Sample Data'!$A$3:$L$98,7,FALSE))) | I7: =IF(A7="","",IF(VLOOKUP($A7,'Test Sample Data'!$A$3:$L$98,8,FALSE)=0,"",VLOOKUP($A7,'Test Sample Data'!$A$3:$L$98,8,FALSE))) | J7: =IF(A7="","",IF(VLOOKUP($A7,'Test Sample Data'!$A$3:$L$98,9,FALSE)=0,"",VLOOKUP($A7,'Test Sample Data'!$A$3:$L$98,9,FALSE))) | K7: =IF(A7="","",IF(VLOOKUP($A7,'Test Sample Data'!$A$3:$L$98,10,FALSE)=0,"",VLOOKUP($A7,'Test Sample Data'!$A$3:$L$98,10,FALSE))) | L7: =IF(A7="","",IF(VLOOKUP($A7,'Test Sample Data'!$A$3:$L$98,11,FALSE)=0,"",VLOOKUP($A7,'Test Sample Data'!$A$3:$L$98,11,FALSE))) | M7: =IF(A7="","",IF(VLOOKUP($A7,'Test Sample Data'!$A$3:$L$98,12,FALSE)=0,"",VLOOKUP($A7,'Test Sample Data'!$A$3:$L$98,12,FALSE))) | O7: =IF(A7=0,"",A7) -> HK5 | Q7: =IF('Choose Housekeeping Genes'!C7=0,"",'Choose Housekeeping Genes'!C7) -> H07 | R7: =IF(A7="","",IF(VLOOKUP($A7,'Control Sample Data'!$A$3:$L$98,3,FALSE)=0,"",VLOOKUP($A7,'Control Sample Data'!$A$3:$L$98,3,FALSE))) | S7: =IF(A7="","",IF(VLOOKUP($A7,'Control Sample Data'!$A$3:$L$98,4,FALSE)=0,"",VLOOKUP($A7,'Control Sample Data'!$A$3:$L$98,4,FALSE))) | T7: =IF(A7="","",IF(VLOOKUP($A7,'Control Sample Data'!$A$3:$L$98,5,FALSE)=0,"",VLOOKUP($A7,'Control Sample Data'!$A$3:$L$98,5,FALSE))) | U7: =IF(A7="","",IF(VLOOKUP($A7,'Control Sample Data'!$A$3:$L$98,6,FALSE)=0,"",VLOOKUP($A7,'Control Sample Data'!$A$3:$L$98,6,FALSE))) | V7: =IF(A7="","",IF(VLOOKUP($A7,'Control Sample Data'!$A$3:$L$98,7,FALSE)=0,"",VLOOKUP($A7,'Control Sample Data'!$A$3:$L$98,7,FALSE))) | W7: =IF(A7="","",IF(VLOOKUP($A7,'Control Sample Data'!$A$3:$L$98,8,FALSE)=0,"",VLOOKUP($A7,'Control Sample Data'!$A$3:$L$98,8,FALSE))) | X7: =IF(A7="","",IF(VLOOKUP($A7,'Control Sample Data'!$A$3:$L$98,9,FALSE)=0,"",VLOOKUP($A7,'Control Sample Data'!$A$3:$L$98,9,FALSE))) | Y7: =IF($A7="","",IF(VLOOKUP($A7,'Control Sample Data'!$A$3:$L$98,10,FALSE)=0,"",VLOOKUP($A7,'Control Sample Data'!$A$3:$L$98,10,FALSE))) | Z7: =IF(A7="","",IF(VLOOKUP($A7,'Control Sample Data'!$A$3:$L$98,11,FALSE)=0,"",VLOOKUP($A7,'Control Sample Data'!$A$3:$L$98,11,FALSE))) | AA7: =IF(A7="","",IF(VLOOKUP($A7,'Control Sample Data'!$A$3:$L$98,12,FALSE)=0,"",VLOOKUP($A7,'Control Sample Data'!$A$3:$L$98,12,FALSE)))
C8: =IF(A8="","",IF(VLOOKUP($A8,'Test Sample Data'!$A$3:$L$98,2,FALSE)=0,"",VLOOKUP($A8,'Test Sample Data'!$A$3:$L$98,2,FALSE))) | D8: =IF(A8="","",IF(VLOOKUP($A8,'Test Sample Data'!$A$3:$L$98,3,FALSE)=0,"",VLOOKUP($A8,'Test Sample Data'!$A$3:$L$98,3,FALSE))) | E8: =IF(A8="","",IF(VLOOKUP($A8,'Test Sample Data'!$A$3:$L$98,4,FALSE)=0,"",VLOOKUP($A8,'Test Sample Data'!$A$3:$L$98,4,FALSE))) | F8: =IF(A8="","",IF(VLOOKUP($A8,'Test Sample Data'!$A$3:$L$98,5,FALSE)=0,"",VLOOKUP($A8,'Test Sample Data'!$A$3:$L$98,5,FALSE))) | G8: =IF(A8="","",IF(VLOOKUP($A8,'Test Sample Data'!$A$3:$L$98,6,FALSE)=0,"",VLOOKUP($A8,'Test Sample Data'!$A$3:$L$98,6,FALSE))) | H8: =IF(A8="","",IF(VLOOKUP($A8,'Test Sample Data'!$A$3:$L$98,7,FALSE)=0,"",VLOOKUP($A8,'Test Sample Data'!$A$3:$L$98,7,FALSE))) | I8: =IF(A8="","",IF(VLOOKUP($A8,'Test Sample Data'!$A$3:$L$98,8,FALSE)=0,"",VLOOKUP($A8,'Test Sample Data'!$A$3:$L$98,8,FALSE))) | J8: =IF(A8="","",IF(VLOOKUP($A8,'Test Sample Data'!$A$3:$L$98,9,FALSE)=0,"",VLOOKUP($A8,'Test Sample Data'!$A$3:$L$98,9,FALSE))) | K8: =IF(A8="","",IF(VLOOKUP($A8,'Test Sample Data'!$A$3:$L$98,10,FALSE)=0,"",VLOOKUP($A8,'Test Sample Data'!$A$3:$L$98,10,FALSE))) | L8: =IF(A8="","",IF(VLOOKUP($A8,'Test Sample Data'!$A$3:$L$98,11,FALSE)=0,"",VLOOKUP($A8,'Test Sample Data'!$A$3:$L$98,11,FALSE))) | M8: =IF(A8="","",IF(VLOOKUP($A8,'Test Sample Data'!$A$3:$L$98,12,FALSE)=0,"",VLOOKUP($A8,'Test Sample Data'!$A$3:$L$98,12,FALSE))) | O8: =IF(A8=0,"",A8) | Q8: =IF('Choose Housekeeping Genes'!C8=0,"",'Choose Housekeeping Genes'!C8) | R8: =IF(A8="","",IF(VLOOKUP($A8,'Control Sample Data'!$A$3:$L$98,3,FALSE)=0,"",VLOOKUP($A8,'Control Sample Data'!$A$3:$L$98,3,FALSE))) | S8: =IF(A8="","",IF(VLOOKUP($A8,'Control Sample Data'!$A$3:$L$98,4,FALSE)=0,"",VLOOKUP($A8,'Control Sample Data'!$A$3:$L$98,4,FALSE))) | T8: =IF(A8="","",IF(VLOOKUP($A8,'Control Sample Data'!$A$3:$L$98,5,FALSE)=0,"",VLOOKUP($A8,'Control Sample Data'!$A$3:$L$98,5,FALSE))) | U8: =IF(A8="","",IF(VLOOKUP($A8,'Control Sample Data'!$A$3:$L$98,6,FALSE)=0,"",VLOOKUP($A8,'Control Sample Data'!$A$3:$L$98,6,FALSE))) | V8: =IF(A8="","",IF(VLOOKUP($A8,'Control Sample Data'!$A$3:$L$98,7,FALSE)=0,"",VLOOKUP($A8,'Control Sample Data'!$A$3:$L$98,7,FALSE))) | W8: =IF(A8="","",IF(VLOOKUP($A8,'Control Sample Data'!$A$3:$L$98,8,FALSE)=0,"",VLOOKUP($A8,'Control Sample Data'!$A$3:$L$98,8,FALSE))) | X8: =IF(A8="","",IF(VLOOKUP($A8,'Control Sample Data'!$A$3:$L$98,9,FALSE)=0,"",VLOOKUP($A8,'Control Sample Data'!$A$3:$L$98,9,FALSE))) | Y8: =IF($A8="","",IF(VLOOKUP($A8,'Control Sample Data'!$A$3:$L$98,10,FALSE)=0,"",VLOOKUP($A8,'Control Sample Data'!$A$3:$L$98,10,FALSE))) | Z8: =IF(A8="","",IF(VLOOKUP($A8,'Control Sample Data'!$A$3:$L$98,11,FALSE)=0,"",VLOOKUP($A8,'Control Sample Data'!$A$3:$L$98,11,FALSE))) | AA8: =IF(A8="","",IF(VLOOKUP($A8,'Control Sample Data'!$A$3:$L$98,12,FALSE)=0,"",VLOOKUP($A8,'Control Sample Data'!$A$3:$L$98,12,FALSE)))
C9: =IF(A9="","",IF(VLOOKUP($A9,'Test Sample Data'!$A$3:$L$98,2,FALSE)=0,"",VLOOKUP($A9,'Test Sample Data'!$A$3:$L$98,2,FALSE))) | D9: =IF(A9="","",IF(VLOOKUP($A9,'Test Sample Data'!$A$3:$L$98,3,FALSE)=0,"",VLOOKUP($A9,'Test Sample Data'!$A$3:$L$98,3,FALSE))) | E9: =IF(A9="","",IF(VLOOKUP($A9,'Test Sample Data'!$A$3:$L$98,4,FALSE)=0,"",VLOOKUP($A9,'Test Sample Data'!$A$3:$L$98,4,FALSE))) | F9: =IF(A9="","",IF(VLOOKUP($A9,'Test Sample Data'!$A$3:$L$98,5,FALSE)=0,"",VLOOKUP($A9,'Test Sample Data'!$A$3:$L$98,5,FALSE))) | G9: =IF(A9="","",IF(VLOOKUP($A9,'Test Sample Data'!$A$3:$L$98,6,FALSE)=0,"",VLOOKUP($A9,'Test Sample Data'!$A$3:$L$98,6,FALSE))) | H9: =IF(A9="","",IF(VLOOKUP($A9,'Test Sample Data'!$A$3:$L$98,7,FALSE)=0,"",VLOOKUP($A9,'Test Sample Data'!$A$3:$L$98,7,FALSE))) | I9: =IF(A9="","",IF(VLOOKUP($A9,'Test Sample Data'!$A$3:$L$98,8,FALSE)=0,"",VLOOKUP($A9,'Test Sample Data'!$A$3:$L$98,8,FALSE))) | J9: =IF(A9="","",IF(VLOOKUP($A9,'Test Sample Data'!$A$3:$L$98,9,FALSE)=0,"",VLOOKUP($A9,'Test Sample Data'!$A$3:$L$98,9,FALSE))) | K9: =IF(A9="","",IF(VLOOKUP($A9,'Test Sample Data'!$A$3:$L$98,10,FALSE)=0,"",VLOOKUP($A9,'Test Sample Data'!$A$3:$L$98,10,FALSE))) | L9: =IF(A9="","",IF(VLOOKUP($A9,'Test Sample Data'!$A$3:$L$98,11,FALSE)=0,"",VLOOKUP($A9,'Test Sample Data'!$A$3:$L$98,11,FALSE))) | M9: =IF(A9="","",IF(VLOOKUP($A9,'Test Sample Data'!$A$3:$L$98,12,FALSE)=0,"",VLOOKUP($A9,'Test Sample Data'!$A$3:$L$98,12,FALSE))) | O9: =IF(A9=0,"",A9) | Q9: =IF('Choose Housekeeping Genes'!C9=0,"",'Choose Housekeeping Genes'!C9) | R9: =IF(A9="","",IF(VLOOKUP($A9,'Control Sample Data'!$A$3:$L$98,3,FALSE)=0,"",VLOOKUP($A9,'Control Sample Data'!$A$3:$L$98,3,FALSE))) | S9: =IF(A9="","",IF(VLOOKUP($A9,'Control Sample Data'!$A$3:$L$98,4,FALSE)=0,"",VLOOKUP($A9,'Control Sample Data'!$A$3:$L$98,4,FALSE))) | T9: =IF(A9="","",IF(VLOOKUP($A9,'Control Sample Data'!$A$3:$L$98,5,FALSE)=0,"",VLOOKUP($A9,'Control Sample Data'!$A$3:$L$98,5,FALSE))) | U9: =IF(A9="","",IF(VLOOKUP($A9,'Control Sample Data'!$A$3:$L$98,6,FALSE)=0,"",VLOOKUP($A9,'Control Sample Data'!$A$3:$L$98,6,FALSE))) | V9: =IF(A9="","",IF(VLOOKUP($A9,'Control Sample Data'!$A$3:$L$98,7,FALSE)=0,"",VLOOKUP($A9,'Control Sample Data'!$A$3:$L$98,7,FALSE))) | W9: =IF(A9="","",IF(VLOOKUP($A9,'Control Sample Data'!$A$3:$L$98,8,FALSE)=0,"",VLOOKUP($A9,'Control Sample Data'!$A$3:$L$98,8,FALSE))) | X9: =IF(A9="","",IF(VLOOKUP($A9,'Control Sample Data'!$A$3:$L$98,9,FALSE)=0,"",VLOOKUP($A9,'Control Sample Data'!$A$3:$L$98,9,FALSE))) | Y9: =IF($A9="","",IF(VLOOKUP($A9,'Control Sample Data'!$A$3:$L$98,10,FALSE)=0,"",VLOOKUP($A9,'Control Sample Data'!$A$3:$L$98,10,FALSE))) | Z9: =IF(A9="","",IF(VLOOKUP($A9,'Control Sample Data'!$A$3:$L$98,11,FALSE)=0,"",VLOOKUP($A9,'Control Sample Data'!$A$3:$L$98,11,FALSE))) | AA9: =IF(A9="","",IF(VLOOKUP($A9,'Control Sample Data'!$A$3:$L$98,12,FALSE)=0,"",VLOOKUP($A9,'Control Sample Data'!$A$3:$L$98,12,FALSE)))
C10: =IF(A10="","",IF(VLOOKUP($A10,'Test Sample Data'!$A$3:$L$98,2,FALSE)=0,"",VLOOKUP($A10,'Test Sample Data'!$A$3:$L$98,2,FALSE))) | D10: =IF(A10="","",IF(VLOOKUP($A10,'Test Sample Data'!$A$3:$L$98,3,FALSE)=0,"",VLOOKUP($A10,'Test Sample Data'!$A$3:$L$98,3,FALSE))) | E10: =IF(A10="","",IF(VLOOKUP($A10,'Test Sample Data'!$A$3:$L$98,4,FALSE)=0,"",VLOOKUP($A10,'Test Sample Data'!$A$3:$L$98,4,FALSE))) | F10: =IF(A10="","",IF(VLOOKUP($A10,'Test Sample Data'!$A$3:$L$98,5,FALSE)=0,"",VLOOKUP($A10,'Test Sample Data'!$A$3:$L$98,5,FALSE))) | G10: =IF(A10="","",IF(VLOOKUP($A10,'Test Sample Data'!$A$3:$L$98,6,FALSE)=0,"",VLOOKUP($A10,'Test Sample Data'!$A$3:$L$98,6,FALSE))) | H10: =IF(A10="","",IF(VLOOKUP($A10,'Test Sample Data'!$A$3:$L$98,7,FALSE)=0,"",VLOOKUP($A10,'Test Sample Data'!$A$3:$L$98,7,FALSE))) | I10: =IF(A10="","",IF(VLOOKUP($A10,'Test Sample Data'!$A$3:$L$98,8,FALSE)=0,"",VLOOKUP($A10,'Test Sample Data'!$A$3:$L$98,8,FALSE))) | J10: =IF(A10="","",IF(VLOOKUP($A10,'Test Sample Data'!$A$3:$L$98,9,FALSE)=0,"",VLOOKUP($A10,'Test Sample Data'!$A$3:$L$98,9,FALSE))) | K10: =IF(A10="","",IF(VLOOKUP($A10,'Test Sample Data'!$A$3:$L$98,10,FALSE)=0,"",VLOOKUP($A10,'Test Sample Data'!$A$3:$L$98,10,FALSE))) | L10: =IF(A10="","",IF(VLOOKUP($A10,'Test Sample Data'!$A$3:$L$98,11,FALSE)=0,"",VLOOKUP($A10,'Test Sample Data'!$A$3:$L$98,11,FALSE))) | M10: =IF(A10="","",IF(VLOOKUP($A10,'Test Sample Data'!$A$3:$L$98,12,FALSE)=0,"",VLOOKUP($A10,'Test Sample Data'!$A$3:$L$98,12,FALSE))) | O10: =IF(A10=0,"",A10) | Q10: =IF('Choose Housekeeping Genes'!C10=0,"",'Choose Housekeeping Genes'!C10) | R10: =IF(A10="","",IF(VLOOKUP($A10,'Control Sample Data'!$A$3:$L$98,3,FALSE)=0,"",VLOOKUP($A10,'Control Sample Data'!$A$3:$L$98,3,FALSE))) | S10: =IF(A10="","",IF(VLOOKUP($A10,'Control Sample Data'!$A$3:$L$98,4,FALSE)=0,"",VLOOKUP($A10,'Control Sample Data'!$A$3:$L$98,4,FALSE))) | T10: =IF(A10="","",IF(VLOOKUP($A10,'Control Sample Data'!$A$3:$L$98,5,FALSE)=0,"",VLOOKUP($A10,'Control Sample Data'!$A$3:$L$98,5,FALSE))) | U10: =IF(A10="","",IF(VLOOKUP($A10,'Control Sample Data'!$A$3:$L$98,6,FALSE)=0,"",VLOOKUP($A10,'Control Sample Data'!$A$3:$L$98,6,FALSE))) | V10: =IF(A10="","",IF(VLOOKUP($A10,'Control Sample Data'!$A$3:$L$98,7,FALSE)=0,"",VLOOKUP($A10,'Control Sample Data'!$A$3:$L$98,7,FALSE))) | W10: =IF(A10="","",IF(VLOOKUP($A10,'Control Sample Data'!$A$3:$L$98,8,FALSE)=0,"",VLOOKUP($A10,'Control Sample Data'!$A$3:$L$98,8,FALSE))) | X10: =IF(A10="","",IF(VLOOKUP($A10,'Control Sample Data'!$A$3:$L$98,9,FALSE)=0,"",VLOOKUP($A10,'Control Sample Data'!$A$3:$L$98,9,FALSE))) | Y10: =IF($A10="","",IF(VLOOKUP($A10,'Control Sample Data'!$A$3:$L$98,10,FALSE)=0,"",VLOOKUP($A10,'Control Sample Data'!$A$3:$L$98,10,FALSE))) | Z10: =IF(A10="","",IF(VLOOKUP($A10,'Control Sample Data'!$A$3:$L$98,11,FALSE)=0,"",VLOOKUP($A10,'Control Sample Data'!$A$3:$L$98,11,FALSE))) | AA10: =IF(A10="","",IF(VLOOKUP($A10,'Control Sample Data'!$A$3:$L$98,12,FALSE)=0,"",VLOOKUP($A10,'Control Sample Data'!$A$3:$L$98,12,FALSE)))
C11: =IF(A11="","",IF(VLOOKUP($A11,'Test Sample Data'!$A$3:$L$98,2,FALSE)=0,"",VLOOKUP($A11,'Test Sample Data'!$A$3:$L$98,2,FALSE))) | D11: =IF(A11="","",IF(VLOOKUP($A11,'Test Sample Data'!$A$3:$L$98,3,FALSE)=0,"",VLOOKUP($A11,'Test Sample Data'!$A$3:$L$98,3,FALSE))) | E11: =IF(A11="","",IF(VLOOKUP($A11,'Test Sample Data'!$A$3:$L$98,4,FALSE)=0,"",VLOOKUP($A11,'Test Sample Data'!$A$3:$L$98,4,FALSE))) | F11: =IF(A11="","",IF(VLOOKUP($A11,'Test Sample Data'!$A$3:$L$98,5,FALSE)=0,"",VLOOKUP($A11,'Test Sample Data'!$A$3:$L$98,5,FALSE))) | G11: =IF(A11="","",IF(VLOOKUP($A11,'Test Sample Data'!$A$3:$L$98,6,FALSE)=0,"",VLOOKUP($A11,'Test Sample Data'!$A$3:$L$98,6,FALSE))) | H11: =IF(A11="","",IF(VLOOKUP($A11,'Test Sample Data'!$A$3:$L$98,7,FALSE)=0,"",VLOOKUP($A11,'Test Sample Data'!$A$3:$L$98,7,FALSE))) | I11: =IF(A11="","",IF(VLOOKUP($A11,'Test Sample Data'!$A$3:$L$98,8,FALSE)=0,"",VLOOKUP($A11,'Test Sample Data'!$A$3:$L$98,8,FALSE))) | J11: =IF(A11="","",IF(VLOOKUP($A11,'Test Sample Data'!$A$3:$L$98,9,FALSE)=0,"",VLOOKUP($A11,'Test Sample Data'!$A$3:$L$98,9,FALSE))) | K11: =IF(A11="","",IF(VLOOKUP($A11,'Test Sample Data'!$A$3:$L$98,10,FALSE)=0,"",VLOOKUP($A11,'Test Sample Data'!$A$3:$L$98,10,FALSE))) | L11: =IF(A11="","",IF(VLOOKUP($A11,'Test Sample Data'!$A$3:$L$98,11,FALSE)=0,"",VLOOKUP($A11,'Test Sample Data'!$A$3:$L$98,11,FALSE))) | M11: =IF(A11="","",IF(VLOOKUP($A11,'Test Sample Data'!$A$3:$L$98,12,FALSE)=0,"",VLOOKUP($A11,'Test Sample Data'!$A$3:$L$98,12,FALSE))) | O11: =IF(A11=0,"",A11) | Q11: =IF('Choose Housekeeping Genes'!C11=0,"",'Choose Housekeeping Genes'!C11) | R11: =IF(A11="","",IF(VLOOKUP($A11,'Control Sample Data'!$A$3:$L$98,3,FALSE)=0,"",VLOOKUP($A11,'Control Sample Data'!$A$3:$L$98,3,FALSE))) | S11: =IF(A11="","",IF(VLOOKUP($A11,'Control Sample Data'!$A$3:$L$98,4,FALSE)=0,"",VLOOKUP($A11,'Control Sample Data'!$A$3:$L$98,4,FALSE))) | T11: =IF(A11="","",IF(VLOOKUP($A11,'Control Sample Data'!$A$3:$L$98,5,FALSE)=0,"",VLOOKUP($A11,'Control Sample Data'!$A$3:$L$98,5,FALSE))) | U11: =IF(A11="","",IF(VLOOKUP($A11,'Control Sample Data'!$A$3:$L$98,6,FALSE)=0,"",VLOOKUP($A11,'Control Sample Data'!$A$3:$L$98,6,FALSE))) | V11: =IF(A11="","",IF(VLOOKUP($A11,'Control Sample Data'!$A$3:$L$98,7,FALSE)=0,"",VLOOKUP($A11,'Control Sample Data'!$A$3:$L$98,7,FALSE))) | W11: =IF(A11="","",IF(VLOOKUP($A11,'Control Sample Data'!$A$3:$L$98,8,FALSE)=0,"",VLOOKUP($A11,'Control Sample Data'!$A$3:$L$98,8,FALSE))) | X11: =IF(A11="","",IF(VLOOKUP($A11,'Control Sample Data'!$A$3:$L$98,9,FALSE)=0,"",VLOOKUP($A11,'Control Sample Data'!$A$3:$L$98,9,FALSE))) | Y11: =IF($A11="","",IF(VLOOKUP($A11,'Control Sample Data'!$A$3:$L$98,10,FALSE)=0,"",VLOOKUP($A11,'Control Sample Data'!$A$3:$L$98,10,FALSE))) | Z11: =IF(A11="","",IF(VLOOKUP($A11,'Control Sample Data'!$A$3:$L$98,11,FALSE)=0,"",VLOOKUP($A11,'Control Sample Data'!$A$3:$L$98,11,FALSE))) | AA11: =IF(A11="","",IF(VLOOKUP($A11,'Control Sample Data'!$A$3:$L$98,12,FALSE)=0,"",VLOOKUP($A11,'Control Sample Data'!$A$3:$L$98,12,FALSE)))
C12: =IF(A12="","",IF(VLOOKUP($A12,'Test Sample Data'!$A$3:$L$98,2,FALSE)=0,"",VLOOKUP($A12,'Test Sample Data'!$A$3:$L$98,2,FALSE))) | D12: =IF(A12="","",IF(VLOOKUP($A12,'Test Sample Data'!$A$3:$L$98,3,FALSE)=0,"",VLOOKUP($A12,'Test Sample Data'!$A$3:$L$98,3,FALSE))) | E12: =IF(A12="","",IF(VLOOKUP($A12,'Test Sample Data'!$A$3:$L$98,4,FALSE)=0,"",VLOOKUP($A12,'Test Sample Data'!$A$3:$L$98,4,FALSE))) | F12: =IF(A12="","",IF(VLOOKUP($A12,'Test Sample Data'!$A$3:$L$98,5,FALSE)=0,"",VLOOKUP($A12,'Test Sample Data'!$A$3:$L$98,5,FALSE))) | G12: =IF(A12="","",IF(VLOOKUP($A12,'Test Sample Data'!$A$3:$L$98,6,FALSE)=0,"",VLOOKUP($A12,'Test Sample Data'!$A$3:$L$98,6,FALSE))) | H12: =IF(A12="","",IF(VLOOKUP($A12,'Test Sample Data'!$A$3:$L$98,7,FALSE)=0,"",VLOOKUP($A12,'Test Sample Data'!$A$3:$L$98,7,FALSE))) | I12: =IF(A12="","",IF(VLOOKUP($A12,'Test Sample Data'!$A$3:$L$98,8,FALSE)=0,"",VLOOKUP($A12,'Test Sample Data'!$A$3:$L$98,8,FALSE))) | J12: =IF(A12="","",IF(VLOOKUP($A12,'Test Sample Data'!$A$3:$L$98,9,FALSE)=0,"",VLOOKUP($A12,'Test Sample Data'!$A$3:$L$98,9,FALSE))) | K12: =IF(A12="","",IF(VLOOKUP($A12,'Test Sample Data'!$A$3:$L$98,10,FALSE)=0,"",VLOOKUP($A12,'Test Sample Data'!$A$3:$L$98,10,FALSE))) | L12: =IF(A12="","",IF(VLOOKUP($A12,'Test Sample Data'!$A$3:$L$98,11,FALSE)=0,"",VLOOKUP($A12,'Test Sample Data'!$A$3:$L$98,11,FALSE))) | M12: =IF(A12="","",IF(VLOOKUP($A12,'Test Sample Data'!$A$3:$L$98,12,FALSE)=0,"",VLOOKUP($A12,'Test Sample Data'!$A$3:$L$98,12,FALSE))) | O12: =IF(A12=0,"",A12) | Q12: =IF('Choose Housekeeping Genes'!C12=0,"",'Choose Housekeeping Genes'!C12) | R12: =IF(A12="","",IF(VLOOKUP($A12,'Control Sample Data'!$A$3:$L$98,3,FALSE)=0,"",VLOOKUP($A12,'Control Sample Data'!$A$3:$L$98,3,FALSE))) | S12: =IF(A12="","",IF(VLOOKUP($A12,'Control Sample Data'!$A$3:$L$98,4,FALSE)=0,"",VLOOKUP($A12,'Control Sample Data'!$A$3:$L$98,4,FALSE))) | T12: =IF(A12="","",IF(VLOOKUP($A12,'Control Sample Data'!$A$3:$L$98,5,FALSE)=0,"",VLOOKUP($A12,'Control Sample Data'!$A$3:$L$98,5,FALSE))) | U12: =IF(A12="","",IF(VLOOKUP($A12,'Control Sample Data'!$A$3:$L$98,6,FALSE)=0,"",VLOOKUP($A12,'Control Sample Data'!$A$3:$L$98,6,FALSE))) | V12: =IF(A12="","",IF(VLOOKUP($A12,'Control Sample Data'!$A$3:$L$98,7,FALSE)=0,"",VLOOKUP($A12,'Control Sample Data'!$A$3:$L$98,7,FALSE))) | W12: =IF(A12="","",IF(VLOOKUP($A12,'Control Sample Data'!$A$3:$L$98,8,FALSE)=0,"",VLOOKUP($A12,'Control Sample Data'!$A$3:$L$98,8,FALSE))) | X12: =IF(A12="","",IF(VLOOKUP($A12,'Control Sample Data'!$A$3:$L$98,9,FALSE)=0,"",VLOOKUP($A12,'Control Sample Data'!$A$3:$L$98,9,FALSE))) | Y12: =IF($A12="","",IF(VLOOKUP($A12,'Control Sample Data'!$A$3:$L$98,10,FALSE)=0,"",VLOOKUP($A12,'Control Sample Data'!$A$3:$L$98,10,FALSE))) | Z12: =IF(A12="","",IF(VLOOKUP($A12,'Control Sample Data'!$A$3:$L$98,11,FALSE)=0,"",VLOOKUP($A12,'Control Sample Data'!$A$3:$L$98,11,FALSE))) | AA12: =IF(A12="","",IF(VLOOKUP($A12,'Control Sample Data'!$A$3:$L$98,12,FALSE)=0,"",VLOOKUP($A12,'Control Sample Data'!$A$3:$L$98,12,FALSE)))
C13: =IF(A13="","",IF(VLOOKUP($A13,'Test Sample Data'!$A$3:$L$98,2,FALSE)=0,"",VLOOKUP($A13,'Test Sample Data'!$A$3:$L$98,2,FALSE))) | D13: =IF(A13="","",IF(VLOOKUP($A13,'Test Sample Data'!$A$3:$L$98,3,FALSE)=0,"",VLOOKUP($A13,'Test Sample Data'!$A$3:$L$98,3,FALSE))) | E13: =IF(A13="","",IF(VLOOKUP($A13,'Test Sample Data'!$A$3:$L$98,4,FALSE)=0,"",VLOOKUP($A13,'Test Sample Data'!$A$3:$L$98,4,FALSE))) | F13: =IF(A13="","",IF(VLOOKUP($A13,'Test Sample Data'!$A$3:$L$98,5,FALSE)=0,"",VLOOKUP($A13,'Test Sample Data'!$A$3:$L$98,5,FALSE))) | G13: =IF(A13="","",IF(VLOOKUP($A13,'Test Sample Data'!$A$3:$L$98,6,FALSE)=0,"",VLOOKUP($A13,'Test Sample Data'!$A$3:$L$98,6,FALSE))) | H13: =IF(A13="","",IF(VLOOKUP($A13,'Test Sample Data'!$A$3:$L$98,7,FALSE)=0,"",VLOOKUP($A13,'Test Sample Data'!$A$3:$L$98,7,FALSE))) | I13: =IF(A13="","",IF(VLOOKUP($A13,'Test Sample Data'!$A$3:$L$98,8,FALSE)=0,"",VLOOKUP($A13,'Test Sample Data'!$A$3:$L$98,8,FALSE))) | J13: =IF(A13="","",IF(VLOOKUP($A13,'Test Sample Data'!$A$3:$L$98,9,FALSE)=0,"",VLOOKUP($A13,'Test Sample Data'!$A$3:$L$98,9,FALSE))) | K13: =IF(A13="","",IF(VLOOKUP($A13,'Test Sample Data'!$A$3:$L$98,10,FALSE)=0,"",VLOOKUP($A13,'Test Sample Data'!$A$3:$L$98,10,FALSE))) | L13: =IF(A13="","",IF(VLOOKUP($A13,'Test Sample Data'!$A$3:$L$98,11,FALSE)=0,"",VLOOKUP($A13,'Test Sample Data'!$A$3:$L$98,11,FALSE))) | M13: =IF(A13="","",IF(VLOOKUP($A13,'Test Sample Data'!$A$3:$L$98,12,FALSE)=0,"",VLOOKUP($A13,'Test Sample Data'!$A$3:$L$98,12,FALSE))) | O13: =IF(A13=0,"",A13) | Q13: =IF('Choose Housekeeping Genes'!C13=0,"",'Choose Housekeeping Genes'!C13) | R13: =IF(A13="","",IF(VLOOKUP($A13,'Control Sample Data'!$A$3:$L$98,3,FALSE)=0,"",VLOOKUP($A13,'Control Sample Data'!$A$3:$L$98,3,FALSE))) | S13: =IF(A13="","",IF(VLOOKUP($A13,'Control Sample Data'!$A$3:$L$98,4,FALSE)=0,"",VLOOKUP($A13,'Control Sample Data'!$A$3:$L$98,4,FALSE))) | T13: =IF(A13="","",IF(VLOOKUP($A13,'Control Sample Data'!$A$3:$L$98,5,FALSE)=0,"",VLOOKUP($A13,'Control Sample Data'!$A$3:$L$98,5,FALSE))) | U13: =IF(A13="","",IF(VLOOKUP($A13,'Control Sample Data'!$A$3:$L$98,6,FALSE)=0,"",VLOOKUP($A13,'Control Sample Data'!$A$3:$L$98,6,FALSE))) | V13: =IF(A13="","",IF(VLOOKUP($A13,'Control Sample Data'!$A$3:$L$98,7,FALSE)=0,"",VLOOKUP($A13,'Control Sample Data'!$A$3:$L$98,7,FALSE))) | W13: =IF(A13="","",IF(VLOOKUP($A13,'Control Sample Data'!$A$3:$L$98,8,FALSE)=0,"",VLOOKUP($A13,'Control Sample Data'!$A$3:$L$98,8,FALSE))) | X13: =IF(A13="","",IF(VLOOKUP($A13,'Control Sample Data'!$A$3:$L$98,9,FALSE)=0,"",VLOOKUP($A13,'Control Sample Data'!$A$3:$L$98,9,FALSE))) | Y13: =IF($A13="","",IF(VLOOKUP($A13,'Control Sample Data'!$A$3:$L$98,10,FALSE)=0,"",VLOOKUP($A13,'Control Sample Data'!$A$3:$L$98,10,FALSE))) | Z13: =IF(A13="","",IF(VLOOKUP($A13,'Control Sample Data'!$A$3:$L$98,11,FALSE)=0,"",VLOOKUP($A13,'Control Sample Data'!$A$3:$L$98,11,FALSE))) | AA13: =IF(A13="","",IF(VLOOKUP($A13,'Control Sample Data'!$A$3:$L$98,12,FALSE)=0,"",VLOOKUP($A13,'Control Sample Data'!$A$3:$L$98,12,FALSE)))
C14: =IF(A14="","",IF(VLOOKUP($A14,'Test Sample Data'!$A$3:$L$98,2,FALSE)=0,"",VLOOKUP($A14,'Test Sample Data'!$A$3:$L$98,2,FALSE))) | D14: =IF(A14="","",IF(VLOOKUP($A14,'Test Sample Data'!$A$3:$L$98,3,FALSE)=0,"",VLOOKUP($A14,'Test Sample Data'!$A$3:$L$98,3,FALSE))) | E14: =IF(A14="","",IF(VLOOKUP($A14,'Test Sample Data'!$A$3:$L$98,4,FALSE)=0,"",VLOOKUP($A14,'Test Sample Data'!$A$3:$L$98,4,FALSE))) | F14: =IF(A14="","",IF(VLOOKUP($A14,'Test Sample Data'!$A$3:$L$98,5,FALSE)=0,"",VLOOKUP($A14,'Test Sample Data'!$A$3:$L$98,5,FALSE))) | G14: =IF(A14="","",IF(VLOOKUP($A14,'Test Sample Data'!$A$3:$L$98,6,FALSE)=0,"",VLOOKUP($A14,'Test Sample Data'!$A$3:$L$98,6,FALSE))) | H14: =IF(A14="","",IF(VLOOKUP($A14,'Test Sample Data'!$A$3:$L$98,7,FALSE)=0,"",VLOOKUP($A14,'Test Sample Data'!$A$3:$L$98,7,FALSE))) | I14: =IF(A14="","",IF(VLOOKUP($A14,'Test Sample Data'!$A$3:$L$98,8,FALSE)=0,"",VLOOKUP($A14,'Test Sample Data'!$A$3:$L$98,8,FALSE))) | J14: =IF(A14="","",IF(VLOOKUP($A14,'Test Sample Data'!$A$3:$L$98,9,FALSE)=0,"",VLOOKUP($A14,'Test Sample Data'!$A$3:$L$98,9,FALSE))) | K14: =IF(A14="","",IF(VLOOKUP($A14,'Test Sample Data'!$A$3:$L$98,10,FALSE)=0,"",VLOOKUP($A14,'Test Sample Data'!$A$3:$L$98,10,FALSE))) | L14: =IF(A14="","",IF(VLOOKUP($A14,'Test Sample Data'!$A$3:$L$98,11,FALSE)=0,"",VLOOKUP($A14,'Test Sample Data'!$A$3:$L$98,11,FALSE))) | M14: =IF(A14="","",IF(VLOOKUP($A14,'Test Sample Data'!$A$3:$L$98,12,FALSE)=0,"",VLOOKUP($A14,'Test Sample Data'!$A$3:$L$98,12,FALSE))) | O14: =IF(A14=0,"",A14) | Q14: =IF('Choose Housekeeping Genes'!C14=0,"",'Choose Housekeeping Genes'!C14) | R14: =IF(A14="","",IF(VLOOKUP($A14,'Control Sample Data'!$A$3:$L$98,3,FALSE)=0,"",VLOOKUP($A14,'Control Sample Data'!$A$3:$L$98,3,FALSE))) | S14: =IF(A14="","",IF(VLOOKUP($A14,'Control Sample Data'!$A$3:$L$98,4,FALSE)=0,"",VLOOKUP($A14,'Control Sample Data'!$A$3:$L$98,4,FALSE))) | T14: =IF(A14="","",IF(VLOOKUP($A14,'Control Sample Data'!$A$3:$L$98,5,FALSE)=0,"",VLOOKUP($A14,'Control Sample Data'!$A$3:$L$98,5,FALSE))) | U14: =IF(A14="","",IF(VLOOKUP($A14,'Control Sample Data'!$A$3:$L$98,6,FALSE)=0,"",VLOOKUP($A14,'Control Sample Data'!$A$3:$L$98,6,FALSE))) | V14: =IF(A14="","",IF(VLOOKUP($A14,'Control Sample Data'!$A$3:$L$98,7,FALSE)=0,"",VLOOKUP($A14,'Control Sample Data'!$A$3:$L$98,7,FALSE))) | W14: =IF(A14="","",IF(VLOOKUP($A14,'Control Sample Data'!$A$3:$L$98,8,FALSE)=0,"",VLOOKUP($A14,'Control Sample Data'!$A$3:$L$98,8,FALSE))) | X14: =IF(A14="","",IF(VLOOKUP($A14,'Control Sample Data'!$A$3:$L$98,9,FALSE)=0,"",VLOOKUP($A14,'Control Sample Data'!$A$3:$L$98,9,FALSE))) | Y14: =IF($A14="","",IF(VLOOKUP($A14,'Control Sample Data'!$A$3:$L$98,10,FALSE)=0,"",VLOOKUP($A14,'Control Sample Data'!$A$3:$L$98,10,FALSE))) | Z14: =IF(A14="","",IF(VLOOKUP($A14,'Control Sample Data'!$A$3:$L$98,11,FALSE)=0,"",VLOOKUP($A14,'Control Sample Data'!$A$3:$L$98,11,FALSE))) | AA14: =IF(A14="","",IF(VLOOKUP($A14,'Control Sample Data'!$A$3:$L$98,12,FALSE)=0,"",VLOOKUP($A14,'Control Sample Data'!$A$3:$L$98,12,FALSE)))
C15: =IF(A15="","",IF(VLOOKUP($A15,'Test Sample Data'!$A$3:$L$98,2,FALSE)=0,"",VLOOKUP($A15,'Test Sample Data'!$A$3:$L$98,2,FALSE))) | D15: =IF(A15="","",IF(VLOOKUP($A15,'Test Sample Data'!$A$3:$L$98,3,FALSE)=0,"",VLOOKUP($A15,'Test Sample Data'!$A$3:$L$98,3,FALSE))) | E15: =IF(A15="","",IF(VLOOKUP($A15,'Test Sample Data'!$A$3:$L$98,4,FALSE)=0,"",VLOOKUP($A15,'Test Sample Data'!$A$3:$L$98,4,FALSE))) | F15: =IF(A15="","",IF(VLOOKUP($A15,'Test Sample Data'!$A$3:$L$98,5,FALSE)=0,"",VLOOKUP($A15,'Test Sample Data'!$A$3:$L$98,5,FALSE))) | G15: =IF(A15="","",IF(VLOOKUP($A15,'Test Sample Data'!$A$3:$L$98,6,FALSE)=0,"",VLOOKUP($A15,'Test Sample Data'!$A$3:$L$98,6,FALSE))) | H15: =IF(A15="","",IF(VLOOKUP($A15,'Test Sample Data'!$A$3:$L$98,7,FALSE)=0,"",VLOOKUP($A15,'Test Sample Data'!$A$3:$L$98,7,FALSE))) | I15: =IF(A15="","",IF(VLOOKUP($A15,'Test Sample Data'!$A$3:$L$98,8,FALSE)=0,"",VLOOKUP($A15,'Test Sample Data'!$A$3:$L$98,8,FALSE))) | J15: =IF(A15="","",IF(VLOOKUP($A15,'Test Sample Data'!$A$3:$L$98,9,FALSE)=0,"",VLOOKUP($A15,'Test Sample Data'!$A$3:$L$98,9,FALSE))) | K15: =IF(A15="","",IF(VLOOKUP($A15,'Test Sample Data'!$A$3:$L$98,10,FALSE)=0,"",VLOOKUP($A15,'Test Sample Data'!$A$3:$L$98,10,FALSE))) | L15: =IF(A15="","",IF(VLOOKUP($A15,'Test Sample Data'!$A$3:$L$98,11,FALSE)=0,"",VLOOKUP($A15,'Test Sample Data'!$A$3:$L$98,11,FALSE))) | M15: =IF(A15="","",IF(VLOOKUP($A15,'Test Sample Data'!$A$3:$L$98,12,FALSE)=0,"",VLOOKUP($A15,'Test Sample Data'!$A$3:$L$98,12,FALSE))) | O15: =IF(A15=0,"",A15) | Q15: =IF('Choose Housekeeping Genes'!C15=0,"",'Choose Housekeeping Genes'!C15) | R15: =IF(A15="","",IF(VLOOKUP($A15,'Control Sample Data'!$A$3:$L$98,3,FALSE)=0,"",VLOOKUP($A15,'Control Sample Data'!$A$3:$L$98,3,FALSE))) | S15: =IF(A15="","",IF(VLOOKUP($A15,'Control Sample Data'!$A$3:$L$98,4,FALSE)=0,"",VLOOKUP($A15,'Control Sample Data'!$A$3:$L$98,4,FALSE))) | T15: =IF(A15="","",IF(VLOOKUP($A15,'Control Sample Data'!$A$3:$L$98,5,FALSE)=0,"",VLOOKUP($A15,'Control Sample Data'!$A$3:$L$98,5,FALSE))) | U15: =IF(A15="","",IF(VLOOKUP($A15,'Control Sample Data'!$A$3:$L$98,6,FALSE)=0,"",VLOOKUP($A15,'Control Sample Data'!$A$3:$L$98,6,FALSE))) | V15: =IF(A15="","",IF(VLOOKUP($A15,'Control Sample Data'!$A$3:$L$98,7,FALSE)=0,"",VLOOKUP($A15,'Control Sample Data'!$A$3:$L$98,7,FALSE))) | W15: =IF(A15="","",IF(VLOOKUP($A15,'Control Sample Data'!$A$3:$L$98,8,FALSE)=0,"",VLOOKUP($A15,'Control Sample Data'!$A$3:$L$98,8,FALSE))) | X15: =IF(A15="","",IF(VLOOKUP($A15,'Control Sample Data'!$A$3:$L$98,9,FALSE)=0,"",VLOOKUP($A15,'Control Sample Data'!$A$3:$L$98,9,FALSE))) | Y15: =IF($A15="","",IF(VLOOKUP($A15,'Control Sample Data'!$A$3:$L$98,10,FALSE)=0,"",VLOOKUP($A15,'Control Sample Data'!$A$3:$L$98,10,FALSE))) | Z15: =IF(A15="","",IF(VLOOKUP($A15,'Control Sample Data'!$A$3:$L$98,11,FALSE)=0,"",VLOOKUP($A15,'Control Sample Data'!$A$3:$L$98,11,FALSE))) | AA15: =IF(A15="","",IF(VLOOKUP($A15,'Control Sample Data'!$A$3:$L$98,12,FALSE)=0,"",VLOOKUP($A15,'Control Sample Data'!$A$3:$L$98,12,FALSE)))
C16: =IF(A16="","",IF(VLOOKUP($A16,'Test Sample Data'!$A$3:$L$98,2,FALSE)=0,"",VLOOKUP($A16,'Test Sample Data'!$A$3:$L$98,2,FALSE))) | D16: =IF(A16="","",IF(VLOOKUP($A16,'Test Sample Data'!$A$3:$L$98,3,FALSE)=0,"",VLOOKUP($A16,'Test Sample Data'!$A$3:$L$98,3,FALSE))) | E16: =IF(A16="","",IF(VLOOKUP($A16,'Test Sample Data'!$A$3:$L$98,4,FALSE)=0,"",VLOOKUP($A16,'Test Sample Data'!$A$3:$L$98,4,FALSE))) | F16: =IF(A16="","",IF(VLOOKUP($A16,'Test Sample Data'!$A$3:$L$98,5,FALSE)=0,"",VLOOKUP($A16,'Test Sample Data'!$A$3:$L$98,5,FALSE))) | G16: =IF(A16="","",IF(VLOOKUP($A16,'Test Sample Data'!$A$3:$L$98,6,FALSE)=0,"",VLOOKUP($A16,'Test Sample Data'!$A$3:$L$98,6,FALSE))) | H16: =IF(A16="","",IF(VLOOKUP($A16,'Test Sample Data'!$A$3:$L$98,7,FALSE)=0,"",VLOOKUP($A16,'Test Sample Data'!$A$3:$L$98,7,FALSE))) | I16: =IF(A16="","",IF(VLOOKUP($A16,'Test Sample Data'!$A$3:$L$98,8,FALSE)=0,"",VLOOKUP($A16,'Test Sample Data'!$A$3:$L$98,8,FALSE))) | J16: =IF(A16="","",IF(VLOOKUP($A16,'Test Sample Data'!$A$3:$L$98,9,FALSE)=0,"",VLOOKUP($A16,'Test Sample Data'!$A$3:$L$98,9,FALSE))) | K16: =IF(A16="","",IF(VLOOKUP($A16,'Test Sample Data'!$A$3:$L$98,10,FALSE)=0,"",VLOOKUP($A16,'Test Sample Data'!$A$3:$L$98,10,FALSE))) | L16: =IF(A16="","",IF(VLOOKUP($A16,'Test Sample Data'!$A$3:$L$98,11,FALSE)=0,"",VLOOKUP($A16,'Test Sample Data'!$A$3:$L$98,11,FALSE))) | M16: =IF(A16="","",IF(VLOOKUP($A16,'Test Sample Data'!$A$3:$L$98,12,FALSE)=0,"",VLOOKUP($A16,'Test Sample Data'!$A$3:$L$98,12,FALSE))) | O16: =IF(A16=0,"",A16) | Q16: =IF('Choose Housekeeping Genes'!C16=0,"",'Choose Housekeeping Genes'!C16) | R16: =IF(A16="","",IF(VLOOKUP($A16,'Control Sample Data'!$A$3:$L$98,3,FALSE)=0,"",VLOOKUP($A16,'Control Sample Data'!$A$3:$L$98,3,FALSE))) | S16: =IF(A16="","",IF(VLOOKUP($A16,'Control Sample Data'!$A$3:$L$98,4,FALSE)=0,"",VLOOKUP($A16,'Control Sample Data'!$A$3:$L$98,4,FALSE))) | T16: =IF(A16="","",IF(VLOOKUP($A16,'Control Sample Data'!$A$3:$L$98,5,FALSE)=0,"",VLOOKUP($A16,'Control Sample Data'!$A$3:$L$98,5,FALSE))) | U16: =IF(A16="","",IF(VLOOKUP($A16,'Control Sample Data'!$A$3:$L$98,6,FALSE)=0,"",VLOOKUP($A16,'Control Sample Data'!$A$3:$L$98,6,FALSE))) | V16: =IF(A16="","",IF(VLOOKUP($A16,'Control Sample Data'!$A$3:$L$98,7,FALSE)=0,"",VLOOKUP($A16,'Control Sample Data'!$A$3:$L$98,7,FALSE))) | W16: =IF(A16="","",IF(VLOOKUP($A16,'Control Sample Data'!$A$3:$L$98,8,FALSE)=0,"",VLOOKUP($A16,'Control Sample Data'!$A$3:$L$98,8,FALSE))) | X16: =IF(A16="","",IF(VLOOKUP($A16,'Control Sample Data'!$A$3:$L$98,9,FALSE)=0,"",VLOOKUP($A16,'Control Sample Data'!$A$3:$L$98,9,FALSE))) | Y16: =IF($A16="","",IF(VLOOKUP($A16,'Control Sample Data'!$A$3:$L$98,10,FALSE)=0,"",VLOOKUP($A16,'Control Sample Data'!$A$3:$L$98,10,FALSE))) | Z16: =IF(A16="","",IF(VLOOKUP($A16,'Control Sample Data'!$A$3:$L$98,11,FALSE)=0,"",VLOOKUP($A16,'Control Sample Data'!$A$3:$L$98,11,FALSE))) | AA16: =IF(A16="","",IF(VLOOKUP($A16,'Control Sample Data'!$A$3:$L$98,12,FALSE)=0,"",VLOOKUP($A16,'Control Sample Data'!$A$3:$L$98,12,FALSE)))
C17: =IF(A17="","",IF(VLOOKUP($A17,'Test Sample Data'!$A$3:$L$98,2,FALSE)=0,"",VLOOKUP($A17,'Test Sample Data'!$A$3:$L$98,2,FALSE))) | D17: =IF(A17="","",IF(VLOOKUP($A17,'Test Sample Data'!$A$3:$L$98,3,FALSE)=0,"",VLOOKUP($A17,'Test Sample Data'!$A$3:$L$98,3,FALSE))) | E17: =IF(A17="","",IF(VLOOKUP($A17,'Test Sample Data'!$A$3:$L$98,4,FALSE)=0,"",VLOOKUP($A17,'Test Sample Data'!$A$3:$L$98,4,FALSE))) | F17: =IF(A17="","",IF(VLOOKUP($A17,'Test Sample Data'!$A$3:$L$98,5,FALSE)=0,"",VLOOKUP($A17,'Test Sample Data'!$A$3:$L$98,5,FALSE))) | G17: =IF(A17="","",IF(VLOOKUP($A17,'Test Sample Data'!$A$3:$L$98,6,FALSE)=0,"",VLOOKUP($A17,'Test Sample Data'!$A$3:$L$98,6,FALSE))) | H17: =IF(A17="","",IF(VLOOKUP($A17,'Test Sample Data'!$A$3:$L$98,7,FALSE)=0,"",VLOOKUP($A17,'Test Sample Data'!$A$3:$L$98,7,FALSE))) | I17: =IF(A17="","",IF(VLOOKUP($A17,'Test Sample Data'!$A$3:$L$98,8,FALSE)=0,"",VLOOKUP($A17,'Test Sample Data'!$A$3:$L$98,8,FALSE))) | J17: =IF(A17="","",IF(VLOOKUP($A17,'Test Sample Data'!$A$3:$L$98,9,FALSE)=0,"",VLOOKUP($A17,'Test Sample Data'!$A$3:$L$98,9,FALSE))) | K17: =IF(A17="","",IF(VLOOKUP($A17,'Test Sample Data'!$A$3:$L$98,10,FALSE)=0,"",VLOOKUP($A17,'Test Sample Data'!$A$3:$L$98,10,FALSE))) | L17: =IF(A17="","",IF(VLOOKUP($A17,'Test Sample Data'!$A$3:$L$98,11,FALSE)=0,"",VLOOKUP($A17,'Test Sample Data'!$A$3:$L$98,11,FALSE))) | M17: =IF(A17="","",IF(VLOOKUP($A17,'Test Sample Data'!$A$3:$L$98,12,FALSE)=0,"",VLOOKUP($A17,'Test Sample Data'!$A$3:$L$98,12,FALSE))) | O17: =IF(A17=0,"",A17) | Q17: =IF('Choose Housekeeping Genes'!C17=0,"",'Choose Housekeeping Genes'!C17) | R17: =IF(A17="","",IF(VLOOKUP($A17,'Control Sample Data'!$A$3:$L$98,3,FALSE)=0,"",VLOOKUP($A17,'Control Sample Data'!$A$3:$L$98,3,FALSE))) | S17: =IF(A17="","",IF(VLOOKUP($A17,'Control Sample Data'!$A$3:$L$98,4,FALSE)=0,"",VLOOKUP($A17,'Control Sample Data'!$A$3:$L$98,4,FALSE))) | T17: =IF(A17="","",IF(VLOOKUP($A17,'Control Sample Data'!$A$3:$L$98,5,FALSE)=0,"",VLOOKUP($A17,'Control Sample Data'!$A$3:$L$98,5,FALSE))) | U17: =IF(A17="","",IF(VLOOKUP($A17,'Control Sample Data'!$A$3:$L$98,6,FALSE)=0,"",VLOOKUP($A17,'Control Sample Data'!$A$3:$L$98,6,FALSE))) | V17: =IF(A17="","",IF(VLOOKUP($A17,'Control Sample Data'!$A$3:$L$98,7,FALSE)=0,"",VLOOKUP($A17,'Control Sample Data'!$A$3:$L$98,7,FALSE))) | W17: =IF(A17="","",IF(VLOOKUP($A17,'Control Sample Data'!$A$3:$L$98,8,FALSE)=0,"",VLOOKUP($A17,'Control Sample Data'!$A$3:$L$98,8,FALSE))) | X17: =IF(A17="","",IF(VLOOKUP($A17,'Control Sample Data'!$A$3:$L$98,9,FALSE)=0,"",VLOOKUP($A17,'Control Sample Data'!$A$3:$L$98,9,FALSE))) | Y17: =IF($A17="","",IF(VLOOKUP($A17,'Control Sample Data'!$A$3:$L$98,10,FALSE)=0,"",VLOOKUP($A17,'Control Sample Data'!$A$3:$L$98,10,FALSE))) | Z17: =IF(A17="","",IF(VLOOKUP($A17,'Control Sample Data'!$A$3:$L$98,11,FALSE)=0,"",VLOOKUP($A17,'Control Sample Data'!$A$3:$L$98,11,FALSE))) | AA17: =IF(A17="","",IF(VLOOKUP($A17,'Control Sample Data'!$A$3:$L$98,12,FALSE)=0,"",VLOOKUP($A17,'Control Sample Data'!$A$3:$L$98,12,FALSE)))
C18: =IF(A18="","",IF(VLOOKUP($A18,'Test Sample Data'!$A$3:$L$98,2,FALSE)=0,"",VLOOKUP($A18,'Test Sample Data'!$A$3:$L$98,2,FALSE))) | D18: =IF(A18="","",IF(VLOOKUP($A18,'Test Sample Data'!$A$3:$L$98,3,FALSE)=0,"",VLOOKUP($A18,'Test Sample Data'!$A$3:$L$98,3,FALSE))) | E18: =IF(A18="","",IF(VLOOKUP($A18,'Test Sample Data'!$A$3:$L$98,4,FALSE)=0,"",VLOOKUP($A18,'Test Sample Data'!$A$3:$L$98,4,FALSE))) | F18: =IF(A18="","",IF(VLOOKUP($A18,'Test Sample Data'!$A$3:$L$98,5,FALSE)=0,"",VLOOKUP($A18,'Test Sample Data'!$A$3:$L$98,5,FALSE))) | G18: =IF(A18="","",IF(VLOOKUP($A18,'Test Sample Data'!$A$3:$L$98,6,FALSE)=0,"",VLOOKUP($A18,'Test Sample Data'!$A$3:$L$98,6,FALSE))) | H18: =IF(A18="","",IF(VLOOKUP($A18,'Test Sample Data'!$A$3:$L$98,7,FALSE)=0,"",VLOOKUP($A18,'Test Sample Data'!$A$3:$L$98,7,FALSE))) | I18: =IF(A18="","",IF(VLOOKUP($A18,'Test Sample Data'!$A$3:$L$98,8,FALSE)=0,"",VLOOKUP($A18,'Test Sample Data'!$A$3:$L$98,8,FALSE))) | J18: =IF(A18="","",IF(VLOOKUP($A18,'Test Sample Data'!$A$3:$L$98,9,FALSE)=0,"",VLOOKUP($A18,'Test Sample Data'!$A$3:$L$98,9,FALSE))) | K18: =IF(A18="","",IF(VLOOKUP($A18,'Test Sample Data'!$A$3:$L$98,10,FALSE)=0,"",VLOOKUP($A18,'Test Sample Data'!$A$3:$L$98,10,FALSE))) | L18: =IF(A18="","",IF(VLOOKUP($A18,'Test Sample Data'!$A$3:$L$98,11,FALSE)=0,"",VLOOKUP($A18,'Test Sample Data'!$A$3:$L$98,11,FALSE))) | M18: =IF(A18="","",IF(VLOOKUP($A18,'Test Sample Data'!$A$3:$L$98,12,FALSE)=0,"",VLOOKUP($A18,'Test Sample Data'!$A$3:$L$98,12,FALSE))) | O18: =IF(A18=0,"",A18) | Q18: =IF('Choose Housekeeping Genes'!C18=0,"",'Choose Housekeeping Genes'!C18) | R18: =IF(A18="","",IF(VLOOKUP($A18,'Control Sample Data'!$A$3:$L$98,3,FALSE)=0,"",VLOOKUP($A18,'Control Sample Data'!$A$3:$L$98,3,FALSE))) | S18: =IF(A18="","",IF(VLOOKUP($A18,'Control Sample Data'!$A$3:$L$98,4,FALSE)=0,"",VLOOKUP($A18,'Control Sample Data'!$A$3:$L$98,4,FALSE))) | T18: =IF(A18="","",IF(VLOOKUP($A18,'Control Sample Data'!$A$3:$L$98,5,FALSE)=0,"",VLOOKUP($A18,'Control Sample Data'!$A$3:$L$98,5,FALSE))) | U18: =IF(A18="","",IF(VLOOKUP($A18,'Control Sample Data'!$A$3:$L$98,6,FALSE)=0,"",VLOOKUP($A18,'Control Sample Data'!$A$3:$L$98,6,FALSE))) | V18: =IF(A18="","",IF(VLOOKUP($A18,'Control Sample Data'!$A$3:$L$98,7,FALSE)=0,"",VLOOKUP($A18,'Control Sample Data'!$A$3:$L$98,7,FALSE))) | W18: =IF(A18="","",IF(VLOOKUP($A18,'Control Sample Data'!$A$3:$L$98,8,FALSE)=0,"",VLOOKUP($A18,'Control Sample Data'!$A$3:$L$98,8,FALSE))) | X18: =IF(A18="","",IF(VLOOKUP($A18,'Control Sample Data'!$A$3:$L$98,9,FALSE)=0,"",VLOOKUP($A18,'Control Sample Data'!$A$3:$L$98,9,FALSE))) | Y18: =IF($A18="","",IF(VLOOKUP($A18,'Control Sample Data'!$A$3:$L$98,10,FALSE)=0,"",VLOOKUP($A18,'Control Sample Data'!$A$3:$L$98,10,FALSE))) | Z18: =IF(A18="","",IF(VLOOKUP($A18,'Control Sample Data'!$A$3:$L$98,11,FALSE)=0,"",VLOOKUP($A18,'Control Sample Data'!$A$3:$L$98,11,FALSE))) | AA18: =IF(A18="","",IF(VLOOKUP($A18,'Control Sample Data'!$A$3:$L$98,12,FALSE)=0,"",VLOOKUP($A18,'Control Sample Data'!$A$3:$L$98,12,FALSE)))
C19: =IF(A19="","",IF(VLOOKUP($A19,'Test Sample Data'!$A$3:$L$98,2,FALSE)=0,"",VLOOKUP($A19,'Test Sample Data'!$A$3:$L$98,2,FALSE))) | D19: =IF(A19="","",IF(VLOOKUP($A19,'Test Sample Data'!$A$3:$L$98,3,FALSE)=0,"",VLOOKUP($A19,'Test Sample Data'!$A$3:$L$98,3,FALSE))) | E19: =IF(A19="","",IF(VLOOKUP($A19,'Test Sample Data'!$A$3:$L$98,4,FALSE)=0,"",VLOOKUP($A19,'Test Sample Data'!$A$3:$L$98,4,FALSE))) | F19: =IF(A19="","",IF(VLOOKUP($A19,'Test Sample Data'!$A$3:$L$98,5,FALSE)=0,"",VLOOKUP($A19,'Test Sample Data'!$A$3:$L$98,5,FALSE))) | G19: =IF(A19="","",IF(VLOOKUP($A19,'Test Sample Data'!$A$3:$L$98,6,FALSE)=0,"",VLOOKUP($A19,'Test Sample Data'!$A$3:$L$98,6,FALSE))) | H19: =IF(A19="","",IF(VLOOKUP($A19,'Test Sample Data'!$A$3:$L$98,7,FALSE)=0,"",VLOOKUP($A19,'Test Sample Data'!$A$3:$L$98,7,FALSE))) | I19: =IF(A19="","",IF(VLOOKUP($A19,'Test Sample Data'!$A$3:$L$98,8,FALSE)=0,"",VLOOKUP($A19,'Test Sample Data'!$A$3:$L$98,8,FALSE))) | J19: =IF(A19="","",IF(VLOOKUP($A19,'Test Sample Data'!$A$3:$L$98,9,FALSE)=0,"",VLOOKUP($A19,'Test Sample Data'!$A$3:$L$98,9,FALSE))) | K19: =IF(A19="","",IF(VLOOKUP($A19,'Test Sample Data'!$A$3:$L$98,10,FALSE)=0,"",VLOOKUP($A19,'Test Sample Data'!$A$3:$L$98,10,FALSE))) | L19: =IF(A19="","",IF(VLOOKUP($A19,'Test Sample Data'!$A$3:$L$98,11,FALSE)=0,"",VLOOKUP($A19,'Test Sample Data'!$A$3:$L$98,11,FALSE))) | M19: =IF(A19="","",IF(VLOOKUP($A19,'Test Sample Data'!$A$3:$L$98,12,FALSE)=0,"",VLOOKUP($A19,'Test Sample Data'!$A$3:$L$98,12,FALSE))) | O19: =IF(A19=0,"",A19) | Q19: =IF('Choose Housekeeping Genes'!C19=0,"",'Choose Housekeeping Genes'!C19) | R19: =IF(A19="","",IF(VLOOKUP($A19,'Control Sample Data'!$A$3:$L$98,3,FALSE)=0,"",VLOOKUP($A19,'Control Sample Data'!$A$3:$L$98,3,FALSE))) | S19: =IF(A19="","",IF(VLOOKUP($A19,'Control Sample Data'!$A$3:$L$98,4,FALSE)=0,"",VLOOKUP($A19,'Control Sample Data'!$A$3:$L$98,4,FALSE))) | T19: =IF(A19="","",IF(VLOOKUP($A19,'Control Sample Data'!$A$3:$L$98,5,FALSE)=0,"",VLOOKUP($A19,'Control Sample Data'!$A$3:$L$98,5,FALSE))) | U19: =IF(A19="","",IF(VLOOKUP($A19,'Control Sample Data'!$A$3:$L$98,6,FALSE)=0,"",VLOOKUP($A19,'Control Sample Data'!$A$3:$L$98,6,FALSE))) | V19: =IF(A19="","",IF(VLOOKUP($A19,'Control Sample Data'!$A$3:$L$98,7,FALSE)=0,"",VLOOKUP($A19,'Control Sample Data'!$A$3:$L$98,7,FALSE))) | W19: =IF(A19="","",IF(VLOOKUP($A19,'Control Sample Data'!$A$3:$L$98,8,FALSE)=0,"",VLOOKUP($A19,'Control Sample Data'!$A$3:$L$98,8,FALSE))) | X19: =IF(A19="","",IF(VLOOKUP($A19,'Control Sample Data'!$A$3:$L$98,9,FALSE)=0,"",VLOOKUP($A19,'Control Sample Data'!$A$3:$L$98,9,FALSE))) | Y19: =IF($A19="","",IF(VLOOKUP($A19,'Control Sample Data'!$A$3:$L$98,10,FALSE)=0,"",VLOOKUP($A19,'Control Sample Data'!$A$3:$L$98,10,FALSE))) | Z19: =IF(A19="","",IF(VLOOKUP($A19,'Control Sample Data'!$A$3:$L$98,11,FALSE)=0,"",VLOOKUP($A19,'Control Sample Data'!$A$3:$L$98,11,FALSE))) | AA19: =IF(A19="","",IF(VLOOKUP($A19,'Control Sample Data'!$A$3:$L$98,12,FALSE)=0,"",VLOOKUP($A19,'Control Sample Data'!$A$3:$L$98,12,FALSE)))
... C22: =IF(A22="","",IF(VLOOKUP($A22,'Test Sample Data'!$A$3:$L$98,2,FALSE)=0,"",VLOOKUP($A22,'Test Sample Data'!$A$3:$L$98,2,FALSE))) | D22: =IF(A22="","",IF(VLOOKUP($A22,'Test Sample Data'!$A$3:$L$98,3,FALSE)=0,"",VLOOKUP($A22,'Test Sample Data'!$A$3:$L$98,3,FALSE))) | E22: =IF(A22="","",IF(VLOOKUP($A22,'Test Sample Data'!$A$3:$L$98,4,FALSE)=0,"",VLOOKUP($A22,'Test Sample Data'!$A$3:$L$98,4,FALSE))) | F22: =IF(A22="","",IF(VLOOKUP($A22,'Test Sample Data'!$A$3:$L$98,5,FALSE)=0,"",VLOOKUP($A22,'Test Sample Data'!$A$3:$L$98,5,FALSE))) | G22: =IF(A22="","",IF(VLOOKUP($A22,'Test Sample Data'!$A$3:$L$98,6,FALSE)=0,"",VLOOKUP($A22,'Test Sample Data'!$A$3:$L$98,6,FALSE))) | H22: =IF(A22="","",IF(VLOOKUP($A22,'Test Sample Data'!$A$3:$L$98,7,FALSE)=0,"",VLOOKUP($A22,'Test Sample Data'!$A$3:$L$98,7,FALSE))) | I22: =IF(A22="","",IF(VLOOKUP($A22,'Test Sample Data'!$A$3:$L$98,8,FALSE)=0,"",VLOOKUP($A22,'Test Sample Data'!$A$3:$L$98,8,FALSE))) | J22: =IF(A22="","",IF(VLOOKUP($A22,'Test Sample Data'!$A$3:$L$98,9,FALSE)=0,"",VLOOKUP($A22,'Test Sample Data'!$A$3:$L$98,9,FALSE))) | K22: =IF(A22="","",IF(VLOOKUP($A22,'Test Sample Data'!$A$3:$L$98,10,FALSE)=0,"",VLOOKUP($A22,'Test Sample Data'!$A$3:$L$98,10,FALSE))) | L22: =IF(A22="","",IF(VLOOKUP($A22,'Test Sample Data'!$A$3:$L$98,11,FALSE)=0,"",VLOOKUP($A22,'Test Sample Data'!$A$3:$L$98,11,FALSE))) | M22: =IF(A22="","",IF(VLOOKUP($A22,'Test Sample Data'!$A$3:$L$98,12,FALSE)=0,"",VLOOKUP($A22,'Test Sample Data'!$A$3:$L$98,12,FALSE))) | O22: =IF(A22=0,"",A22) | Q22: =IF('Choose Housekeeping Genes'!C22=0,"",'Choose Housekeeping Genes'!C22) | R22: =IF(A22="","",IF(VLOOKUP($A22,'Control Sample Data'!$A$3:$L$98,3,FALSE)=0,"",VLOOKUP($A22,'Control Sample Data'!$A$3:$L$98,3,FALSE))) | S22: =IF(A22="","",IF(VLOOKUP($A22,'Control Sample Data'!$A$3:$L$98,4,FALSE)=0,"",VLOOKUP($A22,'Control Sample Data'!$A$3:$L$98,4,FALSE))) | T22: =IF(A22="","",IF(VLOOKUP($A22,'Control Sample Data'!$A$3:$L$98,5,FALSE)=0,"",VLOOKUP($A22,'Control Sample Data'!$A$3:$L$98,5,FALSE))) | U22: =IF(A22="","",IF(VLOOKUP($A22,'Control Sample Data'!$A$3:$L$98,6,FALSE)=0,"",VLOOKUP($A22,'Control Sample Data'!$A$3:$L$98,6,FALSE))) | V22: =IF(A22="","",IF(VLOOKUP($A22,'Control Sample Data'!$A$3:$L$98,7,FALSE)=0,"",VLOOKUP($A22,'Control Sample Data'!$A$3:$L$98,7,FALSE))) | W22: =IF(A22="","",IF(VLOOKUP($A22,'Control Sample Data'!$A$3:$L$98,8,FALSE)=0,"",VLOOKUP($A22,'Control Sample Data'!$A$3:$L$98,8,FALSE))) | X22: =IF(A22="","",IF(VLOOKUP($A22,'Control Sample Data'!$A$3:$L$98,9,FALSE)=0,"",VLOOKUP($A22,'Control Sample Data'!$A$3:$L$98,9,FALSE))) | Y22: =IF($A22="","",IF(VLOOKUP($A22,'Control Sample Data'!$A$3:$L$98,10,FALSE)=0,"",VLOOKUP($A22,'Control Sample Data'!$A$3:$L$98,10,FALSE))) | Z22: =IF(A22="","",IF(VLOOKUP($A22,'Control Sample Data'!$A$3:$L$98,11,FALSE)=0,"",VLOOKUP($A22,'Control Sample Data'!$A$3:$L$98,11,FALSE))) | AA22: =IF(A22="","",IF(VLOOKUP($A22,'Control Sample Data'!$A$3:$L$98,12,FALSE)=0,"",VLOOKUP($A22,'Control Sample Data'!$A$3:$L$98,12,FALSE)))
C24: AVG | D24: =IF(ISERROR(GEOMEAN(D3:D22)),"",GEOMEAN(D3:D22)) | E24: =IF(ISERROR(GEOMEAN(E3:E22)),"",GEOMEAN(E3:E22)) | F24: =IF(ISERROR(GEOMEAN(F3:F22)),"",GEOMEAN(F3:F22)) | G24: =IF(ISERROR(GEOMEAN(G3:G22)),"",GEOMEAN(G3:G22)) | H24: =IF(ISERROR(GEOMEAN(H3:H22)),"",GEOMEAN(H3:H22)) | I24: =IF(ISERROR(GEOMEAN(I3:I22)),"",GEOMEAN(I3:I22)) | J24: =IF(ISERROR(GEOMEAN(J3:J22)),"",GEOMEAN(J3:J22)) | K24: =IF(ISERROR(GEOMEAN(K3:K22)),"",GEOMEAN(K3:K22)) | ... M24: =IF(ISERROR(GEOMEAN(M3:M22)),"",GEOMEAN(M3:M22)) | Q24: AVG | R24: =IF(ISERROR(GEOMEAN(R3:R22)),"",GEOMEAN(R3:R22)) | S24: =IF(ISERROR(GEOMEAN(S3:S22)),"",GEOMEAN(S3:S22)) | T24: =IF(ISERROR(GEOMEAN(T3:T22)),"",GEOMEAN(T3:T22)) | U24: =IF(ISERROR(GEOMEAN(U3:U22)),"",GEOMEAN(U3:U22)) | V24: =IF(ISERROR(GEOMEAN(V3:V22)),"",GEOMEAN(V3:V22)) | W24: =IF(ISERROR(GEOMEAN(W3:W22)),"",GEOMEAN(W3:W22)) | X24: =IF(ISERROR(GEOMEAN(X3:X22)),"",GEOMEAN(X3:X22)) | Y24: =IF(ISERROR(GEOMEAN(Y3:Y22)),"",GEOMEAN(Y3:Y22)) | ... AA24: =IF(ISERROR(GEOMEAN(AA3:AA22)),"",GEOMEAN(AA3:AA22))

Sheet QC Report
A1: Overview of the PCR Array Performance and Quality Control | I1: Test Sample = | L1: =Results!E2 -> Test Sample
A2: PCR Array Catalog Number: | C2: =LEFT('Gene Table'!C1,8) -> QM031 | I2: Control Sample = | L2: =Results!F2 -> Control Sample
A4: 1. PCR Array Reproducibility:
A5: =L1 -> Test Sample
A6: Well | B6: exp1 | C6: exp2 | D6: exp3 | E6: exp4 | F6: exp5 | G6: exp6 | H6: exp7 | I6: exp8 | J6: exp9 | K6: exp10 | L6: AVG exp(1-10) | M6: ST DEV exp(1-10)
A7: Average Ct (PCR) | B7: =IF(ISERROR(AVERAGE(Calculations!C98:C99)),"",AVERAGE(Calculations!C98:C99)) | C7: =IF(ISERROR(AVERAGE(Calculations!D98:D99)),"",AVERAGE(Calculations!D98:D99)) | D7: =IF(ISERROR(AVERAGE(Calculations!E98:E99)),"",AVERAGE(Calculations!E98:E99)) | E7: =IF(ISERROR(AVERAGE(Calculations!F98:F99)),"",AVERAGE(Calculations!F98:F99)) | F7: =IF(ISERROR(AVERAGE(Calculations!G98:G99)),"",AVERAGE(Calculations!G98:G99)) | G7: =IF(ISERROR(AVERAGE(Calculations!H98:H99)),"",AVERAGE(Calculations!H98:H99)) | H7: =IF(ISERROR(AVERAGE(Calculations!I98:I99)),"",AVERAGE(Calculations!I98:I99)) | I7: =IF(ISERROR(AVERAGE(Calculations!J98:J99)),"",AVERAGE(Calculations!J98:J99)) | J7: =IF(ISERROR(AVERAGE(Calculations!K98:K99)),"",AVERAGE(Calculations!K98:K99)) | K7: =IF(ISERROR(AVERAGE(Calculations!L98:L99)),"",AVERAGE(Calculations!L97:L99)) | L7: =AVERAGE(B7:K7) -> #DIV/0! | M7: =STDEV(B7:K7) -> #DIV/0!
A8: ST DEV Ct (PCR) | B8: =IF(ISERROR(STDEV(Calculations!C98:C99)),"",STDEV(Calculations!C98:C99)) | C8: =IF(ISERROR(STDEV(Calculations!D98:D99)),"",STDEV(Calculations!D98:D99)) | D8: =IF(ISERROR(STDEV(Calculations!E98:E99)),"",STDEV(Calculations!E98:E99)) | E8: =IF(ISERROR(STDEV(Calculations!F98:F99)),"",STDEV(Calculations!F98:F99)) | F8: =IF(ISERROR(STDEV(Calculations!G98:G99)),"",STDEV(Calculations!G98:G99)) | G8: =IF(ISERROR(STDEV(Calculations!H98:H99)),"",STDEV(Calculations!H98:H99)) | H8: =IF(ISERROR(STDEV(Calculations!I98:I99)),"",STDEV(Calculations!I98:I99)) | I8: =IF(ISERROR(STDEV(Calculations!J98:J99)),"",STDEV(Calculations!J98:J99)) | ... K8: =IF(ISERROR(STDEV(Calculations!L98:L99)),"",STDEV(Calculations!L98:L99)) | L8: =AVERAGE(B8:K8) -> #DIV/0! | M8: --
A9: Average Ct (RT) | B9: =IF(ISERROR(AVERAGE(Calculations!C96:C97)),"",AVERAGE(Calculations!C96:C97)) | C9: =IF(ISERROR(AVERAGE(Calculations!D96:D97)),"",AVERAGE(Calculations!D96:D97)) | D9: =IF(ISERROR(AVERAGE(Calculations!E96:E97)),"",AVERAGE(Calculations!E96:E97)) | E9: =IF(ISERROR(AVERAGE(Calculations!F96:F97)),"",AVERAGE(Calculations!F96:F97)) | F9: =IF(ISERROR(AVERAGE(Calculations!G96:G97)),"",AVERAGE(Calculations!G96:G97)) | G9: =IF(ISERROR(AVERAGE(Calculations!H96:H97)),"",AVERAGE(Calculations!H96:H97)) | H9: =IF(ISERROR(AVERAGE(Calculations!I96:I97)),"",AVERAGE(Calculations!I96:I97)) | I9: =IF(ISERROR(AVERAGE(Calculations!J96:J97)),"",AVERAGE(Calculations!J96:J97)) | ... K9: =IF(ISERROR(AVERAGE(Calculations!L96:L97)),"",AVERAGE(Calculations!L96:L97)) | L9: =AVERAGE(B9:K9) -> #DIV/0! | M9: =STDEV(B9:K9) -> #DIV/0!
A10: ST DEV Ct (RT) | B10: =IF(ISERROR(STDEV(Calculations!C96:C97)),"",STDEV(Calculations!C96:C97)) | C10: =IF(ISERROR(STDEV(Calculations!D96:D97)),"",STDEV(Calculations!D96:D97)) | D10: =IF(ISERROR(STDEV(Calculations!E96:E97)),"",STDEV(Calculations!E96:E97)) | E10: =IF(ISERROR(STDEV(Calculations!F96:F97)),"",STDEV(Calculations!F96:F97)) | F10: =IF(ISERROR(STDEV(Calculations!G96:G97)),"",STDEV(Calculations!G96:G97)) | G10: =IF(ISERROR(STDEV(Calculations!H96:H97)),"",STDEV(Calculations!H96:H97)) | H10: =IF(ISERROR(STDEV(Calculations!I96:I97)),"",STDEV(Calculations!I96:I97)) | I10: =IF(ISERROR(STDEV(Calculations!J96:J97)),"",STDEV(Calculations!J96:J97)) | ... K10: =IF(ISERROR(STDEV(Calculations!L96:L97)),"",STDEV(Calculations!L96:L97)) | L10: =AVERAGE(B10:K10) -> #DIV/0! | M10: --
A11: =L2 -> Control Sample
A12: Well | B12: exp1 | C12: exp2 | D12: exp3 | E12: exp4 | F12: exp5 | G12: exp6 | H12: exp7 | I12: exp8 | J12: exp9 | K12: exp10 | L12: AVG exp(1-10) | M12: ST DEV exp(1-10)
A13: Average Ct (PCR) | B13: =IF(ISERROR(AVERAGE(Calculations!O98:O99)),"",AVERAGE(Calculations!O98:O99)) | C13: =IF(ISERROR(AVERAGE(Calculations!P98:P99)),"",AVERAGE(Calculations!P98:P99)) | D13: =IF(ISERROR(AVERAGE(Calculations!Q98:Q99)),"",AVERAGE(Calculations!Q98:Q99)) | E13: =IF(ISERROR(AVERAGE(Calculations!R98:R99)),"",AVERAGE(Calculations!R98:R99)) | F13: =IF(ISERROR(AVERAGE(Calculations!S98:S99)),"",AVERAGE(Calculations!S98:S99)) | G13: =IF(ISERROR(AVERAGE(Calculations!T98:T99)),"",AVERAGE(Calculations!T98:T99)) | H13: =IF(ISERROR(AVERAGE(Calculations!U98:U99)),"",AVERAGE(Calculations!U98:U99)) | I13: =IF(ISERROR(AVERAGE(Calculations!V98:V99)),"",AVERAGE(Calculations!V98:V99)) | ... K13: =IF(ISERROR(AVERAGE(Calculations!X98:X99)),"",AVERAGE(Calculations!X98:X99)) | L13: =AVERAGE(B13:K13) -> #DIV/0! | M13: =STDEV(B13:K13) -> #DIV/0!
A14: ST DEV Ct (PCR) | B14: =IF(ISERROR(STDEV(Calculations!O98:O99)),"",STDEV(Calculations!O98:O99)) | C14: =IF(ISERROR(STDEV(Calculations!P98:P99)),"",STDEV(Calculations!P98:P99)) | D14: =IF(ISERROR(STDEV(Calculations!Q98:Q99)),"",STDEV(Calculations!Q98:Q99)) | E14: =IF(ISERROR(STDEV(Calculations!R98:R99)),"",STDEV(Calculations!R98:R99)) | F14: =IF(ISERROR(STDEV(Calculations!S98:S99)),"",STDEV(Calculations!S98:S99)) | G14: =IF(ISERROR(STDEV(Calculations!T98:T99)),"",STDEV(Calculations!T98:T99)) | H14: =IF(ISERROR(STDEV(Calculations!U98:U99)),"",STDEV(Calculations!U98:U99)) | I14: =IF(ISERROR(STDEV(Calculations!V98:V99)),"",STDEV(Calculations!V98:V99)) | ... K14: =IF(ISERROR(STDEV(Calculations!X98:X99)),"",STDEV(Calculations!X98:X99)) | L14: =AVERAGE(B14:K14) -> #DIV/0! | M14: --
A15: Average Ct (RT) | B15: =IF(ISERROR(AVERAGE(Calculations!O96:O97)),"",AVERAGE(Calculations!O96:O97)) | C15: =IF(ISERROR(AVERAGE(Calculations!P96:P97)),"",AVERAGE(Calculations!P96:P97)) | D15: =IF(ISERROR(AVERAGE(Calculations!Q96:Q97)),"",AVERAGE(Calculations!Q96:Q97)) | E15: =IF(ISERROR(AVERAGE(Calculations!R96:R97)),"",AVERAGE(Calculations!R96:R97)) | F15: =IF(ISERROR(AVERAGE(Calculations!S96:S97)),"",AVERAGE(Calculations!S96:S97)) | G15: =IF(ISERROR(AVERAGE(Calculations!T96:T97)),"",AVERAGE(Calculations!T96:T97)) | H15: =IF(ISERROR(AVERAGE(Calculations!U96:U97)),"",AVERAGE(Calculations!U96:U97)) | I15: =IF(ISERROR(AVERAGE(Calculations!V96:V97)),"",AVERAGE(Calculations!V96:V97)) | ... K15: =IF(ISERROR(AVERAGE(Calculations!X96:X97)),"",AVERAGE(Calculations!X96:X97)) | L15: =AVERAGE(B15:K15) -> #DIV/0! | M15: =STDEV(B15:K15) -> #DIV/0!
A16: ST DEV Ct (RT) | B16: =IF(ISERROR(STDEV(Calculations!O96:O97)),"",STDEV(Calculations!O96:O97)) | C16: =IF(ISERROR(STDEV(Calculations!P96:P97)),"",STDEV(Calculations!P96:P97)) | D16: =IF(ISERROR(STDEV(Calculations!Q96:Q97)),"",STDEV(Calculations!Q96:Q97)) | E16: =IF(ISERROR(STDEV(Calculations!R96:R97)),"",STDEV(Calculations!R96:R97)) | F16: =IF(ISERROR(STDEV(Calculations!S96:S97)),"",STDEV(Calculations!S96:S97)) | G16: =IF(ISERROR(STDEV(Calculations!T96:T97)),"",STDEV(Calculations!T96:T97)) | H16: =IF(ISERROR(STDEV(Calculations!U96:U97)),"",STDEV(Calculations!U96:U97)) | I16: =IF(ISERROR(STDEV(Calculations!V96:V97)),"",STDEV(Calculations!V96:V97)) | ... K16: =IF(ISERROR(STDEV(Calculations!X96:X97)),"",STDEV(Calculations!X96:X97)) | L16: =AVERAGE(B16:K16) -> #DIV/0! | M16: --
A17: 2. RT:
A18: =L1 -> Test Sample
A19: Well | B19: exp1 | C19: exp2 | D19: exp3 | E19: exp4 | F19: exp5 | G19: exp6 | H19: exp7 | I19: exp8 | J19: exp9 | K19: exp10
A20: AVG RT | B20: =IF(ISERR(B9),"",B9) | C20: =IF(ISERR(C9),"",C9) | D20: =IF(ISERR(D9),"",D9) | E20: =IF(ISERR(E9),"",E9) | F20: =IF(ISERR(F9),"",F9) | G20: =IF(ISERR(G9),"",G9) | H20: =IF(ISERR(H9),"",H9) | I20: =IF(ISERR(I9),"",I9) | ... K20: =IF(ISERR(K9),"",K9)
A21: RT Efficiency | B21: =IF(B20="","",IF(AND(B20>17,B20<23),"Pass","Inquiry")) | C21: =IF(C20="","",IF(AND(C20>17,C20<23),"Pass","Inquiry")) | D21: =IF(D20="","",IF(AND(D20>17,D20<23),"Pass","Inquiry")) | E21: =IF(E20="","",IF(AND(E20>17,E20<23),"Pass","Inquiry")) | F21: =IF(F20="","",IF(AND(F20>17,F20<23),"Pass","Inquiry")) | G21: =IF(G20="","",IF(AND(G20>17,G20<23),"Pass","Inquiry")) | H21: =IF(H20="","",IF(AND(H20>17,H20<23),"Pass","Inquiry")) | I21: =IF(I20="","",IF(AND(I20>17,I20<23),"Pass","Inquiry")) | ... K21: =IF(K20="","",IF(AND(K20>17,K20<23),"Pass","Inquiry"))
A22: =L2 -> Control Sample
A23: Well | B23: exp1 | C23: exp2 | D23: exp3 | E23: exp4 | F23: exp5 | G23: exp6 | H23: exp7 | I23: exp8 | J23: exp9 | K23: exp10
A24: AVG RT | B24: =IF(ISERR(B15),"",B15) | C24: =IF(ISERR(C15),"",C15) | D24: =IF(ISERR(D15),"",D15) | E24: =IF(ISERR(E15),"",E15) | F24: =IF(ISERR(F15),"",F15) | G24: =IF(ISERR(G15),"",G15) | H24: =IF(ISERR(H15),"",H15) | I24: =IF(ISERR(I15),"",I15) | ... K24: =IF(ISERR(K15),"",K15)
A25: RT Efficiency | B25: =IF(B24="","",IF(AND(B24>17,B24<23),"Pass","Inquiry")) | C25: =IF(C24="","",IF(AND(C24>17,C24<23),"Pass","Inquiry")) | D25: =IF(D24="","",IF(AND(D24>17,D24<23),"Pass","Inquiry")) | E25: =IF(E24="","",IF(AND(E24>17,E24<23),"Pass","Inquiry")) | F25: =IF(F24="","",IF(AND(F24>17,F24<23),"Pass","Inquiry")) | G25: =IF(G24="","",IF(AND(G24>17,G24<23),"Pass","Inquiry")) | H25: =IF(H24="","",IF(AND(H24>17,H24<23),"Pass","Inquiry")) | I25: =IF(I24="","",IF(AND(I24>17,I24<23),"Pass","Inquiry")) | ... K25: =IF(K24="","",IF(AND(K24>17,K24<23),"Pass","Inquiry"))
A26: 3. PCR:
A27: =L1 -> Test Sample
A28: Well | B28: exp1 | C28: exp2 | D28: exp3 | E28: exp4 | F28: exp5 | G28: exp6 | H28: exp7 | I28: exp8 | J28: exp9 | K28: exp10
A29: AVG PCR | B29: =IF(ISERR(B7),"",B7) | C29: =IF(ISERR(C7),"",C7) | D29: =IF(ISERR(D7),"",D7) | E29: =IF(ISERR(E7),"",E7) | F29: =IF(ISERR(F7),"",F7) | G29: =IF(ISERR(G7),"",G7) | H29: =IF(ISERR(H7),"",H7) | I29: =IF(ISERR(I7),"",I7) | ... K29: =IF(ISERR(K7),"",K7)
A30: PCR Efficiency | B30: =IF(B29="","",IF(AND(B29>18,B29<22),"Pass","Inquiry")) | C30: =IF(C29="","",IF(AND(C29>18,C29<22),"Pass","Inquiry")) | D30: =IF(D29="","",IF(AND(D29>18,D29<22),"Pass","Inquiry")) | E30: =IF(E29="","",IF(AND(E29>18,E29<22),"Pass","Inquiry")) | F30: =IF(F29="","",IF(AND(F29>18,F29<22),"Pass","Inquiry")) | G30: =IF(G29="","",IF(AND(G29>18,G29<22),"Pass","Inquiry")) | H30: =IF(H29="","",IF(AND(H29>18,H29<22),"Pass","Inquiry")) | I30: =IF(I29="","",IF(AND(I29>18,I29<22),"Pass","Inquiry")) | ... K30: =IF(K29="","",IF(AND(K29>18,K29<22),"Pass","Inquiry"))
A31: =L2 -> Control Sample
A32: Well | B32: exp1 | C32: exp2 | D32: exp3 | E32: exp4 | F32: exp5 | G32: exp6 | H32: exp7 | I32: exp8 | J32: exp9 | K32: exp10
A33: AVG PCR | B33: =IF(ISERR(B13),"",B13) | C33: =IF(ISERR(C13),"",C13) | D33: =IF(ISERR(D13),"",D13) | E33: =IF(ISERR(E13),"",E13) | F33: =IF(ISERR(F13),"",F13) | G33: =IF(ISERR(G13),"",G13) | H33: =IF(ISERR(H13),"",H13) | I33: =IF(ISERR(I13),"",I13) | ... K33: =IF(ISERR(K13),"",K13)
A34: PCR Efficiency | B34: =IF(B33="","",IF(AND(B33>18,B33<22),"Pass","Inquiry")) | C34: =IF(C33="","",IF(AND(C33>18,C33<22),"Pass","Inquiry")) | D34: =IF(D33="","",IF(AND(D33>18,D33<22),"Pass","Inquiry")) | E34: =IF(E33="","",IF(AND(E33>18,E33<22),"Pass","Inquiry")) | F34: =IF(F33="","",IF(AND(F33>18,F33<22),"Pass","Inquiry")) | G34: =IF(G33="","",IF(AND(G33>18,G33<22),"Pass","Inquiry")) | H34: =IF(H33="","",IF(AND(H33>18,H33<22),"Pass","Inquiry")) | I34: =IF(I33="","",IF(AND(I33>18,I33<22),"Pass","Inquiry")) | ... K34: =IF(K33="","",IF(AND(K33>18,K33<22),"Pass","Inquiry"))
A35: 4. NC:
A36: =L1 -> Test Sample
A37: Well | B37: exp1 | C37: exp2 | D37: exp3 | E37: exp4 | F37: exp5 | G37: exp6 | H37: exp7 | I37: exp8 | J37: exp9 | K37: exp10
A38: Ct (NC) | B38: =IF(ISERR(AVERAGE(Calculations!C88:C89)),"",AVERAGE(Calculations!C88:C89)) | C38: =IF(ISERR(AVERAGE(Calculations!D88:D89)),"",AVERAGE(Calculations!D88:D89)) | D38: =IF(ISERR(AVERAGE(Calculations!E88:E89)),"",AVERAGE(Calculations!E88:E89)) | E38: =IF(ISERR(AVERAGE(Calculations!F88:F89)),"",AVERAGE(Calculations!F88:F89)) | F38: =IF(ISERR(AVERAGE(Calculations!G88:G89)),"",AVERAGE(Calculations!G88:G89)) | G38: =IF(ISERR(AVERAGE(Calculations!H88:H89)),"",AVERAGE(Calculations!H88:H89)) | H38: =IF(ISERR(AVERAGE(Calculations!I88:I89)),"",AVERAGE(Calculations!I88:I89)) | I38: =IF(ISERR(AVERAGE(Calculations!J88:J89)),"",AVERAGE(Calculations!J88:J89)) | ... K38: =IF(ISERR(AVERAGE(Calculations!L88:L89)),"",AVERAGE(Calculations!L88:L89))
A39: Negative Control: | B39: =IF(B38="","",IF(B38<35,"Inquiry","PASS")) | C39: =IF(C38="","",IF(C38<35,"Inquiry","PASS")) | D39: =IF(D38="","",IF(D38<35,"Inquiry","PASS")) | E39: =IF(E38="","",IF(E38<35,"Inquiry","PASS")) | F39: =IF(F38="","",IF(F38<35,"Inquiry","PASS")) | G39: =IF(G38="","",IF(G38<35,"Inquiry","PASS")) | H39: =IF(H38="","",IF(H38<35,"Inquiry","PASS")) | I39: =IF(I38="","",IF(I38<35,"Inquiry","PASS")) | ... K39: =IF(K38="","",IF(K38<35,"Inquiry","PASS"))
A40: =L2 -> Control Sample
A41: Well | B41: exp1 | C41: exp2 | D41: exp3 | E41: exp4 | F41: exp5 | G41: exp6 | H41: exp7 | I41: exp8 | J41: exp9 | K41: exp10
A42: Ct (NC) | B42: =IF(ISERR(AVERAGE(Calculations!O88:O89)),"",AVERAGE(Calculations!O88:O89)) | C42: =IF(ISERR(AVERAGE(Calculations!P88:P89)),"",AVERAGE(Calculations!P88:P89)) | D42: =IF(ISERR(AVERAGE(Calculations!Q88:Q89)),"",AVERAGE(Calculations!Q88:Q89)) | E42: =IF(ISERR(AVERAGE(Calculations!R88:R89)),"",AVERAGE(Calculations!R88:R89)) | F42: =IF(ISERR(AVERAGE(Calculations!S88:S89)),"",AVERAGE(Calculations!S88:S89)) | G42: =IF(ISERR(AVERAGE(Calculations!T88:T89)),"",AVERAGE(Calculations!T88:T89)) | H42: =IF(ISERR(AVERAGE(Calculations!U88:U89)),"",AVERAGE(Calculations!U88:U89)) | I42: =IF(ISERR(AVERAGE(Calculations!V88:V89)),"",AVERAGE(Calculations!V88:V89)) | ... K42: =IF(ISERR(AVERAGE(Calculations!X88:X89)),"",AVERAGE(Calculations!X88:X89))
A43: Negative Control: | B43: =IF(B42="","",IF(B42<35,"Inquiry","PASS")) | C43: =IF(C42="","",IF(C42<35,"Inquiry","PASS")) | D43: =IF(D42="","",IF(D42<35,"Inquiry","PASS")) | E43: =IF(E42="","",IF(E42<35,"Inquiry","PASS")) | F43: =IF(F42="","",IF(F42<35,"Inquiry","PASS")) | G43: =IF(G42="","",IF(G42<35,"Inquiry","PASS")) | H43: =IF(H42="","",IF(H42<35,"Inquiry","PASS")) | I43: =IF(I42="","",IF(I42<35,"Inquiry","PASS")) | ... K43: =IF(K42="","",IF(K42<35,"Inquiry","PASS"))

Sheet Results
A1: Symbol | B1: Well | C1: AVG ΔCt (Ct(GOI) - Ave Ct (HKG)) | E1: 2^-ΔCt | G1: Fold Change | H1: T-TEST | I1: Fold Up- or Down-Regulation | J1: Comments
C2: =E2 -> Test Sample | D2: =F2 -> Control Sample | E2: Test Sample | F2: Control Sample | G2: =C2&" /"&D2 -> Test Sample /Control Sample | H2: p value | I2: =C2&" /"&D2 -> Test Sample /Control Sample
A3: ='Gene Table'!D3 -> hsa-miR-16-5p | B3: A01 | C3: =Calculations!BO4 -> N/A | D3: =Calculations!BP4 -> N/A | E3: =IF(ISERROR(2^-C3),"N/A",2^-C3) -> N/A | F3: =IF(ISERROR(2^-D3),"N/A",2^-D3) -> N/A | G3: =IF(ISERROR(E3/F3),"N/A",E3/F3) -> N/A | H3: =IF(OR(COUNT(Calculations!BS4:CB4)<3,COUNT(Calculations!CC4:CL4)<3),"N/A",IF(ISERROR(TTEST(Calculations!CC4:CL4,Calculations!BS4:CB4,2,2)),"N/A",TTEST(Calculations!CC4:CL4,Calculations!BS4:CB4,2,2))) -> N/A | I3: =IF(G3>1,G3,-1/G3) -> N/A | J3: =IF(AND('Test Sample Data'!M3>=35,'Control Sample Data'!M3>=35),"Type 3",IF(AND('Test Sample Data'!M3>=30,'Control Sample Data'!M3>=30,OR(H3>=0.05,I3="N/A")),"Type 2",IF(OR(AND('Test Sample Data'!M3>=30,'Control Sample Data'!M3<=30),AND('Test Sample Data'!M3<=30,'Control Sample Data'!M3>=30)),"Type 1","OKAY"))) -> OKAY
A4: ='Gene Table'!D4 -> hsa-miR-124-3p | B4: A02 | C4: =Calculations!BO5 -> N/A | D4: =Calculations!BP5 -> N/A | E4: =IF(ISERROR(2^-C4),"N/A",2^-C4) -> N/A | F4: =IF(ISERROR(2^-D4),"N/A",2^-D4) -> N/A | G4: =IF(ISERROR(E4/F4),"N/A",E4/F4) -> N/A | H4: =IF(OR(COUNT(Calculations!BS5:CB5)<3,COUNT(Calculations!CC5:CL5)<3),"N/A",IF(ISERROR(TTEST(Calculations!CC5:CL5,Calculations!BS5:CB5,2,2)),"N/A",TTEST(Calculations!CC5:CL5,Calculations!BS5:CB5,2,2))) -> N/A | I4: =IF(G4>1,G4,-1/G4) -> N/A | J4: =IF(AND('Test Sample Data'!M4>=35,'Control Sample Data'!M4>=35),"Type 3",IF(AND('Test Sample Data'!M4>=30,'Control Sample Data'!M4>=30,OR(H4>=0.05,I4="N/A")),"Type 2",IF(OR(AND('Test Sample Data'!M4>=30,'Control Sample Data'!M4<=30),AND('Test Sample Data'!M4<=30,'Control Sample Data'!M4>=30)),"Type 1","OKAY"))) -> OKAY
A5: ='Gene Table'!D5 -> hsa-miR-154-5p | B5: A03 | C5: =Calculations!BO6 -> N/A | D5: =Calculations!BP6 -> N/A | E5: =IF(ISERROR(2^-C5),"N/A",2^-C5) -> N/A | F5: =IF(ISERROR(2^-D5),"N/A",2^-D5) -> N/A | G5: =IF(ISERROR(E5/F5),"N/A",E5/F5) -> N/A | H5: =IF(OR(COUNT(Calculations!BS6:CB6)<3,COUNT(Calculations!CC6:CL6)<3),"N/A",IF(ISERROR(TTEST(Calculations!CC6:CL6,Calculations!BS6:CB6,2,2)),"N/A",TTEST(Calculations!CC6:CL6,Calculations!BS6:CB6,2,2))) -> N/A | I5: =IF(G5>1,G5,-1/G5) -> N/A | J5: =IF(AND('Test Sample Data'!M5>=35,'Control Sample Data'!M5>=35),"Type 3",IF(AND('Test Sample Data'!M5>=30,'Control Sample Data'!M5>=30,OR(H5>=0.05,I5="N/A")),"Type 2",IF(OR(AND('Test Sample Data'!M5>=30,'Control Sample Data'!M5<=30),AND('Test Sample Data'!M5<=30,'Control Sample Data'!M5>=30)),"Type 1","OKAY"))) -> OKAY
A6: ='Gene Table'!D6 -> hsa-miR-26a-5p | B6: A04 | C6: =Calculations!BO7 -> N/A | D6: =Calculations!BP7 -> N/A | E6: =IF(ISERROR(2^-C6),"N/A",2^-C6) -> N/A | F6: =IF(ISERROR(2^-D6),"N/A",2^-D6) -> N/A | G6: =IF(ISERROR(E6/F6),"N/A",E6/F6) -> N/A | H6: =IF(OR(COUNT(Calculations!BS7:CB7)<3,COUNT(Calculations!CC7:CL7)<3),"N/A",IF(ISERROR(TTEST(Calculations!CC7:CL7,Calculations!BS7:CB7,2,2)),"N/A",TTEST(Calculations!CC7:CL7,Calculations!BS7:CB7,2,2))) -> N/A | I6: =IF(G6>1,G6,-1/G6) -> N/A | J6: =IF(AND('Test Sample Data'!M6>=35,'Control Sample Data'!M6>=35),"Type 3",IF(AND('Test Sample Data'!M6>=30,'Control Sample Data'!M6>=30,OR(H6>=0.05,I6="N/A")),"Type 2",IF(OR(AND('Test Sample Data'!M6>=30,'Control Sample Data'!M6<=30),AND('Test Sample Data'!M6<=30,'Control Sample Data'!M6>=30)),"Type 1","OKAY"))) -> OKAY
A7: ='Gene Table'!D7 -> hsa-miR-15b-5p | B7: A05 | C7: =Calculations!BO8 -> N/A | D7: =Calculations!BP8 -> N/A | E7: =IF(ISERROR(2^-C7),"N/A",2^-C7) -> N/A | F7: =IF(ISERROR(2^-D7),"N/A",2^-D7) -> N/A | G7: =IF(ISERROR(E7/F7),"N/A",E7/F7) -> N/A | H7: =IF(OR(COUNT(Calculations!BS8:CB8)<3,COUNT(Calculations!CC8:CL8)<3),"N/A",IF(ISERROR(TTEST(Calculations!CC8:CL8,Calculations!BS8:CB8,2,2)),"N/A",TTEST(Calculations!CC8:CL8,Calculations!BS8:CB8,2,2))) -> N/A | I7: =IF(G7>1,G7,-1/G7) -> N/A | J7: =IF(AND('Test Sample Data'!M7>=35,'Control Sample Data'!M7>=35),"Type 3",IF(AND('Test Sample Data'!M7>=30,'Control Sample Data'!M7>=30,OR(H7>=0.05,I7="N/A")),"Type 2",IF(OR(AND('Test Sample Data'!M7>=30,'Control Sample Data'!M7<=30),AND('Test Sample Data'!M7<=30,'Control Sample Data'!M7>=30)),"Type 1","OKAY"))) -> OKAY
A8: ='Gene Table'!D8 -> hsa-miR-208a | B8: A06 | C8: =Calculations!BO9 -> N/A | D8: =Calculations!BP9 -> N/A | E8: =IF(ISERROR(2^-C8),"N/A",2^-C8) -> N/A | F8: =IF(ISERROR(2^-D8),"N/A",2^-D8) -> N/A | G8: =IF(ISERROR(E8/F8),"N/A",E8/F8) -> N/A | H8: =IF(OR(COUNT(Calculations!BS9:CB9)<3,COUNT(Calculations!CC9:CL9)<3),"N/A",IF(ISERROR(TTEST(Calculations!CC9:CL9,Calculations!BS9:CB9,2,2)),"N/A",TTEST(Calculations!CC9:CL9,Calculations!BS9:CB9,2,2))) -> N/A | I8: =IF(G8>1,G8,-1/G8) -> N/A | J8: =IF(AND('Test Sample Data'!M8>=35,'Control Sample Data'!M8>=35),"Type 3",IF(AND('Test Sample Data'!M8>=30,'Control Sample Data'!M8>=30,OR(H8>=0.05,I8="N/A")),"Type 2",IF(OR(AND('Test Sample Data'!M8>=30,'Control Sample Data'!M8<=30),AND('Test Sample Data'!M8<=30,'Control Sample Data'!M8>=30)),"Type 1","OKAY"))) -> OKAY
A9: ='Gene Table'!D9 -> hsa-miR-208b | B9: A07 | C9: =Calculations!BO10 -> N/A | D9: =Calculations!BP10 -> N/A | E9: =IF(ISERROR(2^-C9),"N/A",2^-C9) -> N/A | F9: =IF(ISERROR(2^-D9),"N/A",2^-D9) -> N/A | G9: =IF(ISERROR(E9/F9),"N/A",E9/F9) -> N/A | H9: =IF(OR(COUNT(Calculations!BS10:CB10)<3,COUNT(Calculations!CC10:CL10)<3),"N/A",IF(ISERROR(TTEST(Calculations!CC10:CL10,Calculations!BS10:CB10,2,2)),"N/A",TTEST(Calculations!CC10:CL10,Calculations!BS10:CB10,2,2))) -> N/A | I9: =IF(G9>1,G9,-1/G9) -> N/A | J9: =IF(AND('Test Sample Data'!M9>=35,'Control Sample Data'!M9>=35),"Type 3",IF(AND('Test Sample Data'!M9>=30,'Control Sample Data'!M9>=30,OR(H9>=0.05,I9="N/A")),"Type 2",IF(OR(AND('Test Sample Data'!M9>=30,'Control Sample Data'!M9<=30),AND('Test Sample Data'!M9<=30,'Control Sample Data'!M9>=30)),"Type 1","OKAY"))) -> OKAY
A10: ='Gene Table'!D10 -> hsa-miR-21-5p | B10: A08 | C10: =Calculations!BO11 -> N/A | D10: =Calculations!BP11 -> N/A | E10: =IF(ISERROR(2^-C10),"N/A",2^-C10) -> N/A | F10: =IF(ISERROR(2^-D10),"N/A",2^-D10) -> N/A | G10: =IF(ISERROR(E10/F10),"N/A",E10/F10) -> N/A | H10: =IF(OR(COUNT(Calculations!BS11:CB11)<3,COUNT(Calculations!CC11:CL11)<3),"N/A",IF(ISERROR(TTEST(Calculations!CC11:CL11,Calculations!BS11:CB11,2,2)),"N/A",TTEST(Calculations!CC11:CL11,Calculations!BS11:CB11,2,2))) -> N/A | I10: =IF(G10>1,G10,-1/G10) -> N/A | J10: =IF(AND('Test Sample Data'!M10>=35,'Control Sample Data'!M10>=35),"Type 3",IF(AND('Test Sample Data'!M10>=30,'Control Sample Data'!M10>=30,OR(H10>=0.05,I10="N/A")),"Type 2",IF(OR(AND('Test Sample Data'!M10>=30,'Control Sample Data'!M10<=30),AND('Test Sample Data'!M10<=30,'Control Sample Data'!M10>=30)),"Type 1","OKAY"))) -> OKAY
A11: ='Gene Table'!D11 -> hsa-miR-210 | B11: A09 | C11: =Calculations!BO12 -> N/A | D11: =Calculations!BP12 -> N/A | E11: =IF(ISERROR(2^-C11),"N/A",2^-C11) -> N/A | F11: =IF(ISERROR(2^-D11),"N/A",2^-D11) -> N/A | G11: =IF(ISERROR(E11/F11),"N/A",E11/F11) -> N/A | H11: =IF(OR(COUNT(Calculations!BS12:CB12)<3,COUNT(Calculations!CC12:CL12)<3),"N/A",IF(ISERROR(TTEST(Calculations!CC12:CL12,Calculations!BS12:CB12,2,2)),"N/A",TTEST(Calculations!CC12:CL12,Calculations!BS12:CB12,2,2))) -> N/A | I11: =IF(G11>1,G11,-1/G11) -> N/A | J11: =IF(AND('Test Sample Data'!M11>=35,'Control Sample Data'!M11>=35),"Type 3",IF(AND('Test Sample Data'!M11>=30,'Control Sample Data'!M11>=30,OR(H11>=0.05,I11="N/A")),"Type 2",IF(OR(AND('Test Sample Data'!M11>=30,'Control Sample Data'!M11<=30),AND('Test Sample Data'!M11<=30,'Control Sample Data'!M11>=30)),"Type 1","OKAY"))) -> OKAY
A12: ='Gene Table'!D12 -> hsa-miR-24-3p | B12: A10 | C12: =Calculations!BO13 -> N/A | D12: =Calculations!BP13 -> N/A | E12: =IF(ISERROR(2^-C12),"N/A",2^-C12) -> N/A | F12: =IF(ISERROR(2^-D12),"N/A",2^-D12) -> N/A | G12: =IF(ISERROR(E12/F12),"N/A",E12/F12) -> N/A | H12: =IF(OR(COUNT(Calculations!BS13:CB13)<3,COUNT(Calculations!CC13:CL13)<3),"N/A",IF(ISERROR(TTEST(Calculations!CC13:CL13,Calculations!BS13:CB13,2,2)),"N/A",TTEST(Calculations!CC13:CL13,Calculations!BS13:CB13,2,2))) -> N/A | I12: =IF(G12>1,G12,-1/G12) -> N/A | J12: =IF(AND('Test Sample Data'!M12>=35,'Control Sample Data'!M12>=35),"Type 3",IF(AND('Test Sample Data'!M12>=30,'Control Sample Data'!M12>=30,OR(H12>=0.05,I12="N/A")),"Type 2",IF(OR(AND('Test Sample Data'!M12>=30,'Control Sample Data'!M12<=30),AND('Test Sample Data'!M12<=30,'Control Sample Data'!M12>=30)),"Type 1","OKAY"))) -> OKAY
A13: ='Gene Table'!D13 -> hsa-miR-423-3p | B13: A11 | C13: =Calculations!BO14 -> N/A | D13: =Calculations!BP14 -> N/A | E13: =IF(ISERROR(2^-C13),"N/A",2^-C13) -> N/A | F13: =IF(ISERROR(2^-D13),"N/A",2^-D13) -> N/A | G13: =IF(ISERROR(E13/F13),"N/A",E13/F13) -> N/A | H13: =IF(OR(COUNT(Calculations!BS14:CB14)<3,COUNT(Calculations!CC14:CL14)<3),"N/A",IF(ISERROR(TTEST(Calculations!CC14:CL14,Calculations!BS14:CB14,2,2)),"N/A",TTEST(Calculations!CC14:CL14,Calculations!BS14:CB14,2,2))) -> N/A | I13: =IF(G13>1,G13,-1/G13) -> N/A | J13: =IF(AND('Test Sample Data'!M13>=35,'Control Sample Data'!M13>=35),"Type 3",IF(AND('Test Sample Data'!M13>=30,'Control Sample Data'!M13>=30,OR(H13>=0.05,I13="N/A")),"Type 2",IF(OR(AND('Test Sample Data'!M13>=30,'Control Sample Data'!M13<=30),AND('Test Sample Data'!M13<=30,'Control Sample Data'!M13>=30)),"Type 1","OKAY"))) -> OKAY
A14: ='Gene Table'!D14 -> hsa-miR-126-3p | B14: A12 | C14: =Calculations!BO15 -> N/A | D14: =Calculations!BP15 -> N/A | E14: =IF(ISERROR(2^-C14),"N/A",2^-C14) -> N/A | F14: =IF(ISERROR(2^-D14),"N/A",2^-D14) -> N/A | G14: =IF(ISERROR(E14/F14),"N/A",E14/F14) -> N/A | H14: =IF(OR(COUNT(Calculations!BS15:CB15)<3,COUNT(Calculations!CC15:CL15)<3),"N/A",IF(ISERROR(TTEST(Calculations!CC15:CL15,Calculations!BS15:CB15,2,2)),"N/A",TTEST(Calculations!CC15:CL15,Calculations!BS15:CB15,2,2))) -> N/A | I14: =IF(G14>1,G14,-1/G14) -> N/A | J14: =IF(AND('Test Sample Data'!M14>=35,'Control Sample Data'!M14>=35),"Type 3",IF(AND('Test Sample Data'!M14>=30,'Control Sample Data'!M14>=30,OR(H14>=0.05,I14="N/A")),"Type 2",IF(OR(AND('Test Sample Data'!M14>=30,'Control Sample Data'!M14<=30),AND('Test Sample Data'!M14<=30,'Control Sample Data'!M14>=30)),"Type 1","OKAY"))) -> OKAY
... A98: ='Gene Table'!D98 -> PCR | B98: H12 | C98: =Calculations!BO99 -> N/A | D98: =Calculations!BP99 -> N/A | E98: =IF(ISERROR(2^-C98),"N/A",2^-C98) -> N/A | F98: =IF(ISERROR(2^-D98),"N/A",2^-D98) -> N/A | G98: =IF(ISERROR(E98/F98),"N/A",E98/F98) -> N/A | H98: =IF(OR(COUNT(Calculations!BS99:CB99)<3,COUNT(Calculations!CC99:CL99)<3),"N/A",IF(ISERROR(TTEST(Calculations!CC99:CL99,Calculations!BS99:CB99,2,2)),"N/A",TTEST(Calculations!CC99:CL99,Calculations!BS99:CB99,2,2))) -> N/A | I98: =IF(G98>1,G98,-1/G98) -> N/A | J98: =IF(AND('Test Sample Data'!M98>=35,'Control Sample Data'!M98>=35),"Type 3",IF(AND('Test Sample Data'!M98>=30,'Control Sample Data'!M98>=30,OR(H98>=0.05,I98="N/A")),"Type 2",IF(OR(AND('Test Sample Data'!M98>=30,'Control Sample Data'!M98<=30),AND('Test Sample Data'!M98<=30,'Control Sample Data'!M98>=30)),"Type 1","OKAY"))) -> OKAY

Sheet 3D Profile

Sheet Data for 3D Profile
A1: 3D Profile | B1: 1 | C1: 2 | D1: 3 | E1: 4 | F1: 5 | G1: 6 | H1: 7 | I1: 8 | J1: 9 | K1: 10 | L1: 11 | M1: 12
A2: A | B2: =OFFSET(Results!$G$2,COLUMN()-1,0) -> N/A | C2: =OFFSET(Results!$G$2,COLUMN()-1,0) -> N/A | D2: =OFFSET(Results!$G$2,COLUMN()-1,0) -> N/A | E2: =OFFSET(Results!$G$2,COLUMN()-1,0) -> N/A | F2: =OFFSET(Results!$G$2,COLUMN()-1,0) -> N/A | G2: =OFFSET(Results!$G$2,COLUMN()-1,0) -> N/A | H2: =OFFSET(Results!$G$2,COLUMN()-1,0) -> N/A | I2: =OFFSET(Results!$G$2,COLUMN()-1,0) -> N/A | ... M2: =OFFSET(Results!$G$2,COLUMN()-1,0) -> N/A
A3: B | B3: =OFFSET(Results!$G$15,COLUMN()-2,0) -> N/A | C3: =OFFSET(Results!$G$15,COLUMN()-2,0) -> N/A | D3: =OFFSET(Results!$G$15,COLUMN()-2,0) -> N/A | E3: =OFFSET(Results!$G$15,COLUMN()-2,0) -> N/A | F3: =OFFSET(Results!$G$15,COLUMN()-2,0) -> N/A | G3: =OFFSET(Results!$G$15,COLUMN()-2,0) -> N/A | H3: =OFFSET(Results!$G$15,COLUMN()-2,0) -> N/A | I3: =OFFSET(Results!$G$15,COLUMN()-2,0) -> N/A | ... M3: =OFFSET(Results!$G$15,COLUMN()-2,0) -> N/A
A4: C | B4: =OFFSET(Results!$G$28,COLUMN()-3,0) -> N/A | C4: =OFFSET(Results!$G$28,COLUMN()-3,0) -> N/A | D4: =OFFSET(Results!$G$28,COLUMN()-3,0) -> N/A | E4: =OFFSET(Results!$G$28,COLUMN()-3,0) -> N/A | F4: =OFFSET(Results!$G$28,COLUMN()-3,0) -> N/A | G4: =OFFSET(Results!$G$28,COLUMN()-3,0) -> N/A | H4: =OFFSET(Results!$G$28,COLUMN()-3,0) -> N/A | I4: =OFFSET(Results!$G$28,COLUMN()-3,0) -> N/A | ... M4: =OFFSET(Results!$G$28,COLUMN()-3,0) -> N/A
A5: D | B5: =OFFSET(Results!$G$41,COLUMN()-4,0) -> N/A | C5: =OFFSET(Results!$G$41,COLUMN()-4,0) -> N/A | D5: =OFFSET(Results!$G$41,COLUMN()-4,0) -> N/A | E5: =OFFSET(Results!$G$41,COLUMN()-4,0) -> N/A | F5: =OFFSET(Results!$G$41,COLUMN()-4,0) -> N/A | G5: =OFFSET(Results!$G$41,COLUMN()-4,0) -> N/A | H5: =OFFSET(Results!$G$41,COLUMN()-4,0) -> N/A | I5: =OFFSET(Results!$G$41,COLUMN()-4,0) -> N/A | ... M5: =OFFSET(Results!$G$41,COLUMN()-4,0) -> N/A
A6: E | B6: =OFFSET(Results!$G$54,COLUMN()-5,0) -> N/A | C6: =OFFSET(Results!$G$54,COLUMN()-5,0) -> N/A | D6: =OFFSET(Results!$G$54,COLUMN()-5,0) -> N/A | E6: =OFFSET(Results!$G$54,COLUMN()-5,0) -> N/A | F6: =OFFSET(Results!$G$54,COLUMN()-5,0) -> N/A | G6: =OFFSET(Results!$G$54,COLUMN()-5,0) -> N/A | H6: =OFFSET(Results!$G$54,COLUMN()-5,0) -> N/A | I6: =OFFSET(Results!$G$54,COLUMN()-5,0) -> N/A | ... M6: =OFFSET(Results!$G$54,COLUMN()-5,0) -> N/A
A7: F | B7: =OFFSET(Results!$G$67,COLUMN()-6,0) -> N/A | C7: =OFFSET(Results!$G$67,COLUMN()-6,0) -> N/A | D7: =OFFSET(Results!$G$67,COLUMN()-6,0) -> N/A | E7: =OFFSET(Results!$G$67,COLUMN()-6,0) -> N/A | F7: =OFFSET(Results!$G$67,COLUMN()-6,0) -> N/A | G7: =OFFSET(Results!$G$67,COLUMN()-6,0) -> N/A | H7: =OFFSET(Results!$G$67,COLUMN()-6,0) -> N/A | I7: =OFFSET(Results!$G$67,COLUMN()-6,0) -> N/A | ... M7: =OFFSET(Results!$G$67,COLUMN()-6,0) -> N/A
A8: G | B8: =OFFSET(Results!$G$80,COLUMN()-7,0) -> N/A | C8: =OFFSET(Results!$G$80,COLUMN()-7,0) -> N/A | D8: =OFFSET(Results!$G$80,COLUMN()-7,0) -> N/A | E8: =OFFSET(Results!$G$80,COLUMN()-7,0) -> N/A | F8: =OFFSET(Results!$G$80,COLUMN()-7,0) -> N/A | G8: =OFFSET(Results!$G$80,COLUMN()-7,0) -> N/A | H8: =OFFSET(Results!$G$80,COLUMN()-7,0) -> N/A | I8: =OFFSET(Results!$G$80,COLUMN()-7,0) -> N/A | ... M8: =OFFSET(Results!$G$80,COLUMN()-7,0) -> N/A

Sheet Scatter Plot
A1: 3
A2: The black line indicates fold changes ((2 ^ (-DCt)) of 1. The pink lines indicate the desired fold-change in gene expression threshold, defined by the user with the entry in cell A1.
A4: The scale of the X and Y axes can be adjusted by double clicking on them and then re-formating using the standard functions of Microsoft Excel. | J4: Scatter Plot | IS4: Scatter Plot
J5: Well | K5: Symbol | L5: 2-ΔCt | IS5: Well | IT5: Symbol | IU5: 2-ΔCt
L6: =Results!C2 -> Test Sample | M6: =Results!D2 -> Control Sample | IU6: =Results!$C2 -> Test Sample | IV6: =Results!$D2 -> Control Sample
J7: ='Gene Table'!A3 -> A01 | K7: ='Gene Table'!D3 -> hsa-miR-16-5p | L7: =IF(ISNUMBER(Results!E3),Results!E3,NA()) -> #N/A | M7: =IF(ISNUMBER(Results!F3),Results!F3,NA()) -> #N/A | IS7: ='Gene Table'!A3 -> A01 | IT7: ='Gene Table'!$D3 -> hsa-miR-16-5p | IU7: =IF(ISNUMBER(L7),L7,"") | IV7: =IF(ISNUMBER(M7),M7,"")
J8: ='Gene Table'!A4 -> A02 | K8: ='Gene Table'!D4 -> hsa-miR-124-3p | L8: =IF(ISNUMBER(Results!E4),Results!E4,NA()) -> #N/A | M8: =IF(ISNUMBER(Results!F4),Results!F4,NA()) -> #N/A | IS8: ='Gene Table'!A4 -> A02 | IT8: ='Gene Table'!$D4 -> hsa-miR-124-3p | IU8: =IF(ISNUMBER(L8),L8,"") | IV8: =IF(ISNUMBER(M8),M8,"")
J9: ='Gene Table'!A5 -> A03 | K9: ='Gene Table'!D5 -> hsa-miR-154-5p | L9: =IF(ISNUMBER(Results!E5),Results!E5,NA()) -> #N/A | M9: =IF(ISNUMBER(Results!F5),Results!F5,NA()) -> #N/A | IS9: ='Gene Table'!A5 -> A03 | IT9: ='Gene Table'!$D5 -> hsa-miR-154-5p | IU9: =IF(ISNUMBER(L9),L9,"") | IV9: =IF(ISNUMBER(M9),M9,"")
J10: ='Gene Table'!A6 -> A04 | K10: ='Gene Table'!D6 -> hsa-miR-26a-5p | L10: =IF(ISNUMBER(Results!E6),Results!E6,NA()) -> #N/A | M10: =IF(ISNUMBER(Results!F6),Results!F6,NA()) -> #N/A | IS10: ='Gene Table'!A6 -> A04 | IT10: ='Gene Table'!$D6 -> hsa-miR-26a-5p | IU10: =IF(ISNUMBER(L10),L10,"") | IV10: =IF(ISNUMBER(M10),M10,"")
J11: ='Gene Table'!A7 -> A05 | K11: ='Gene Table'!D7 -> hsa-miR-15b-5p | L11: =IF(ISNUMBER(Results!E7),Results!E7,NA()) -> #N/A | M11: =IF(ISNUMBER(Results!F7),Results!F7,NA()) -> #N/A | IS11: ='Gene Table'!A7 -> A05 | IT11: ='Gene Table'!$D7 -> hsa-miR-15b-5p | IU11: =IF(ISNUMBER(L11),L11,"") | IV11: =IF(ISNUMBER(M11),M11,"")
B12: =IF(MIN(IU7:IV85)>1,10^(2+INT(LOG(MIN(IU7:IV85)))),10^(INT(LOG(MIN(IU7:IV85))))) -> #NUM! | C12: =B12*'Scatter Plot'!A1 -> #NUM! | D12: =C12 -> #NUM! | E12: =B12 -> #NUM! | F12: =B12 -> #NUM! | J12: ='Gene Table'!A8 -> A06 | K12: ='Gene Table'!D8 -> hsa-miR-208a | L12: =IF(ISNUMBER(Results!E8),Results!E8,NA()) -> #N/A | M12: =IF(ISNUMBER(Results!F8),Results!F8,NA()) -> #N/A | IS12: ='Gene Table'!A8 -> A06 | IT12: ='Gene Table'!$D8 -> hsa-miR-208a | IU12: =IF(ISNUMBER(L12),L12,"") | IV12: =IF(ISNUMBER(M12),M12,"")
B13: =IF(MAX(IU7:IV85)>1,10^(2+INT(LOG(MAX(IU7:IV85)))),10^(INT(LOG(MAX(IU7:IV85)))+1)) -> #NUM! | C13: =B13*'Scatter Plot'!A1 -> #NUM! | D13: =C13 -> #NUM! | E13: =B13 -> #NUM! | F13: =B13 -> #NUM! | J13: ='Gene Table'!A9 -> A07 | K13: ='Gene Table'!D9 -> hsa-miR-208b | L13: =IF(ISNUMBER(Results!E9),Results!E9,NA()) -> #N/A | M13: =IF(ISNUMBER(Results!F9),Results!F9,NA()) -> #N/A | IS13: ='Gene Table'!A9 -> A07 | IT13: ='Gene Table'!$D9 -> hsa-miR-208b | IU13: =IF(ISNUMBER(L13),L13,"") | IV13: =IF(ISNUMBER(M13),M13,"")
J14: ='Gene Table'!A10 -> A08 | K14: ='Gene Table'!D10 -> hsa-miR-21-5p | L14: =IF(ISNUMBER(Results!E10),Results!E10,NA()) -> #N/A | M14: =IF(ISNUMBER(Results!F10),Results!F10,NA()) -> #N/A | IS14: ='Gene Table'!A10 -> A08 | IT14: ='Gene Table'!$D10 -> hsa-miR-21-5p | IU14: =IF(ISNUMBER(L14),L14,"") | IV14: =IF(ISNUMBER(M14),M14,"")
J15: ='Gene Table'!A11 -> A09 | K15: ='Gene Table'!D11 -> hsa-miR-210 | L15: =IF(ISNUMBER(Results!E11),Results!E11,NA()) -> #N/A | M15: =IF(ISNUMBER(Results!F11),Results!F11,NA()) -> #N/A | IS15: ='Gene Table'!A11 -> A09 | IT15: ='Gene Table'!$D11 -> hsa-miR-210 | IU15: =IF(ISNUMBER(L15),L15,"") | IV15: =IF(ISNUMBER(M15),M15,"")
J16: ='Gene Table'!A12 -> A10 | K16: ='Gene Table'!D12 -> hsa-miR-24-3p | L16: =IF(ISNUMBER(Results!E12),Results!E12,NA()) -> #N/A | M16: =IF(ISNUMBER(Results!F12),Results!F12,NA()) -> #N/A | IS16: ='Gene Table'!A12 -> A10 | IT16: ='Gene Table'!$D12 -> hsa-miR-24-3p | IU16: =IF(ISNUMBER(L16),L16,"") | IV16: =IF(ISNUMBER(M16),M16,"")
J17: ='Gene Table'!A13 -> A11 | K17: ='Gene Table'!D13 -> hsa-miR-423-3p | L17: =IF(ISNUMBER(Results!E13),Results!E13,NA()) -> #N/A | M17: =IF(ISNUMBER(Results!F13),Results!F13,NA()) -> #N/A | IS17: ='Gene Table'!A13 -> A11 | IT17: ='Gene Table'!$D13 -> hsa-miR-423-3p | IU17: =IF(ISNUMBER(L17),L17,"") | IV17: =IF(ISNUMBER(M17),M17,"")
J18: ='Gene Table'!A14 -> A12 | K18: ='Gene Table'!D14 -> hsa-miR-126-3p | L18: =IF(ISNUMBER(Results!E14),Results!E14,NA()) -> #N/A | M18: =IF(ISNUMBER(Results!F14),Results!F14,NA()) -> #N/A | IS18: ='Gene Table'!A14 -> A12 | IT18: ='Gene Table'!$D14 -> hsa-miR-126-3p | IU18: =IF(ISNUMBER(L18),L18,"") | IV18: =IF(ISNUMBER(M18),M18,"")
J19: ='Gene Table'!A15 -> B01 | K19: ='Gene Table'!D15 -> hsa-miR-132-3p | L19: =IF(ISNUMBER(Results!E15),Results!E15,NA()) -> #N/A | M19: =IF(ISNUMBER(Results!F15),Results!F15,NA()) -> #N/A | IS19: ='Gene Table'!A15 -> B01 | IT19: ='Gene Table'!$D15 -> hsa-miR-132-3p | IU19: =IF(ISNUMBER(L19),L19,"") | IV19: =IF(ISNUMBER(M19),M19,"")
J20: ='Gene Table'!A16 -> B02 | K20: ='Gene Table'!D16 -> hsa-miR-134 | L20: =IF(ISNUMBER(Results!E16),Results!E16,NA()) -> #N/A | M20: =IF(ISNUMBER(Results!F16),Results!F16,NA()) -> #N/A | IS20: ='Gene Table'!A16 -> B02 | IT20: ='Gene Table'!$D16 -> hsa-miR-134 | IU20: =IF(ISNUMBER(L20),L20,"") | IV20: =IF(ISNUMBER(M20),M20,"")
J21: ='Gene Table'!A17 -> B03 | K21: ='Gene Table'!D17 -> hsa-miR-142-5p | L21: =IF(ISNUMBER(Results!E17),Results!E17,NA()) -> #N/A | M21: =IF(ISNUMBER(Results!F17),Results!F17,NA()) -> #N/A | IS21: ='Gene Table'!A17 -> B03 | IT21: ='Gene Table'!$D17 -> hsa-miR-142-5p | IU21: =IF(ISNUMBER(L21),L21,"") | IV21: =IF(ISNUMBER(M21),M21,"")
J22: ='Gene Table'!A18 -> B04 | K22: ='Gene Table'!D18 -> hsa-miR-185-5p | L22: =IF(ISNUMBER(Results!E18),Results!E18,NA()) -> #N/A | M22: =IF(ISNUMBER(Results!F18),Results!F18,NA()) -> #N/A | IS22: ='Gene Table'!A18 -> B04 | IT22: ='Gene Table'!$D18 -> hsa-miR-185-5p | IU22: =IF(ISNUMBER(L22),L22,"") | IV22: =IF(ISNUMBER(M22),M22,"")
J23: ='Gene Table'!A19 -> B05 | K23: ='Gene Table'!D19 -> hsa-miR-195-5p | L23: =IF(ISNUMBER(Results!E19),Results!E19,NA()) -> #N/A | M23: =IF(ISNUMBER(Results!F19),Results!F19,NA()) -> #N/A | IS23: ='Gene Table'!A19 -> B05 | IT23: ='Gene Table'!$D19 -> hsa-miR-195-5p | IU23: =IF(ISNUMBER(L23),L23,"") | IV23: =IF(ISNUMBER(M23),M23,"")
J24: ='Gene Table'!A20 -> B06 | K24: ='Gene Table'!D20 -> hsa-miR-221-3p | L24: =IF(ISNUMBER(Results!E20),Results!E20,NA()) -> #N/A | M24: =IF(ISNUMBER(Results!F20),Results!F20,NA()) -> #N/A | IS24: ='Gene Table'!A20 -> B06 | IT24: ='Gene Table'!$D20 -> hsa-miR-221-3p | IU24: =IF(ISNUMBER(L24),L24,"") | IV24: =IF(ISNUMBER(M24),M24,"")
J25: ='Gene Table'!A21 -> B07 | K25: ='Gene Table'!D21 -> hsa-miR-223-3p | L25: =IF(ISNUMBER(Results!E21),Results!E21,NA()) -> #N/A | M25: =IF(ISNUMBER(Results!F21),Results!F21,NA()) -> #N/A | IS25: ='Gene Table'!A21 -> B07 | IT25: ='Gene Table'!$D21 -> hsa-miR-223-3p | IU25: =IF(ISNUMBER(L25),L25,"") | IV25: =IF(ISNUMBER(M25),M25,"")
... J85: ='Gene Table'!A81 -> G07 | K85: ='Gene Table'!D81 -> hsa-miR-199a-5p | L85: =IF(ISNUMBER(Results!E81),Results!E81,NA()) -> #N/A | M85: =IF(ISNUMBER(Results!F81),Results!F81,NA()) -> #N/A | IS85: ='Gene Table'!A81 -> G07 | IT85: ='Gene Table'!$D81 -> hsa-miR-199a-5p | IU85: =IF(ISNUMBER(L85),L85,"") | IV85: =IF(ISNUMBER(M85),M85,"")
J86: ='Gene Table'!A82 -> G08 | K86: ='Gene Table'!D82 -> hsa-miR-200c-3p | L86: =IF(ISNUMBER(Results!E82),Results!E82,NA()) -> #N/A | M86: =IF(ISNUMBER(Results!F82),Results!F82,NA()) -> #N/A
J87: ='Gene Table'!A83 -> G09 | K87: ='Gene Table'!D83 -> hsa-miR-29a-3p | L87: =IF(ISNUMBER(Results!E83),Results!E83,NA()) -> #N/A | M87: =IF(ISNUMBER(Results!F83),Results!F83,NA()) -> #N/A
J88: ='Gene Table'!A84 -> G10 | K88: ='Gene Table'!D84 -> hsa-miR-23a-3p | L88: =IF(ISNUMBER(Results!E84),Results!E84,NA()) -> #N/A | M88: =IF(ISNUMBER(Results!F84),Results!F84,NA()) -> #N/A
J89: ='Gene Table'!A85 -> G11 | K89: ='Gene Table'!D85 -> hsa-miR-320a | L89: =IF(ISNUMBER(Results!E85),Results!E85,NA()) -> #N/A | M89: =IF(ISNUMBER(Results!F85),Results!F85,NA()) -> #N/A
J90: ='Gene Table'!A86 -> G12 | K90: ='Gene Table'!D86 -> hsa-miR-133a | L90: =IF(ISNUMBER(Results!E86),Results!E86,NA()) -> #N/A | M90: =IF(ISNUMBER(Results!F86),Results!F86,NA()) -> #N/A

Sheet Volcano Plot
A1: Threshold for Fold Difference | D1: 3 | F1: Threshold for p Value of t-test | I1: 0.05
A2: The black line indicates a fold-change in gene expression of 1. The pink lines indicate the desired fold-change in gene expression threshold, as defined by the user in the yellow D1 cell.
A3: The blue line indicates the desired threshold for the p value of the t-test, as defined by user in the yellow I1 cell.
A4: The scale of the X and Y axes can be adjusted by double clicking on them and then re-formating using the standard functions of Microsoft Excel.
M5: Volcano Plot | IU5: Volcano Plot
K6: Well | L6: Symbol | M6: Log2(FC) | N6: p Value | O6: Comments | IS6: Well | IT6: Symbol | IU6: Log2(FC) | IV6: p Value
K7: ='Gene Table'!A3 -> A01 | L7: ='Gene Table'!D3 -> hsa-miR-16-5p | M7: =IF(ISNUMBER(Results!G3),LOG(Results!G3,2),NA()) -> #N/A | N7: =IF(ISNUMBER(Results!H3),Results!H3,NA()) -> #N/A | O7: =Results!J3 -> OKAY | IS7: ='Gene Table'!A3 -> A01 | IT7: ='Gene Table'!D3 -> hsa-miR-16-5p | IU7: =IF(ISNUMBER(M7),M7,"") | IV7: =IF(ISNUMBER(N7),N7,"")
K8: ='Gene Table'!A4 -> A02 | L8: ='Gene Table'!D4 -> hsa-miR-124-3p | M8: =IF(ISNUMBER(Results!G4),LOG(Results!G4,2),NA()) -> #N/A | N8: =IF(ISNUMBER(Results!H4),Results!H4,NA()) -> #N/A | O8: =Results!J4 -> OKAY | IS8: ='Gene Table'!A4 -> A02 | IT8: ='Gene Table'!D4 -> hsa-miR-124-3p | IU8: =IF(ISNUMBER(M8),M8,"") | IV8: =IF(ISNUMBER(N8),N8,"")
B9: =ROUNDUP(MIN(IU7:IU90),0)-10 -> -10 | C9: ='Volcano Plot'!I1 -> 0.05 | K9: ='Gene Table'!A5 -> A03 | L9: ='Gene Table'!D5 -> hsa-miR-154-5p | M9: =IF(ISNUMBER(Results!G5),LOG(Results!G5,2),NA()) -> #N/A | N9: =IF(ISNUMBER(Results!H5),Results!H5,NA()) -> #N/A | O9: =Results!J5 -> OKAY | IS9: ='Gene Table'!A5 -> A03 | IT9: ='Gene Table'!D5 -> hsa-miR-154-5p | IU9: =IF(ISNUMBER(M9),M9,"") | IV9: =IF(ISNUMBER(N9),N9,"")
B10: =ROUNDUP(MAX(IU7:IU90),0)+10 -> 10 | C10: =C9 -> 0.05 | K10: ='Gene Table'!A6 -> A04 | L10: ='Gene Table'!D6 -> hsa-miR-26a-5p | M10: =IF(ISNUMBER(Results!G6),LOG(Results!G6,2),NA()) -> #N/A | N10: =IF(ISNUMBER(Results!H6),Results!H6,NA()) -> #N/A | O10: =Results!J6 -> OKAY | IS10: ='Gene Table'!A6 -> A04 | IT10: ='Gene Table'!D6 -> hsa-miR-26a-5p | IU10: =IF(ISNUMBER(M10),M10,"") | IV10: =IF(ISNUMBER(N10),N10,"")
K11: ='Gene Table'!A7 -> A05 | L11: ='Gene Table'!D7 -> hsa-miR-15b-5p | M11: =IF(ISNUMBER(Results!G7),LOG(Results!G7,2),NA()) -> #N/A | N11: =IF(ISNUMBER(Results!H7),Results!H7,NA()) -> #N/A | O11: =Results!J7 -> OKAY | IS11: ='Gene Table'!A7 -> A05 | IT11: ='Gene Table'!D7 -> hsa-miR-15b-5p | IU11: =IF(ISNUMBER(M11),M11,"") | IV11: =IF(ISNUMBER(N11),N11,"")
B12: 1 | C12: =LOG('Volcano Plot'!D$1,2) -> 1.5849625 | D12: =-1*C12 -> -1.5849625 | E12: 0 | K12: ='Gene Table'!A8 -> A06 | L12: ='Gene Table'!D8 -> hsa-miR-208a | M12: =IF(ISNUMBER(Results!G8),LOG(Results!G8,2),NA()) -> #N/A | N12: =IF(ISNUMBER(Results!H8),Results!H8,NA()) -> #N/A | O12: =Results!J8 -> OKAY | IS12: ='Gene Table'!A8 -> A06 | IT12: ='Gene Table'!D8 -> hsa-miR-208a | IU12: =IF(ISNUMBER(M12),M12,"") | IV12: =IF(ISNUMBER(N12),N12,"")
B13: =10^(ROUND(LOG(MIN(IV7:IV90)),0)-1) -> #NUM! | C13: =LOG('Volcano Plot'!D$1,2) -> 1.5849625 | D13: =-1*C13 -> -1.5849625 | E13: 0 | K13: ='Gene Table'!A9 -> A07 | L13: ='Gene Table'!D9 -> hsa-miR-208b | M13: =IF(ISNUMBER(Results!G9),LOG(Results!G9,2),NA()) -> #N/A | N13: =IF(ISNUMBER(Results!H9),Results!H9,NA()) -> #N/A | O13: =Results!J9 -> OKAY | IS13: ='Gene Table'!A9 -> A07 | IT13: ='Gene Table'!D9 -> hsa-miR-208b | IU13: =IF(ISNUMBER(M13),M13,"") | IV13: =IF(ISNUMBER(N13),N13,"")
K14: ='Gene Table'!A10 -> A08 | L14: ='Gene Table'!D10 -> hsa-miR-21-5p | M14: =IF(ISNUMBER(Results!G10),LOG(Results!G10,2),NA()) -> #N/A | N14: =IF(ISNUMBER(Results!H10),Results!H10,NA()) -> #N/A | O14: =Results!J10 -> OKAY | IS14: ='Gene Table'!A10 -> A08 | IT14: ='Gene Table'!D10 -> hsa-miR-21-5p | IU14: =IF(ISNUMBER(M14),M14,"") | IV14: =IF(ISNUMBER(N14),N14,"")
K15: ='Gene Table'!A11 -> A09 | L15: ='Gene Table'!D11 -> hsa-miR-210 | M15: =IF(ISNUMBER(Results!G11),LOG(Results!G11,2),NA()) -> #N/A | N15: =IF(ISNUMBER(Results!H11),Results!H11,NA()) -> #N/A | O15: =Results!J11 -> OKAY | IS15: ='Gene Table'!A11 -> A09 | IT15: ='Gene Table'!D11 -> hsa-miR-210 | IU15: =IF(ISNUMBER(M15),M15,"") | IV15: =IF(ISNUMBER(N15),N15,"")
K16: ='Gene Table'!A12 -> A10 | L16: ='Gene Table'!D12 -> hsa-miR-24-3p | M16: =IF(ISNUMBER(Results!G12),LOG(Results!G12,2),NA()) -> #N/A | N16: =IF(ISNUMBER(Results!H12),Results!H12,NA()) -> #N/A | O16: =Results!J12 -> OKAY | IS16: ='Gene Table'!A12 -> A10 | IT16: ='Gene Table'!D12 -> hsa-miR-24-3p | IU16: =IF(ISNUMBER(M16),M16,"") | IV16: =IF(ISNUMBER(N16),N16,"")
K17: ='Gene Table'!A13 -> A11 | L17: ='Gene Table'!D13 -> hsa-miR-423-3p | M17: =IF(ISNUMBER(Results!G13),LOG(Results!G13,2),NA()) -> #N/A | N17: =IF(ISNUMBER(Results!H13),Results!H13,NA()) -> #N/A | O17: =Results!J13 -> OKAY | IS17: ='Gene Table'!A13 -> A11 | IT17: ='Gene Table'!D13 -> hsa-miR-423-3p | IU17: =IF(ISNUMBER(M17),M17,"") | IV17: =IF(ISNUMBER(N17),N17,"")
K18: ='Gene Table'!A14 -> A12 | L18: ='Gene Table'!D14 -> hsa-miR-126-3p | M18: =IF(ISNUMBER(Results!G14),LOG(Results!G14,2),NA()) -> #N/A | N18: =IF(ISNUMBER(Results!H14),Results!H14,NA()) -> #N/A | O18: =Results!J14 -> OKAY | IS18: ='Gene Table'!A14 -> A12 | IT18: ='Gene Table'!D14 -> hsa-miR-126-3p | IU18: =IF(ISNUMBER(M18),M18,"") | IV18: =IF(ISNUMBER(N18),N18,"")
K19: ='Gene Table'!A15 -> B01 | L19: ='Gene Table'!D15 -> hsa-miR-132-3p | M19: =IF(ISNUMBER(Results!G15),LOG(Results!G15,2),NA()) -> #N/A | N19: =IF(ISNUMBER(Results!H15),Results!H15,NA()) -> #N/A | O19: =Results!J15 -> OKAY | IS19: ='Gene Table'!A15 -> B01 | IT19: ='Gene Table'!D15 -> hsa-miR-132-3p | IU19: =IF(ISNUMBER(M19),M19,"") | IV19: =IF(ISNUMBER(N19),N19,"")
K20: ='Gene Table'!A16 -> B02 | L20: ='Gene Table'!D16 -> hsa-miR-134 | M20: =IF(ISNUMBER(Results!G16),LOG(Results!G16,2),NA()) -> #N/A | N20: =IF(ISNUMBER(Results!H16),Results!H16,NA()) -> #N/A | O20: =Results!J16 -> OKAY | IS20: ='Gene Table'!A16 -> B02 | IT20: ='Gene Table'!D16 -> hsa-miR-134 | IU20: =IF(ISNUMBER(M20),M20,"") | IV20: =IF(ISNUMBER(N20),N20,"")
K21: ='Gene Table'!A17 -> B03 | L21: ='Gene Table'!D17 -> hsa-miR-142-5p | M21: =IF(ISNUMBER(Results!G17),LOG(Results!G17,2),NA()) -> #N/A | N21: =IF(ISNUMBER(Results!H17),Results!H17,NA()) -> #N/A | O21: =Results!J17 -> OKAY | IS21: ='Gene Table'!A17 -> B03 | IT21: ='Gene Table'!D17 -> hsa-miR-142-5p | IU21: =IF(ISNUMBER(M21),M21,"") | IV21: =IF(ISNUMBER(N21),N21,"")
K22: ='Gene Table'!A18 -> B04 | L22: ='Gene Table'!D18 -> hsa-miR-185-5p | M22: =IF(ISNUMBER(Results!G18),LOG(Results!G18,2),NA()) -> #N/A | N22: =IF(ISNUMBER(Results!H18),Results!H18,NA()) -> #N/A | O22: =Results!J18 -> OKAY | IS22: ='Gene Table'!A18 -> B04 | IT22: ='Gene Table'!D18 -> hsa-miR-185-5p | IU22: =IF(ISNUMBER(M22),M22,"") | IV22: =IF(ISNUMBER(N22),N22,"")
K23: ='Gene Table'!A19 -> B05 | L23: ='Gene Table'!D19 -> hsa-miR-195-5p | M23: =IF(ISNUMBER(Results!G19),LOG(Results!G19,2),NA()) -> #N/A | N23: =IF(ISNUMBER(Results!H19),Results!H19,NA()) -> #N/A | O23: =Results!J19 -> OKAY | IS23: ='Gene Table'!A19 -> B05 | IT23: ='Gene Table'!D19 -> hsa-miR-195-5p | IU23: =IF(ISNUMBER(M23),M23,"") | IV23: =IF(ISNUMBER(N23),N23,"")
K24: ='Gene Table'!A20 -> B06 | L24: ='Gene Table'!D20 -> hsa-miR-221-3p | M24: =IF(ISNUMBER(Results!G20),LOG(Results!G20,2),NA()) -> #N/A | N24: =IF(ISNUMBER(Results!H20),Results!H20,NA()) -> #N/A | O24: =Results!J20 -> OKAY | IS24: ='Gene Table'!A20 -> B06 | IT24: ='Gene Table'!D20 -> hsa-miR-221-3p | IU24: =IF(ISNUMBER(M24),M24,"") | IV24: =IF(ISNUMBER(N24),N24,"")
K25: ='Gene Table'!A21 -> B07 | L25: ='Gene Table'!D21 -> hsa-miR-223-3p | M25: =IF(ISNUMBER(Results!G21),LOG(Results!G21,2),NA()) -> #N/A | N25: =IF(ISNUMBER(Results!H21),Results!H21,NA()) -> #N/A | O25: =Results!J21 -> OKAY | IS25: ='Gene Table'!A21 -> B07 | IT25: ='Gene Table'!D21 -> hsa-miR-223-3p | IU25: =IF(ISNUMBER(M25),M25,"") | IV25: =IF(ISNUMBER(N25),N25,"")
... K85: ='Gene Table'!A81 -> G07 | L85: ='Gene Table'!D81 -> hsa-miR-199a-5p | M85: =IF(ISNUMBER(Results!G81),LOG(Results!G81,2),NA()) -> #N/A | N85: =IF(ISNUMBER(Results!H81),Results!H81,NA()) -> #N/A | O85: =Results!J81 -> OKAY | IS85: ='Gene Table'!A81 -> G07 | IT85: ='Gene Table'!D81 -> hsa-miR-199a-5p | IU85: =IF(ISNUMBER(M85),M85,"") | IV85: =IF(ISNUMBER(N85),N85,"")
K86: ='Gene Table'!A82 -> G08 | L86: ='Gene Table'!D82 -> hsa-miR-200c-3p | M86: =IF(ISNUMBER(Results!G82),LOG(Results!G82,2),NA()) -> #N/A | N86: =IF(ISNUMBER(Results!H82),Results!H82,NA()) -> #N/A | O86: =Results!J82 -> OKAY
K87: ='Gene Table'!A83 -> G09 | L87: ='Gene Table'!D83 -> hsa-miR-29a-3p | M87: =IF(ISNUMBER(Results!G83),LOG(Results!G83,2),NA()) -> #N/A | N87: =IF(ISNUMBER(Results!H83),Results!H83,NA()) -> #N/A | O87: =Results!J83 -> OKAY
K88: ='Gene Table'!A84 -> G10 | L88: ='Gene Table'!D84 -> hsa-miR-23a-3p | M88: =IF(ISNUMBER(Results!G84),LOG(Results!G84,2),NA()) -> #N/A | N88: =IF(ISNUMBER(Results!H84),Results!H84,NA()) -> #N/A | O88: =Results!J84 -> OKAY
K89: ='Gene Table'!A85 -> G11 | L89: ='Gene Table'!D85 -> hsa-miR-320a | M89: =IF(ISNUMBER(Results!G85),LOG(Results!G85,2),NA()) -> #N/A | N89: =IF(ISNUMBER(Results!H85),Results!H85,NA()) -> #N/A | O89: =Results!J85 -> OKAY
K90: ='Gene Table'!A86 -> G12 | L90: ='Gene Table'!D86 -> hsa-miR-133a | M90: =IF(ISNUMBER(Results!G86),LOG(Results!G86,2),NA()) -> #N/A | N90: =IF(ISNUMBER(Results!H86),Results!H86,NA()) -> #N/A | O90: =Results!J86 -> OKAY

Sheet Calculations
C1: >35 and (N/A or blank) to 35 | O1: >35 and (N/A or blank) to 35 | Y1: Housekeeping Genes | AU1: Normalized ΔCt (Ct(GOI) - Ave Ct (HKG)) | BO1: AVG Normalized Ct | BS1: 2^ -ΔCt (Ct(GOI) - Ave Ct (HKG))
A2: Symbol | B2: Well | C2: =BO2 -> Test Sample | M2: Symbol | N2: Well | O2: =BP2 -> Control Sample | Y2: =BO2 -> Test Sample | AI2: =BP2 -> Control Sample | AS2: Symbol | AT2: Well | AU2: =C2 -> Test Sample | BE2: =O2 -> Control Sample | BO2: =Results!C2 -> Test Sample | BP2: =Results!D2 -> Control Sample | BQ2: Symbol | BR2: Well | BS2: =C2 -> Test Sample | CC2: =O2 -> Control Sample
C3: exp1 | D3: exp2 | E3: exp3 | F3: exp4 | G3: exp5 | H3: exp6 | I3: exp7 | J3: exp8 | K3: exp9 | L3: exp10 | O3: exp1 | P3: exp2 | Q3: exp3 | R3: exp4 | S3: exp5 | T3: exp6 | U3: exp7 | V3: exp8 | W3: exp9 | X3: exp10 | Y3: exp1 | Z3: exp2 | AA3: exp3 | AB3: exp4 | AC3: exp5 | AD3: exp6 | AE3: exp7 | AF3: exp8 | AG3: exp9 | AH3: exp10 | AI3: exp1 | AJ3: exp2 | AK3: exp3 | AL3: exp4 | AM3: exp5 | AN3: exp6 | AO3: exp7 | AP3: exp8 | AQ3: exp9 | AR3: exp10 | AU3: exp1 | AV3: exp2 | AW3: exp3 | AX3: exp4 | AY3: exp5 | AZ3: exp6 | BA3: exp7 | BB3: exp8 | BC3: exp9 | BD3: exp10 | BE3: exp1 | BF3: exp2 | BG3: exp3 | BH3: exp4 | BI3: exp5 | BJ3: exp6 | BK3: exp7 | BL3: exp8 | BM3: exp9 | BN3: exp10 | BS3: exp1 | BT3: exp2 | BU3: exp3 | BV3: exp4 | BW3: exp5 | BX3: exp6 | BY3: exp7 | BZ3: exp8 | CA3: exp9 | CB3: exp10 | CC3: exp1 | CD3: exp2 | CE3: exp3 | CF3: exp4 | CG3: exp5 | CH3: exp6 | CI3: exp7 | CJ3: exp8 | CK3: exp9 | CL3: exp10
A4: ='Gene Table'!D3 -> hsa-miR-16-5p | B4: A01 | C4: =IF('Test Sample Data'!C3="","",IF(SUM('Test Sample Data'!C$3:C$98)>10,IF(AND(ISNUMBER('Test Sample Data'!C3),'Test Sample Data'!C3<35,'Test Sample Data'!C3>0),'Test Sample Data'!C3,35),"")) | D4: =IF('Test Sample Data'!D3="","",IF(SUM('Test Sample Data'!D$3:D$98)>10,IF(AND(ISNUMBER('Test Sample Data'!D3),'Test Sample Data'!D3<35,'Test Sample Data'!D3>0),'Test Sample Data'!D3,35),"")) | E4: =IF('Test Sample Data'!E3="","",IF(SUM('Test Sample Data'!E$3:E$98)>10,IF(AND(ISNUMBER('Test Sample Data'!E3),'Test Sample Data'!E3<35,'Test Sample Data'!E3>0),'Test Sample Data'!E3,35),"")) | F4: =IF('Test Sample Data'!F3="","",IF(SUM('Test Sample Data'!F$3:F$98)>10,IF(AND(ISNUMBER('Test Sample Data'!F3),'Test Sample Data'!F3<35,'Test Sample Data'!F3>0),'Test Sample Data'!F3,35),"")) | G4: =IF('Test Sample Data'!G3="","",IF(SUM('Test Sample Data'!G$3:G$98)>10,IF(AND(ISNUMBER('Test Sample Data'!G3),'Test Sample Data'!G3<35,'Test Sample Data'!G3>0),'Test Sample Data'!G3,35),"")) | H4: =IF('Test Sample Data'!H3="","",IF(SUM('Test Sample Data'!H$3:H$98)>10,IF(AND(ISNUMBER('Test Sample Data'!H3),'Test Sample Data'!H3<35,'Test Sample Data'!H3>0),'Test Sample Data'!H3,35),"")) | I4: =IF('Test Sample Data'!I3="","",IF(SUM('Test Sample Data'!I$3:I$98)>10,IF(AND(ISNUMBER('Test Sample Data'!I3),'Test Sample Data'!I3<35,'Test Sample Data'!I3>0),'Test Sample Data'!I3,35),"")) | J4: =IF('Test Sample Data'!J3="","",IF(SUM('Test Sample Data'!J$3:J$98)>10,IF(AND(ISNUMBER('Test Sample Data'!J3),'Test Sample Data'!J3<35,'Test Sample Data'!J3>0),'Test Sample Data'!J3,35),"")) | ... L4: =IF('Test Sample Data'!L3="","",IF(SUM('Test Sample Data'!L$3:L$98)>10,IF(AND(ISNUMBER('Test Sample Data'!L3),'Test Sample Data'!L3<35,'Test Sample Data'!L3>0),'Test Sample Data'!L3,35),"")) | M4: ='Gene Table'!D3 -> hsa-miR-16-5p | N4: A01 | O4: =IF('Control Sample Data'!C3="","",IF(SUM('Control Sample Data'!C$3:C$98)>10,IF(AND(ISNUMBER('Control Sample Data'!C3),'Control Sample Data'!C3<35,'Control Sample Data'!C3>0),'Control Sample Data'!C3,35),"")) | P4: =IF('Control Sample Data'!D3="","",IF(SUM('Control Sample Data'!D$3:D$98)>10,IF(AND(ISNUMBER('Control Sample Data'!D3),'Control Sample Data'!D3<35,'Control Sample Data'!D3>0),'Control Sample Data'!D3,35),"")) | Q4: =IF('Control Sample Data'!E3="","",IF(SUM('Control Sample Data'!E$3:E$98)>10,IF(AND(ISNUMBER('Control Sample Data'!E3),'Control Sample Data'!E3<35,'Control Sample Data'!E3>0),'Control Sample Data'!E3,35),"")) | R4: =IF('Control Sample Data'!F3="","",IF(SUM('Control Sample Data'!F$3:F$98)>10,IF(AND(ISNUMBER('Control Sample Data'!F3),'Control Sample Data'!F3<35,'Control Sample Data'!F3>0),'Control Sample Data'!F3,35),"")) | S4: =IF('Control Sample Data'!G3="","",IF(SUM('Control Sample Data'!G$3:G$98)>10,IF(AND(ISNUMBER('Control Sample Data'!G3),'Control Sample Data'!G3<35,'Control Sample Data'!G3>0),'Control Sample Data'!G3,35),"")) | T4: =IF('Control Sample Data'!H3="","",IF(SUM('Control Sample Data'!H$3:H$98)>10,IF(AND(ISNUMBER('Control Sample Data'!H3),'Control Sample Data'!H3<35,'Control Sample Data'!H3>0),'Control Sample Data'!H3,35),"")) | U4: =IF('Control Sample Data'!I3="","",IF(SUM('Control Sample Data'!I$3:I$98)>10,IF(AND(ISNUMBER('Control Sample Data'!I3),'Control Sample Data'!I3<35,'Control Sample Data'!I3>0),'Control Sample Data'!I3,35),"")) | V4: =IF('Control Sample Data'!J3="","",IF(SUM('Control Sample Data'!J$3:J$98)>10,IF(AND(ISNUMBER('Control Sample Data'!J3),'Control Sample Data'!J3<35,'Control Sample Data'!J3>0),'Control Sample Data'!J3,35),"")) | ... X4: =IF('Control Sample Data'!L3="","",IF(SUM('Control Sample Data'!L$3:L$98)>10,IF(AND(ISNUMBER('Control Sample Data'!L3),'Control Sample Data'!L3<35,'Control Sample Data'!L3>0),'Control Sample Data'!L3,35),"")) | Y4: =IF(ISERROR(VLOOKUP('Choose Housekeeping Genes'!$A3,Calculations!$A$4:$L$99,3,0)),"",VLOOKUP('Choose Housekeeping Genes'!$A3,Calculations!$A$4:$L$99,3,0)) | Z4: =IF(ISERROR(VLOOKUP('Choose Housekeeping Genes'!$A3,Calculations!$A$4:$L$99,4,0)),"",VLOOKUP('Choose Housekeeping Genes'!$A3,Calculations!$A$4:$L$99,4,0)) | AA4: =IF(ISERROR(VLOOKUP('Choose Housekeeping Genes'!$A3,Calculations!$A$4:$L$99,5,0)),"",VLOOKUP('Choose Housekeeping Genes'!$A3,Calculations!$A$4:$L$99,5,0)) | AB4: =IF(ISERROR(VLOOKUP('Choose Housekeeping Genes'!$A3,Calculations!$A$4:$L$99,6,0)),"",VLOOKUP('Choose Housekeeping Genes'!$A3,Calculations!$A$4:$L$99,6,0)) | AC4: =IF(ISERROR(VLOOKUP('Choose Housekeeping Genes'!$A3,Calculations!$A$4:$L$99,7,0)),"",VLOOKUP('Choose Housekeeping Genes'!$A3,Calculations!$A$4:$L$99,7,0)) | AD4: =IF(ISERROR(VLOOKUP('Choose Housekeeping Genes'!$A3,Calculations!$A$4:$L$99,8,0)),"",VLOOKUP('Choose Housekeeping Genes'!$A3,Calculations!$A$4:$L$99,8,0)) | AE4: =IF(ISERROR(VLOOKUP('Choose Housekeeping Genes'!$A3,Calculations!$A$4:$L$99,9,0)),"",VLOOKUP('Choose Housekeeping Genes'!$A3,Calculations!$A$4:$L$99,9,0)) | AF4: =IF(ISERROR(VLOOKUP('Choose Housekeeping Genes'!$A3,Calculations!$A$4:$L$99,10,0)),"",VLOOKUP('Choose Housekeeping Genes'!$A3,Calculations!$A$4:$L$99,10,0)) | AG4: =IF(ISERROR(VLOOKUP('Choose Housekeeping Genes'!$A3,Calculations!$A$4:$L$99,11,0)),"",VLOOKUP('Choose Housekeeping Genes'!$A3,Calculations!$A$4:$L$99,11,0)) | AH4: =IF(ISERROR(VLOOKUP('Choose Housekeeping Genes'!$A3,Calculations!$A$4:$M$99,12,0)),"",VLOOKUP('Choose Housekeeping Genes'!$A3,Calculations!$A$4:$M$99,12,0)) | AI4: =IF(ISERROR(VLOOKUP('Choose Housekeeping Genes'!$A3,Calculations!$A$4:$AA$99,15,0)),"",VLOOKUP('Choose Housekeeping Genes'!$A3,Calculations!$A$4:$AA$99,15,0)) | AJ4: =IF(ISERROR(VLOOKUP('Choose Housekeeping Genes'!$A3,Calculations!$A$4:$AA$99,16,0)),"",VLOOKUP('Choose Housekeeping Genes'!$A3,Calculations!$A$4:$AA$99,16,0)) | AK4: =IF(ISERROR(VLOOKUP('Choose Housekeeping Genes'!$A3,Calculations!$A$4:$AA$99,17,0)),"",VLOOKUP('Choose Housekeeping Genes'!$A3,Calculations!$A$4:$AA$99,17,0)) | AL4: =IF(ISERROR(VLOOKUP('Choose Housekeeping Genes'!$A3,Calculations!$A$4:$AA$99,18,0)),"",VLOOKUP('Choose Housekeeping Genes'!$A3,Calculations!$A$4:$AA$99,18,0)) | AM4: =IF(ISERROR(VLOOKUP('Choose Housekeeping Genes'!$A3,Calculations!$A$4:$AA$99,19,0)),"",VLOOKUP('Choose Housekeeping Genes'!$A3,Calculations!$A$4:$AA$99,19,0)) | AN4: =IF(ISERROR(VLOOKUP('Choose Housekeeping Genes'!$A3,Calculations!$A$4:$AA$99,20,0)),"",VLOOKUP('Choose Housekeeping Genes'!$A3,Calculations!$A$4:$AA$99,20,0)) | AO4: =IF(ISERROR(VLOOKUP('Choose Housekeeping Genes'!$A3,Calculations!$A$4:$AA$99,21,0)),"",VLOOKUP('Choose Housekeeping Genes'!$A3,Calculations!$A$4:$AA$99,21,0)) | AP4: =IF(ISERROR(VLOOKUP('Choose Housekeeping Genes'!$A3,Calculations!$A$4:$AA$99,22,0)),"",VLOOKUP('Choose Housekeeping Genes'!$A3,Calculations!$A$4:$AA$99,22,0)) | AQ4: =IF(ISERROR(VLOOKUP('Choose Housekeeping Genes'!$A3,Calculations!$A$4:$AA$99,23,0)),"",VLOOKUP('Choose Housekeeping Genes'!$A3,Calculations!$A$4:$AA$99,23,0)) | AR4: =IF(ISERROR(VLOOKUP('Choose Housekeeping Genes'!$A3,Calculations!$A$4:$AA$99,24,0)),"",VLOOKUP('Choose Housekeeping Genes'!$A3,Calculations!$A$4:$AA$99,24,0)) | AS4: =A4 -> hsa-miR-16-5p | AT4: A01 | AU4: =IF(ISERROR(C4-Y$26),"",C4-Y$26) | AV4: =IF(ISERROR(D4-Z$26),"",D4-Z$26) | AW4: =IF(ISERROR(E4-AA$26),"",E4-AA$26) | AX4: =IF(ISERROR(F4-AB$26),"",F4-AB$26) | AY4: =IF(ISERROR(G4-AC$26),"",G4-AC$26) | AZ4: =IF(ISERROR(H4-AD$26),"",H4-AD$26) | BA4: =IF(ISERROR(I4-AE$26),"",I4-AE$26) | BB4: =IF(ISERROR(J4-AF$26),"",J4-AF$26) | ... BD4: =IF(ISERROR(L4-AH$26),"",L4-AH$26) | BE4: =IF(ISERROR(O4-AI$26),"",O4-AI$26) | BF4: =IF(ISERROR(P4-AJ$26),"",P4-AJ$26) | BG4: =IF(ISERROR(Q4-AK$26),"",Q4-AK$26) | BH4: =IF(ISERROR(R4-AL$26),"",R4-AL$26) | BI4: =IF(ISERROR(S4-AM$26),"",S4-AM$26) | BJ4: =IF(ISERROR(T4-AN$26),"",T4-AN$26) | BK4: =IF(ISERROR(U4-AO$26),"",U4-AO$26) | BL4: =IF(ISERROR(V4-AP$26),"",V4-AP$26) | ... BN4: =IF(ISERROR(X4-AR$26),"",X4-AR$26) | BO4: =IF(ISERROR(AVERAGE(AU4:BD4)),"N/A",AVERAGE(AU4:BD4)) -> N/A | BP4: =IF(ISERROR(AVERAGE(BE4:BN4)),"N/A",AVERAGE(BE4:BN4)) -> N/A | BQ4: =A4 -> hsa-miR-16-5p | BR4: A01 | BS4: =IF(AU4="","",POWER(2,-AU4)) | BT4: =IF(AV4="","",POWER(2,-AV4)) | BU4: =IF(AW4="","",POWER(2,-AW4)) | BV4: =IF(AX4="","",POWER(2,-AX4)) | BW4: =IF(AY4="","",POWER(2,-AY4)) | BX4: =IF(AZ4="","",POWER(2,-AZ4)) | BY4: =IF(BA4="","",POWER(2,-BA4)) | BZ4: =IF(BB4="","",POWER(2,-BB4)) | ... CL4: =IF(BN4="","",POWER(2,-BN4))
A5: ='Gene Table'!D4 -> hsa-miR-124-3p | B5: A02 | C5: =IF('Test Sample Data'!C4="","",IF(SUM('Test Sample Data'!C$3:C$98)>10,IF(AND(ISNUMBER('Test Sample Data'!C4),'Test Sample Data'!C4<35,'Test Sample Data'!C4>0),'Test Sample Data'!C4,35),"")) | D5: =IF('Test Sample Data'!D4="","",IF(SUM('Test Sample Data'!D$3:D$98)>10,IF(AND(ISNUMBER('Test Sample Data'!D4),'Test Sample Data'!D4<35,'Test Sample Data'!D4>0),'Test Sample Data'!D4,35),"")) | E5: =IF('Test Sample Data'!E4="","",IF(SUM('Test Sample Data'!E$3:E$98)>10,IF(AND(ISNUMBER('Test Sample Data'!E4),'Test Sample Data'!E4<35,'Test Sample Data'!E4>0),'Test Sample Data'!E4,35),"")) | F5: =IF('Test Sample Data'!F4="","",IF(SUM('Test Sample Data'!F$3:F$98)>10,IF(AND(ISNUMBER('Test Sample Data'!F4),'Test Sample Data'!F4<35,'Test Sample Data'!F4>0),'Test Sample Data'!F4,35),"")) | G5: =IF('Test Sample Data'!G4="","",IF(SUM('Test Sample Data'!G$3:G$98)>10,IF(AND(ISNUMBER('Test Sample Data'!G4),'Test Sample Data'!G4<35,'Test Sample Data'!G4>0),'Test Sample Data'!G4,35),"")) | H5: =IF('Test Sample Data'!H4="","",IF(SUM('Test Sample Data'!H$3:H$98)>10,IF(AND(ISNUMBER('Test Sample Data'!H4),'Test Sample Data'!H4<35,'Test Sample Data'!H4>0),'Test Sample Data'!H4,35),"")) | I5: =IF('Test Sample Data'!I4="","",IF(SUM('Test Sample Data'!I$3:I$98)>10,IF(AND(ISNUMBER('Test Sample Data'!I4),'Test Sample Data'!I4<35,'Test Sample Data'!I4>0),'Test Sample Data'!I4,35),"")) | J5: =IF('Test Sample Data'!J4="","",IF(SUM('Test Sample Data'!J$3:J$98)>10,IF(AND(ISNUMBER('Test Sample Data'!J4),'Test Sample Data'!J4<35,'Test Sample Data'!J4>0),'Test Sample Data'!J4,35),"")) | ... L5: =IF('Test Sample Data'!L4="","",IF(SUM('Test Sample Data'!L$3:L$98)>10,IF(AND(ISNUMBER('Test Sample Data'!L4),'Test Sample Data'!L4<35,'Test Sample Data'!L4>0),'Test Sample Data'!L4,35),"")) | M5: ='Gene Table'!D4 -> hsa-miR-124-3p | N5: A02 | O5: =IF('Control Sample Data'!C4="","",IF(SUM('Control Sample Data'!C$3:C$98)>10,IF(AND(ISNUMBER('Control Sample Data'!C4),'Control Sample Data'!C4<35,'Control Sample Data'!C4>0),'Control Sample Data'!C4,35),"")) | P5: =IF('Control Sample Data'!D4="","",IF(SUM('Control Sample Data'!D$3:D$98)>10,IF(AND(ISNUMBER('Control Sample Data'!D4),'Control Sample Data'!D4<35,'Control Sample Data'!D4>0),'Control Sample Data'!D4,35),"")) | Q5: =IF('Control Sample Data'!E4="","",IF(SUM('Control Sample Data'!E$3:E$98)>10,IF(AND(ISNUMBER('Control Sample Data'!E4),'Control Sample Data'!E4<35,'Control Sample Data'!E4>0),'Control Sample Data'!E4,35),"")) | R5: =IF('Control Sample Data'!F4="","",IF(SUM('Control Sample Data'!F$3:F$98)>10,IF(AND(ISNUMBER('Control Sample Data'!F4),'Control Sample Data'!F4<35,'Control Sample Data'!F4>0),'Control Sample Data'!F4,35),"")) | S5: =IF('Control Sample Data'!G4="","",IF(SUM('Control Sample Data'!G$3:G$98)>10,IF(AND(ISNUMBER('Control Sample Data'!G4),'Control Sample Data'!G4<35,'Control Sample Data'!G4>0),'Control Sample Data'!G4,35),"")) | T5: =IF('Control Sample Data'!H4="","",IF(SUM('Control Sample Data'!H$3:H$98)>10,IF(AND(ISNUMBER('Control Sample Data'!H4),'Control Sample Data'!H4<35,'Control Sample Data'!H4>0),'Control Sample Data'!H4,35),"")) | U5: =IF('Control Sample Data'!I4="","",IF(SUM('Control Sample Data'!I$3:I$98)>10,IF(AND(ISNUMBER('Control Sample Data'!I4),'Control Sample Data'!I4<35,'Control Sample Data'!I4>0),'Control Sample Data'!I4,35),"")) | V5: =IF('Control Sample Data'!J4="","",IF(SUM('Control Sample Data'!J$3:J$98)>10,IF(AND(ISNUMBER('Control Sample Data'!J4),'Control Sample Data'!J4<35,'Control Sample Data'!J4>0),'Control Sample Data'!J4,35),"")) | ... X5: =IF('Control Sample Data'!L4="","",IF(SUM('Control Sample Data'!L$3:L$98)>10,IF(AND(ISNUMBER('Control Sample Data'!L4),'Control Sample Data'!L4<35,'Control Sample Data'!L4>0),'Control Sample Data'!L4,35),"")) | Y5: =IF(ISERROR(VLOOKUP('Choose Housekeeping Genes'!$A4,Calculations!$A$4:$L$99,3,0)),"",VLOOKUP('Choose Housekeeping Genes'!$A4,Calculations!$A$4:$L$99,3,0)) | Z5: =IF(ISERROR(VLOOKUP('Choose Housekeeping Genes'!$A4,Calculations!$A$4:$L$99,4,0)),"",VLOOKUP('Choose Housekeeping Genes'!$A4,Calculations!$A$4:$L$99,4,0)) | AA5: =IF(ISERROR(VLOOKUP('Choose Housekeeping Genes'!$A4,Calculations!$A$4:$L$99,5,0)),"",VLOOKUP('Choose Housekeeping Genes'!$A4,Calculations!$A$4:$L$99,5,0)) | AB5: =IF(ISERROR(VLOOKUP('Choose Housekeeping Genes'!$A4,Calculations!$A$4:$L$99,6,0)),"",VLOOKUP('Choose Housekeeping Genes'!$A4,Calculations!$A$4:$L$99,6,0)) | AC5: =IF(ISERROR(VLOOKUP('Choose Housekeeping Genes'!$A4,Calculations!$A$4:$L$99,7,0)),"",VLOOKUP('Choose Housekeeping Genes'!$A4,Calculations!$A$4:$L$99,7,0)) | AD5: =IF(ISERROR(VLOOKUP('Choose Housekeeping Genes'!$A4,Calculations!$A$4:$L$99,8,0)),"",VLOOKUP('Choose Housekeeping Genes'!$A4,Calculations!$A$4:$L$99,8,0)) | AE5: =IF(ISERROR(VLOOKUP('Choose Housekeeping Genes'!$A4,Calculations!$A$4:$L$99,9,0)),"",VLOOKUP('Choose Housekeeping Genes'!$A4,Calculations!$A$4:$L$99,9,0)) | AF5: =IF(ISERROR(VLOOKUP('Choose Housekeeping Genes'!$A4,Calculations!$A$4:$L$99,10,0)),"",VLOOKUP('Choose Housekeeping Genes'!$A4,Calculations!$A$4:$L$99,10,0)) | AG5: =IF(ISERROR(VLOOKUP('Choose Housekeeping Genes'!$A4,Calculations!$A$4:$L$99,11,0)),"",VLOOKUP('Choose Housekeeping Genes'!$A4,Calculations!$A$4:$L$99,11,0)) | AH5: =IF(ISERROR(VLOOKUP('Choose Housekeeping Genes'!$A4,Calculations!$A$4:$M$99,12,0)),"",VLOOKUP('Choose Housekeeping Genes'!$A4,Calculations!$A$4:$M$99,12,0)) | AI5: =IF(ISERROR(VLOOKUP('Choose Housekeeping Genes'!$A4,Calculations!$A$4:$AA$99,15,0)),"",VLOOKUP('Choose Housekeeping Genes'!$A4,Calculations!$A$4:$AA$99,15,0)) | AJ5: =IF(ISERROR(VLOOKUP('Choose Housekeeping Genes'!$A4,Calculations!$A$4:$AA$99,16,0)),"",VLOOKUP('Choose Housekeeping Genes'!$A4,Calculations!$A$4:$AA$99,16,0)) | AK5: =IF(ISERROR(VLOOKUP('Choose Housekeeping Genes'!$A4,Calculations!$A$4:$AA$99,17,0)),"",VLOOKUP('Choose Housekeeping Genes'!$A4,Calculations!$A$4:$AA$99,17,0)) | AL5: =IF(ISERROR(VLOOKUP('Choose Housekeeping Genes'!$A4,Calculations!$A$4:$AA$99,18,0)),"",VLOOKUP('Choose Housekeeping Genes'!$A4,Calculations!$A$4:$AA$99,18,0)) | AM5: =IF(ISERROR(VLOOKUP('Choose Housekeeping Genes'!$A4,Calculations!$A$4:$AA$99,19,0)),"",VLOOKUP('Choose Housekeeping Genes'!$A4,Calculations!$A$4:$AA$99,19,0)) | AN5: =IF(ISERROR(VLOOKUP('Choose Housekeeping Genes'!$A4,Calculations!$A$4:$AA$99,20,0)),"",VLOOKUP('Choose Housekeeping Genes'!$A4,Calculations!$A$4:$AA$99,20,0)) | AO5: =IF(ISERROR(VLOOKUP('Choose Housekeeping Genes'!$A4,Calculations!$A$4:$AA$99,21,0)),"",VLOOKUP('Choose Housekeeping Genes'!$A4,Calculations!$A$4:$AA$99,21,0)) | AP5: =IF(ISERROR(VLOOKUP('Choose Housekeeping Genes'!$A4,Calculations!$A$4:$AA$99,22,0)),"",VLOOKUP('Choose Housekeeping Genes'!$A4,Calculations!$A$4:$AA$99,22,0)) | AQ5: =IF(ISERROR(VLOOKUP('Choose Housekeeping Genes'!$A4,Calculations!$A$4:$AA$99,23,0)),"",VLOOKUP('Choose Housekeeping Genes'!$A4,Calculations!$A$4:$AA$99,23,0)) | AR5: =IF(ISERROR(VLOOKUP('Choose Housekeeping Genes'!$A4,Calculations!$A$4:$AA$99,24,0)),"",VLOOKUP('Choose Housekeeping Genes'!$A4,Calculations!$A$4:$AA$99,24,0)) | AS5: =A5 -> hsa-miR-124-3p | AT5: A02 | AU5: =IF(ISERROR(C5-Y$26),"",C5-Y$26) | AV5: =IF(ISERROR(D5-Z$26),"",D5-Z$26) | AW5: =IF(ISERROR(E5-AA$26),"",E5-AA$26) | AX5: =IF(ISERROR(F5-AB$26),"",F5-AB$26) | AY5: =IF(ISERROR(G5-AC$26),"",G5-AC$26) | AZ5: =IF(ISERROR(H5-AD$26),"",H5-AD$26) | BA5: =IF(ISERROR(I5-AE$26),"",I5-AE$26) | BB5: =IF(ISERROR(J5-AF$26),"",J5-AF$26) | ... BD5: =IF(ISERROR(L5-AH$26),"",L5-AH$26) | BE5: =IF(ISERROR(O5-AI$26),"",O5-AI$26) | BF5: =IF(ISERROR(P5-AJ$26),"",P5-AJ$26) | BG5: =IF(ISERROR(Q5-AK$26),"",Q5-AK$26) | BH5: =IF(ISERROR(R5-AL$26),"",R5-AL$26) | BI5: =IF(ISERROR(S5-AM$26),"",S5-AM$26) | BJ5: =IF(ISERROR(T5-AN$26),"",T5-AN$26) | BK5: =IF(ISERROR(U5-AO$26),"",U5-AO$26) | BL5: =IF(ISERROR(V5-AP$26),"",V5-AP$26) | ... BN5: =IF(ISERROR(X5-AR$26),"",X5-AR$26) | BO5: =IF(ISERROR(AVERAGE(AU5:BD5)),"N/A",AVERAGE(AU5:BD5)) -> N/A | BP5: =IF(ISERROR(AVERAGE(BE5:BN5)),"N/A",AVERAGE(BE5:BN5)) -> N/A | BQ5: =A5 -> hsa-miR-124-3p | BR5: A02 | BS5: =IF(AU5="","",POWER(2,-AU5)) | BT5: =IF(AV5="","",POWER(2,-AV5)) | BU5: =IF(AW5="","",POWER(2,-AW5)) | BV5: =IF(AX5="","",POWER(2,-AX5)) | BW5: =IF(AY5="","",POWER(2,-AY5)) | BX5: =IF(AZ5="","",POWER(2,-AZ5)) | BY5: =IF(BA5="","",POWER(2,-BA5)) | BZ5: =IF(BB5="","",POWER(2,-BB5)) | ... CL5: =IF(BN5="","",POWER(2,-BN5))
A6: ='Gene Table'!D5 -> hsa-miR-154-5p | B6: A03 | C6: =IF('Test Sample Data'!C5="","",IF(SUM('Test Sample Data'!C$3:C$98)>10,IF(AND(ISNUMBER('Test Sample Data'!C5),'Test Sample Data'!C5<35,'Test Sample Data'!C5>0),'Test Sample Data'!C5,35),"")) | D6: =IF('Test Sample Data'!D5="","",IF(SUM('Test Sample Data'!D$3:D$98)>10,IF(AND(ISNUMBER('Test Sample Data'!D5),'Test Sample Data'!D5<35,'Test Sample Data'!D5>0),'Test Sample Data'!D5,35),"")) | E6: =IF('Test Sample Data'!E5="","",IF(SUM('Test Sample Data'!E$3:E$98)>10,IF(AND(ISNUMBER('Test Sample Data'!E5),'Test Sample Data'!E5<35,'Test Sample Data'!E5>0),'Test Sample Data'!E5,35),"")) | F6: =IF('Test Sample Data'!F5="","",IF(SUM('Test Sample Data'!F$3:F$98)>10,IF(AND(ISNUMBER('Test Sample Data'!F5),'Test Sample Data'!F5<35,'Test Sample Data'!F5>0),'Test Sample Data'!F5,35),"")) | G6: =IF('Test Sample Data'!G5="","",IF(SUM('Test Sample Data'!G$3:G$98)>10,IF(AND(ISNUMBER('Test Sample Data'!G5),'Test Sample Data'!G5<35,'Test Sample Data'!G5>0),'Test Sample Data'!G5,35),"")) | H6: =IF('Test Sample Data'!H5="","",IF(SUM('Test Sample Data'!H$3:H$98)>10,IF(AND(ISNUMBER('Test Sample Data'!H5),'Test Sample Data'!H5<35,'Test Sample Data'!H5>0),'Test Sample Data'!H5,35),"")) | I6: =IF('Test Sample Data'!I5="","",IF(SUM('Test Sample Data'!I$3:I$98)>10,IF(AND(ISNUMBER('Test Sample Data'!I5),'Test Sample Data'!I5<35,'Test Sample Data'!I5>0),'Test Sample Data'!I5,35),"")) | J6: =IF('Test Sample Data'!J5="","",IF(SUM('Test Sample Data'!J$3:J$98)>10,IF(AND(ISNUMBER('Test Sample Data'!J5),'Test Sample Data'!J5<35,'Test Sample Data'!J5>0),'Test Sample Data'!J5,35),"")) | ... L6: =IF('Test Sample Data'!L5="","",IF(SUM('Test Sample Data'!L$3:L$98)>10,IF(AND(ISNUMBER('Test Sample Data'!L5),'Test Sample Data'!L5<35,'Test Sample Data'!L5>0),'Test Sample Data'!L5,35),"")) | M6: ='Gene Table'!D5 -> hsa-miR-154-5p | N6: A03 | O6: =IF('Control Sample Data'!C5="","",IF(SUM('Control Sample Data'!C$3:C$98)>10,IF(AND(ISNUMBER('Control Sample Data'!C5),'Control Sample Data'!C5<35,'Control Sample Data'!C5>0),'Control Sample Data'!C5,35),"")) | P6: =IF('Control Sample Data'!D5="","",IF(SUM('Control Sample Data'!D$3:D$98)>10,IF(AND(ISNUMBER('Control Sample Data'!D5),'Control Sample Data'!D5<35,'Control Sample Data'!D5>0),'Control Sample Data'!D5,35),"")) | Q6: =IF('Control Sample Data'!E5="","",IF(SUM('Control Sample Data'!E$3:E$98)>10,IF(AND(ISNUMBER('Control Sample Data'!E5),'Control Sample Data'!E5<35,'Control Sample Data'!E5>0),'Control Sample Data'!E5,35),"")) | R6: =IF('Control Sample Data'!F5="","",IF(SUM('Control Sample Data'!F$3:F$98)>10,IF(AND(ISNUMBER('Control Sample Data'!F5),'Control Sample Data'!F5<35,'Control Sample Data'!F5>0),'Control Sample Data'!F5,35),"")) | S6: =IF('Control Sample Data'!G5="","",IF(SUM('Control Sample Data'!G$3:G$98)>10,IF(AND(ISNUMBER('Control Sample Data'!G5),'Control Sample Data'!G5<35,'Control Sample Data'!G5>0),'Control Sample Data'!G5,35),"")) | T6: =IF('Control Sample Data'!H5="","",IF(SUM('Control Sample Data'!H$3:H$98)>10,IF(AND(ISNUMBER('Control Sample Data'!H5),'Control Sample Data'!H5<35,'Control Sample Data'!H5>0),'Control Sample Data'!H5,35),"")) | U6: =IF('Control Sample Data'!I5="","",IF(SUM('Control Sample Data'!I$3:I$98)>10,IF(AND(ISNUMBER('Control Sample Data'!I5),'Control Sample Data'!I5<35,'Control Sample Data'!I5>0),'Control Sample Data'!I5,35),"")) | V6: =IF('Control Sample Data'!J5="","",IF(SUM('Control Sample Data'!J$3:J$98)>10,IF(AND(ISNUMBER('Control Sample Data'!J5),'Control Sample Data'!J5<35,'Control Sample Data'!J5>0),'Control Sample Data'!J5,35),"")) | ... X6: =IF('Control Sample Data'!L5="","",IF(SUM('Control Sample Data'!L$3:L$98)>10,IF(AND(ISNUMBER('Control Sample Data'!L5),'Control Sample Data'!L5<35,'Control Sample Data'!L5>0),'Control Sample Data'!L5,35),"")) | Y6: =IF(ISERROR(VLOOKUP('Choose Housekeeping Genes'!$A5,Calculations!$A$4:$L$99,3,0)),"",VLOOKUP('Choose Housekeeping Genes'!$A5,Calculations!$A$4:$L$99,3,0)) | Z6: =IF(ISERROR(VLOOKUP('Choose Housekeeping Genes'!$A5,Calculations!$A$4:$L$99,4,0)),"",VLOOKUP('Choose Housekeeping Genes'!$A5,Calculations!$A$4:$L$99,4,0)) | AA6: =IF(ISERROR(VLOOKUP('Choose Housekeeping Genes'!$A5,Calculations!$A$4:$L$99,5,0)),"",VLOOKUP('Choose Housekeeping Genes'!$A5,Calculations!$A$4:$L$99,5,0)) | AB6: =IF(ISERROR(VLOOKUP('Choose Housekeeping Genes'!$A5,Calculations!$A$4:$L$99,6,0)),"",VLOOKUP('Choose Housekeeping Genes'!$A5,Calculations!$A$4:$L$99,6,0)) | AC6: =IF(ISERROR(VLOOKUP('Choose Housekeeping Genes'!$A5,Calculations!$A$4:$L$99,7,0)),"",VLOOKUP('Choose Housekeeping Genes'!$A5,Calculations!$A$4:$L$99,7,0)) | AD6: =IF(ISERROR(VLOOKUP('Choose Housekeeping Genes'!$A5,Calculations!$A$4:$L$99,8,0)),"",VLOOKUP('Choose Housekeeping Genes'!$A5,Calculations!$A$4:$L$99,8,0)) | AE6: =IF(ISERROR(VLOOKUP('Choose Housekeeping Genes'!$A5,Calculations!$A$4:$L$99,9,0)),"",VLOOKUP('Choose Housekeeping Genes'!$A5,Calculations!$A$4:$L$99,9,0)) | AF6: =IF(ISERROR(VLOOKUP('Choose Housekeeping Genes'!$A5,Calculations!$A$4:$L$99,10,0)),"",VLOOKUP('Choose Housekeeping Genes'!$A5,Calculations!$A$4:$L$99,10,0)) | AG6: =IF(ISERROR(VLOOKUP('Choose Housekeeping Genes'!$A5,Calculations!$A$4:$L$99,11,0)),"",VLOOKUP('Choose Housekeeping Genes'!$A5,Calculations!$A$4:$L$99,11,0)) | AH6: =IF(ISERROR(VLOOKUP('Choose Housekeeping Genes'!$A5,Calculations!$A$4:$M$99,12,0)),"",VLOOKUP('Choose Housekeeping Genes'!$A5,Calculations!$A$4:$M$99,12,0)) | AI6: =IF(ISERROR(VLOOKUP('Choose Housekeeping Genes'!$A5,Calculations!$A$4:$AA$99,15,0)),"",VLOOKUP('Choose Housekeeping Genes'!$A5,Calculations!$A$4:$AA$99,15,0)) | AJ6: =IF(ISERROR(VLOOKUP('Choose Housekeeping Genes'!$A5,Calculations!$A$4:$AA$99,16,0)),"",VLOOKUP('Choose Housekeeping Genes'!$A5,Calculations!$A$4:$AA$99,16,0)) | AK6: =IF(ISERROR(VLOOKUP('Choose Housekeeping Genes'!$A5,Calculations!$A$4:$AA$99,17,0)),"",VLOOKUP('Choose Housekeeping Genes'!$A5,Calculations!$A$4:$AA$99,17,0)) | AL6: =IF(ISERROR(VLOOKUP('Choose Housekeeping Genes'!$A5,Calculations!$A$4:$AA$99,18,0)),"",VLOOKUP('Choose Housekeeping Genes'!$A5,Calculations!$A$4:$AA$99,18,0)) | AM6: =IF(ISERROR(VLOOKUP('Choose Housekeeping Genes'!$A5,Calculations!$A$4:$AA$99,19,0)),"",VLOOKUP('Choose Housekeeping Genes'!$A5,Calculations!$A$4:$AA$99,19,0)) | AN6: =IF(ISERROR(VLOOKUP('Choose Housekeeping Genes'!$A5,Calculations!$A$4:$AA$99,20,0)),"",VLOOKUP('Choose Housekeeping Genes'!$A5,Calculations!$A$4:$AA$99,20,0)) | AO6: =IF(ISERROR(VLOOKUP('Choose Housekeeping Genes'!$A5,Calculations!$A$4:$AA$99,21,0)),"",VLOOKUP('Choose Housekeeping Genes'!$A5,Calculations!$A$4:$AA$99,21,0)) | AP6: =IF(ISERROR(VLOOKUP('Choose Housekeeping Genes'!$A5,Calculations!$A$4:$AA$99,22,0)),"",VLOOKUP('Choose Housekeeping Genes'!$A5,Calculations!$A$4:$AA$99,22,0)) | AQ6: =IF(ISERROR(VLOOKUP('Choose Housekeeping Genes'!$A5,Calculations!$A$4:$AA$99,23,0)),"",VLOOKUP('Choose Housekeeping Genes'!$A5,Calculations!$A$4:$AA$99,23,0)) | AR6: =IF(ISERROR(VLOOKUP('Choose Housekeeping Genes'!$A5,Calculations!$A$4:$AA$99,24,0)),"",VLOOKUP('Choose Housekeeping Genes'!$A5,Calculations!$A$4:$AA$99,24,0)) | AS6: =A6 -> hsa-miR-154-5p | AT6: A03 | AU6: =IF(ISERROR(C6-Y$26),"",C6-Y$26) | AV6: =IF(ISERROR(D6-Z$26),"",D6-Z$26) | AW6: =IF(ISERROR(E6-AA$26),"",E6-AA$26) | AX6: =IF(ISERROR(F6-AB$26),"",F6-AB$26) | AY6: =IF(ISERROR(G6-AC$26),"",G6-AC$26) | AZ6: =IF(ISERROR(H6-AD$26),"",H6-AD$26) | BA6: =IF(ISERROR(I6-AE$26),"",I6-AE$26) | BB6: =IF(ISERROR(J6-AF$26),"",J6-AF$26) | ... BD6: =IF(ISERROR(L6-AH$26),"",L6-AH$26) | BE6: =IF(ISERROR(O6-AI$26),"",O6-AI$26) | BF6: =IF(ISERROR(P6-AJ$26),"",P6-AJ$26) | BG6: =IF(ISERROR(Q6-AK$26),"",Q6-AK$26) | BH6: =IF(ISERROR(R6-AL$26),"",R6-AL$26) | BI6: =IF(ISERROR(S6-AM$26),"",S6-AM$26) | BJ6: =IF(ISERROR(T6-AN$26),"",T6-AN$26) | BK6: =IF(ISERROR(U6-AO$26),"",U6-AO$26) | BL6: =IF(ISERROR(V6-AP$26),"",V6-AP$26) | ... BN6: =IF(ISERROR(X6-AR$26),"",X6-AR$26) | BO6: =IF(ISERROR(AVERAGE(AU6:BD6)),"N/A",AVERAGE(AU6:BD6)) -> N/A | BP6: =IF(ISERROR(AVERAGE(BE6:BN6)),"N/A",AVERAGE(BE6:BN6)) -> N/A | BQ6: =A6 -> hsa-miR-154-5p | BR6: A03 | BS6: =IF(AU6="","",POWER(2,-AU6)) | BT6: =IF(AV6="","",POWER(2,-AV6)) | BU6: =IF(AW6="","",POWER(2,-AW6)) | BV6: =IF(AX6="","",POWER(2,-AX6)) | BW6: =IF(AY6="","",POWER(2,-AY6)) | BX6: =IF(AZ6="","",POWER(2,-AZ6)) | BY6: =IF(BA6="","",POWER(2,-BA6)) | BZ6: =IF(BB6="","",POWER(2,-BB6)) | ... CL6: =IF(BN6="","",POWER(2,-BN6))
A7: ='Gene Table'!D6 -> hsa-miR-26a-5p | B7: A04 | C7: =IF('Test Sample Data'!C6="","",IF(SUM('Test Sample Data'!C$3:C$98)>10,IF(AND(ISNUMBER('Test Sample Data'!C6),'Test Sample Data'!C6<35,'Test Sample Data'!C6>0),'Test Sample Data'!C6,35),"")) | D7: =IF('Test Sample Data'!D6="","",IF(SUM('Test Sample Data'!D$3:D$98)>10,IF(AND(ISNUMBER('Test Sample Data'!D6),'Test Sample Data'!D6<35,'Test Sample Data'!D6>0),'Test Sample Data'!D6,35),"")) | E7: =IF('Test Sample Data'!E6="","",IF(SUM('Test Sample Data'!E$3:E$98)>10,IF(AND(ISNUMBER('Test Sample Data'!E6),'Test Sample Data'!E6<35,'Test Sample Data'!E6>0),'Test Sample Data'!E6,35),"")) | F7: =IF('Test Sample Data'!F6="","",IF(SUM('Test Sample Data'!F$3:F$98)>10,IF(AND(ISNUMBER('Test Sample Data'!F6),'Test Sample Data'!F6<35,'Test Sample Data'!F6>0),'Test Sample Data'!F6,35),"")) | G7: =IF('Test Sample Data'!G6="","",IF(SUM('Test Sample Data'!G$3:G$98)>10,IF(AND(ISNUMBER('Test Sample Data'!G6),'Test Sample Data'!G6<35,'Test Sample Data'!G6>0),'Test Sample Data'!G6,35),"")) | H7: =IF('Test Sample Data'!H6="","",IF(SUM('Test Sample Data'!H$3:H$98)>10,IF(AND(ISNUMBER('Test Sample Data'!H6),'Test Sample Data'!H6<35,'Test Sample Data'!H6>0),'Test Sample Data'!H6,35),"")) | I7: =IF('Test Sample Data'!I6="","",IF(SUM('Test Sample Data'!I$3:I$98)>10,IF(AND(ISNUMBER('Test Sample Data'!I6),'Test Sample Data'!I6<35,'Test Sample Data'!I6>0),'Test Sample Data'!I6,35),"")) | J7: =IF('Test Sample Data'!J6="","",IF(SUM('Test Sample Data'!J$3:J$98)>10,IF(AND(ISNUMBER('Test Sample Data'!J6),'Test Sample Data'!J6<35,'Test Sample Data'!J6>0),'Test Sample Data'!J6,35),"")) | ... L7: =IF('Test Sample Data'!L6="","",IF(SUM('Test Sample Data'!L$3:L$98)>10,IF(AND(ISNUMBER('Test Sample Data'!L6),'Test Sample Data'!L6<35,'Test Sample Data'!L6>0),'Test Sample Data'!L6,35),"")) | M7: ='Gene Table'!D6 -> hsa-miR-26a-5p | N7: A04 | O7: =IF('Control Sample Data'!C6="","",IF(SUM('Control Sample Data'!C$3:C$98)>10,IF(AND(ISNUMBER('Control Sample Data'!C6),'Control Sample Data'!C6<35,'Control Sample Data'!C6>0),'Control Sample Data'!C6,35),"")) | P7: =IF('Control Sample Data'!D6="","",IF(SUM('Control Sample Data'!D$3:D$98)>10,IF(AND(ISNUMBER('Control Sample Data'!D6),'Control Sample Data'!D6<35,'Control Sample Data'!D6>0),'Control Sample Data'!D6,35),"")) | Q7: =IF('Control Sample Data'!E6="","",IF(SUM('Control Sample Data'!E$3:E$98)>10,IF(AND(ISNUMBER('Control Sample Data'!E6),'Control Sample Data'!E6<35,'Control Sample Data'!E6>0),'Control Sample Data'!E6,35),"")) | R7: =IF('Control Sample Data'!F6="","",IF(SUM('Control Sample Data'!F$3:F$98)>10,IF(AND(ISNUMBER('Control Sample Data'!F6),'Control Sample Data'!F6<35,'Control Sample Data'!F6>0),'Control Sample Data'!F6,35),"")) | S7: =IF('Control Sample Data'!G6="","",IF(SUM('Control Sample Data'!G$3:G$98)>10,IF(AND(ISNUMBER('Control Sample Data'!G6),'Control Sample Data'!G6<35,'Control Sample Data'!G6>0),'Control Sample Data'!G6,35),"")) | T7: =IF('Control Sample Data'!H6="","",IF(SUM('Control Sample Data'!H$3:H$98)>10,IF(AND(ISNUMBER('Control Sample Data'!H6),'Control Sample Data'!H6<35,'Control Sample Data'!H6>0),'Control Sample Data'!H6,35),"")) | U7: =IF('Control Sample Data'!I6="","",IF(SUM('Control Sample Data'!I$3:I$98)>10,IF(AND(ISNUMBER('Control Sample Data'!I6),'Control Sample Data'!I6<35,'Control Sample Data'!I6>0),'Control Sample Data'!I6,35),"")) | V7: =IF('Control Sample Data'!J6="","",IF(SUM('Control Sample Data'!J$3:J$98)>10,IF(AND(ISNUMBER('Control Sample Data'!J6),'Control Sample Data'!J6<35,'Control Sample Data'!J6>0),'Control Sample Data'!J6,35),"")) | ... X7: =IF('Control Sample Data'!L6="","",IF(SUM('Control Sample Data'!L$3:L$98)>10,IF(AND(ISNUMBER('Control Sample Data'!L6),'Control Sample Data'!L6<35,'Control Sample Data'!L6>0),'Control Sample Data'!L6,35),"")) | Y7: =IF(ISERROR(VLOOKUP('Choose Housekeeping Genes'!$A6,Calculations!$A$4:$L$99,3,0)),"",VLOOKUP('Choose Housekeeping Genes'!$A6,Calculations!$A$4:$L$99,3,FALSE)) | Z7: =IF(ISERROR(VLOOKUP('Choose Housekeeping Genes'!$A6,Calculations!$A$4:$L$99,4,0)),"",VLOOKUP('Choose Housekeeping Genes'!$A6,Calculations!$A$4:$L$99,4,0)) | AA7: =IF(ISERROR(VLOOKUP('Choose Housekeeping Genes'!$A6,Calculations!$A$4:$L$99,5,0)),"",VLOOKUP('Choose Housekeeping Genes'!$A6,Calculations!$A$4:$L$99,5,0)) | AB7: =IF(ISERROR(VLOOKUP('Choose Housekeeping Genes'!$A6,Calculations!$A$4:$L$99,6,0)),"",VLOOKUP('Choose Housekeeping Genes'!$A6,Calculations!$A$4:$L$99,6,0)) | AC7: =IF(ISERROR(VLOOKUP('Choose Housekeeping Genes'!$A6,Calculations!$A$4:$L$99,7,0)),"",VLOOKUP('Choose Housekeeping Genes'!$A6,Calculations!$A$4:$L$99,7,0)) | AD7: =IF(ISERROR(VLOOKUP('Choose Housekeeping Genes'!$A6,Calculations!$A$4:$L$99,8,0)),"",VLOOKUP('Choose Housekeeping Genes'!$A6,Calculations!$A$4:$L$99,8,0)) | AE7: =IF(ISERROR(VLOOKUP('Choose Housekeeping Genes'!$A6,Calculations!$A$4:$L$99,9,0)),"",VLOOKUP('Choose Housekeeping Genes'!$A6,Calculations!$A$4:$L$99,9,0)) | AF7: =IF(ISERROR(VLOOKUP('Choose Housekeeping Genes'!$A6,Calculations!$A$4:$L$99,10,0)),"",VLOOKUP('Choose Housekeeping Genes'!$A6,Calculations!$A$4:$L$99,10,0)) | AG7: =IF(ISERROR(VLOOKUP('Choose Housekeeping Genes'!$A6,Calculations!$A$4:$L$99,11,0)),"",VLOOKUP('Choose Housekeeping Genes'!$A6,Calculations!$A$4:$L$99,11,0)) | AH7: =IF(ISERROR(VLOOKUP('Choose Housekeeping Genes'!$A6,Calculations!$A$4:$M$99,12,0)),"",VLOOKUP('Choose Housekeeping Genes'!$A6,Calculations!$A$4:$M$99,12,0)) | AI7: =IF(ISERROR(VLOOKUP('Choose Housekeeping Genes'!$A6,Calculations!$A$4:$AA$99,15,0)),"",VLOOKUP('Choose Housekeeping Genes'!$A6,Calculations!$A$4:$AA$99,15,0)) | AJ7: =IF(ISERROR(VLOOKUP('Choose Housekeeping Genes'!$A6,Calculations!$A$4:$AA$99,16,0)),"",VLOOKUP('Choose Housekeeping Genes'!$A6,Calculations!$A$4:$AA$99,16,0)) | AK7: =IF(ISERROR(VLOOKUP('Choose Housekeeping Genes'!$A6,Calculations!$A$4:$AA$99,17,0)),"",VLOOKUP('Choose Housekeeping Genes'!$A6,Calculations!$A$4:$AA$99,17,0)) | AL7: =IF(ISERROR(VLOOKUP('Choose Housekeeping Genes'!$A6,Calculations!$A$4:$AA$99,18,0)),"",VLOOKUP('Choose Housekeeping Genes'!$A6,Calculations!$A$4:$AA$99,18,0)) | AM7: =IF(ISERROR(VLOOKUP('Choose Housekeeping Genes'!$A6,Calculations!$A$4:$AA$99,19,0)),"",VLOOKUP('Choose Housekeeping Genes'!$A6,Calculations!$A$4:$AA$99,19,0)) | AN7: =IF(ISERROR(VLOOKUP('Choose Housekeeping Genes'!$A6,Calculations!$A$4:$AA$99,20,0)),"",VLOOKUP('Choose Housekeeping Genes'!$A6,Calculations!$A$4:$AA$99,20,0)) | AO7: =IF(ISERROR(VLOOKUP('Choose Housekeeping Genes'!$A6,Calculations!$A$4:$AA$99,21,0)),"",VLOOKUP('Choose Housekeeping Genes'!$A6,Calculations!$A$4:$AA$99,21,0)) | AP7: =IF(ISERROR(VLOOKUP('Choose Housekeeping Genes'!$A6,Calculations!$A$4:$AA$99,22,0)),"",VLOOKUP('Choose Housekeeping Genes'!$A6,Calculations!$A$4:$AA$99,22,0)) | AQ7: =IF(ISERROR(VLOOKUP('Choose Housekeeping Genes'!$A6,Calculations!$A$4:$AA$99,23,0)),"",VLOOKUP('Choose Housekeeping Genes'!$A6,Calculations!$A$4:$AA$99,23,0)) | AR7: =IF(ISERROR(VLOOKUP('Choose Housekeeping Genes'!$A6,Calculations!$A$4:$AA$99,24,0)),"",VLOOKUP('Choose Housekeeping Genes'!$A6,Calculations!$A$4:$AA$99,24,0)) | AS7: =A7 -> hsa-miR-26a-5p | AT7: A04 | AU7: =IF(ISERROR(C7-Y$26),"",C7-Y$26) | AV7: =IF(ISERROR(D7-Z$26),"",D7-Z$26) | AW7: =IF(ISERROR(E7-AA$26),"",E7-AA$26) | AX7: =IF(ISERROR(F7-AB$26),"",F7-AB$26) | AY7: =IF(ISERROR(G7-AC$26),"",G7-AC$26) | AZ7: =IF(ISERROR(H7-AD$26),"",H7-AD$26) | BA7: =IF(ISERROR(I7-AE$26),"",I7-AE$26) | BB7: =IF(ISERROR(J7-AF$26),"",J7-AF$26) | ... BD7: =IF(ISERROR(L7-AH$26),"",L7-AH$26) | BE7: =IF(ISERROR(O7-AI$26),"",O7-AI$26) | BF7: =IF(ISERROR(P7-AJ$26),"",P7-AJ$26) | BG7: =IF(ISERROR(Q7-AK$26),"",Q7-AK$26) | BH7: =IF(ISERROR(R7-AL$26),"",R7-AL$26) | BI7: =IF(ISERROR(S7-AM$26),"",S7-AM$26) | BJ7: =IF(ISERROR(T7-AN$26),"",T7-AN$26) | BK7: =IF(ISERROR(U7-AO$26),"",U7-AO$26) | BL7: =IF(ISERROR(V7-AP$26),"",V7-AP$26) | ... BN7: =IF(ISERROR(X7-AR$26),"",X7-AR$26) | BO7: =IF(ISERROR(AVERAGE(AU7:BD7)),"N/A",AVERAGE(AU7:BD7)) -> N/A | BP7: =IF(ISERROR(AVERAGE(BE7:BN7)),"N/A",AVERAGE(BE7:BN7)) -> N/A | BQ7: =A7 -> hsa-miR-26a-5p | BR7: A04 | BS7: =IF(AU7="","",POWER(2,-AU7)) | BT7: =IF(AV7="","",POWER(2,-AV7)) | BU7: =IF(AW7="","",POWER(2,-AW7)) | BV7: =IF(AX7="","",POWER(2,-AX7)) | BW7: =IF(AY7="","",POWER(2,-AY7)) | BX7: =IF(AZ7="","",POWER(2,-AZ7)) | BY7: =IF(BA7="","",POWER(2,-BA7)) | BZ7: =IF(BB7="","",POWER(2,-BB7)) | ... CL7: =IF(BN7="","",POWER(2,-BN7))
A8: ='Gene Table'!D7 -> hsa-miR-15b-5p | B8: A05 | C8: =IF('Test Sample Data'!C7="","",IF(SUM('Test Sample Data'!C$3:C$98)>10,IF(AND(ISNUMBER('Test Sample Data'!C7),'Test Sample Data'!C7<35,'Test Sample Data'!C7>0),'Test Sample Data'!C7,35),"")) | D8: =IF('Test Sample Data'!D7="","",IF(SUM('Test Sample Data'!D$3:D$98)>10,IF(AND(ISNUMBER('Test Sample Data'!D7),'Test Sample Data'!D7<35,'Test Sample Data'!D7>0),'Test Sample Data'!D7,35),"")) | E8: =IF('Test Sample Data'!E7="","",IF(SUM('Test Sample Data'!E$3:E$98)>10,IF(AND(ISNUMBER('Test Sample Data'!E7),'Test Sample Data'!E7<35,'Test Sample Data'!E7>0),'Test Sample Data'!E7,35),"")) | F8: =IF('Test Sample Data'!F7="","",IF(SUM('Test Sample Data'!F$3:F$98)>10,IF(AND(ISNUMBER('Test Sample Data'!F7),'Test Sample Data'!F7<35,'Test Sample Data'!F7>0),'Test Sample Data'!F7,35),"")) | G8: =IF('Test Sample Data'!G7="","",IF(SUM('Test Sample Data'!G$3:G$98)>10,IF(AND(ISNUMBER('Test Sample Data'!G7),'Test Sample Data'!G7<35,'Test Sample Data'!G7>0),'Test Sample Data'!G7,35),"")) | H8: =IF('Test Sample Data'!H7="","",IF(SUM('Test Sample Data'!H$3:H$98)>10,IF(AND(ISNUMBER('Test Sample Data'!H7),'Test Sample Data'!H7<35,'Test Sample Data'!H7>0),'Test Sample Data'!H7,35),"")) | I8: =IF('Test Sample Data'!I7="","",IF(SUM('Test Sample Data'!I$3:I$98)>10,IF(AND(ISNUMBER('Test Sample Data'!I7),'Test Sample Data'!I7<35,'Test Sample Data'!I7>0),'Test Sample Data'!I7,35),"")) | J8: =IF('Test Sample Data'!J7="","",IF(SUM('Test Sample Data'!J$3:J$98)>10,IF(AND(ISNUMBER('Test Sample Data'!J7),'Test Sample Data'!J7<35,'Test Sample Data'!J7>0),'Test Sample Data'!J7,35),"")) | ... L8: =IF('Test Sample Data'!L7="","",IF(SUM('Test Sample Data'!L$3:L$98)>10,IF(AND(ISNUMBER('Test Sample Data'!L7),'Test Sample Data'!L7<35,'Test Sample Data'!L7>0),'Test Sample Data'!L7,35),"")) | M8: ='Gene Table'!D7 -> hsa-miR-15b-5p | N8: A05 | O8: =IF('Control Sample Data'!C7="","",IF(SUM('Control Sample Data'!C$3:C$98)>10,IF(AND(ISNUMBER('Control Sample Data'!C7),'Control Sample Data'!C7<35,'Control Sample Data'!C7>0),'Control Sample Data'!C7,35),"")) | P8: =IF('Control Sample Data'!D7="","",IF(SUM('Control Sample Data'!D$3:D$98)>10,IF(AND(ISNUMBER('Control Sample Data'!D7),'Control Sample Data'!D7<35,'Control Sample Data'!D7>0),'Control Sample Data'!D7,35),"")) | Q8: =IF('Control Sample Data'!E7="","",IF(SUM('Control Sample Data'!E$3:E$98)>10,IF(AND(ISNUMBER('Control Sample Data'!E7),'Control Sample Data'!E7<35,'Control Sample Data'!E7>0),'Control Sample Data'!E7,35),"")) | R8: =IF('Control Sample Data'!F7="","",IF(SUM('Control Sample Data'!F$3:F$98)>10,IF(AND(ISNUMBER('Control Sample Data'!F7),'Control Sample Data'!F7<35,'Control Sample Data'!F7>0),'Control Sample Data'!F7,35),"")) | S8: =IF('Control Sample Data'!G7="","",IF(SUM('Control Sample Data'!G$3:G$98)>10,IF(AND(ISNUMBER('Control Sample Data'!G7),'Control Sample Data'!G7<35,'Control Sample Data'!G7>0),'Control Sample Data'!G7,35),"")) | T8: =IF('Control Sample Data'!H7="","",IF(SUM('Control Sample Data'!H$3:H$98)>10,IF(AND(ISNUMBER('Control Sample Data'!H7),'Control Sample Data'!H7<35,'Control Sample Data'!H7>0),'Control Sample Data'!H7,35),"")) | U8: =IF('Control Sample Data'!I7="","",IF(SUM('Control Sample Data'!I$3:I$98)>10,IF(AND(ISNUMBER('Control Sample Data'!I7),'Control Sample Data'!I7<35,'Control Sample Data'!I7>0),'Control Sample Data'!I7,35),"")) | V8: =IF('Control Sample Data'!J7="","",IF(SUM('Control Sample Data'!J$3:J$98)>10,IF(AND(ISNUMBER('Control Sample Data'!J7),'Control Sample Data'!J7<35,'Control Sample Data'!J7>0),'Control Sample Data'!J7,35),"")) | ... X8: =IF('Control Sample Data'!L7="","",IF(SUM('Control Sample Data'!L$3:L$98)>10,IF(AND(ISNUMBER('Control Sample Data'!L7),'Control Sample Data'!L7<35,'Control Sample Data'!L7>0),'Control Sample Data'!L7,35),"")) | Y8: =IF(ISERROR(VLOOKUP('Choose Housekeeping Genes'!$A7,Calculations!$A$4:$L$99,3,0)),"",VLOOKUP('Choose Housekeeping Genes'!$A7,Calculations!$A$4:$L$99,3,0)) | Z8: =IF(ISERROR(VLOOKUP('Choose Housekeeping Genes'!$A7,Calculations!$A$4:$L$99,4,0)),"",VLOOKUP('Choose Housekeeping Genes'!$A7,Calculations!$A$4:$L$99,4,0)) | AA8: =IF(ISERROR(VLOOKUP('Choose Housekeeping Genes'!$A7,Calculations!$A$4:$L$99,5,0)),"",VLOOKUP('Choose Housekeeping Genes'!$A7,Calculations!$A$4:$L$99,5,0)) | AB8: =IF(ISERROR(VLOOKUP('Choose Housekeeping Genes'!$A7,Calculations!$A$4:$L$99,6,0)),"",VLOOKUP('Choose Housekeeping Genes'!$A7,Calculations!$A$4:$L$99,6,0)) | AC8: =IF(ISERROR(VLOOKUP('Choose Housekeeping Genes'!$A7,Calculations!$A$4:$L$99,7,0)),"",VLOOKUP('Choose Housekeeping Genes'!$A7,Calculations!$A$4:$L$99,7,0)) | AD8: =IF(ISERROR(VLOOKUP('Choose Housekeeping Genes'!$A7,Calculations!$A$4:$L$99,8,0)),"",VLOOKUP('Choose Housekeeping Genes'!$A7,Calculations!$A$4:$L$99,8,0)) | AE8: =IF(ISERROR(VLOOKUP('Choose Housekeeping Genes'!$A7,Calculations!$A$4:$L$99,9,0)),"",VLOOKUP('Choose Housekeeping Genes'!$A7,Calculations!$A$4:$L$99,9,0)) | AF8: =IF(ISERROR(VLOOKUP('Choose Housekeeping Genes'!$A7,Calculations!$A$4:$L$99,10,0)),"",VLOOKUP('Choose Housekeeping Genes'!$A7,Calculations!$A$4:$L$99,10,0)) | AG8: =IF(ISERROR(VLOOKUP('Choose Housekeeping Genes'!$A7,Calculations!$A$4:$L$99,11,0)),"",VLOOKUP('Choose Housekeeping Genes'!$A7,Calculations!$A$4:$L$99,11,0)) | AH8: =IF(ISERROR(VLOOKUP('Choose Housekeeping Genes'!$A7,Calculations!$A$4:$M$99,12,0)),"",VLOOKUP('Choose Housekeeping Genes'!$A7,Calculations!$A$4:$M$99,12,0)) | AI8: =IF(ISERROR(VLOOKUP('Choose Housekeeping Genes'!$A7,Calculations!$A$4:$AA$99,15,0)),"",VLOOKUP('Choose Housekeeping Genes'!$A7,Calculations!$A$4:$AA$99,15,0)) | AJ8: =IF(ISERROR(VLOOKUP('Choose Housekeeping Genes'!$A7,Calculations!$A$4:$AA$99,16,0)),"",VLOOKUP('Choose Housekeeping Genes'!$A7,Calculations!$A$4:$AA$99,16,0)) | AK8: =IF(ISERROR(VLOOKUP('Choose Housekeeping Genes'!$A7,Calculations!$A$4:$AA$99,17,0)),"",VLOOKUP('Choose Housekeeping Genes'!$A7,Calculations!$A$4:$AA$99,17,0)) | AL8: =IF(ISERROR(VLOOKUP('Choose Housekeeping Genes'!$A7,Calculations!$A$4:$AA$99,18,0)),"",VLOOKUP('Choose Housekeeping Genes'!$A7,Calculations!$A$4:$AA$99,18,0)) | AM8: =IF(ISERROR(VLOOKUP('Choose Housekeeping Genes'!$A7,Calculations!$A$4:$AA$99,19,0)),"",VLOOKUP('Choose Housekeeping Genes'!$A7,Calculations!$A$4:$AA$99,19,0)) | AN8: =IF(ISERROR(VLOOKUP('Choose Housekeeping Genes'!$A7,Calculations!$A$4:$AA$99,20,0)),"",VLOOKUP('Choose Housekeeping Genes'!$A7,Calculations!$A$4:$AA$99,20,0)) | AO8: =IF(ISERROR(VLOOKUP('Choose Housekeeping Genes'!$A7,Calculations!$A$4:$AA$99,21,0)),"",VLOOKUP('Choose Housekeeping Genes'!$A7,Calculations!$A$4:$AA$99,21,0)) | AP8: =IF(ISERROR(VLOOKUP('Choose Housekeeping Genes'!$A7,Calculations!$A$4:$AA$99,22,0)),"",VLOOKUP('Choose Housekeeping Genes'!$A7,Calculations!$A$4:$AA$99,22,0)) | AQ8: =IF(ISERROR(VLOOKUP('Choose Housekeeping Genes'!$A7,Calculations!$A$4:$AA$99,23,0)),"",VLOOKUP('Choose Housekeeping Genes'!$A7,Calculations!$A$4:$AA$99,23,0)) | AR8: =IF(ISERROR(VLOOKUP('Choose Housekeeping Genes'!$A7,Calculations!$A$4:$AA$99,24,0)),"",VLOOKUP('Choose Housekeeping Genes'!$A7,Calculations!$A$4:$AA$99,24,0)) | AS8: =A8 -> hsa-miR-15b-5p | AT8: A05 | AU8: =IF(ISERROR(C8-Y$26),"",C8-Y$26) | AV8: =IF(ISERROR(D8-Z$26),"",D8-Z$26) | AW8: =IF(ISERROR(E8-AA$26),"",E8-AA$26) | AX8: =IF(ISERROR(F8-AB$26),"",F8-AB$26) | AY8: =IF(ISERROR(G8-AC$26),"",G8-AC$26) | AZ8: =IF(ISERROR(H8-AD$26),"",H8-AD$26) | BA8: =IF(ISERROR(I8-AE$26),"",I8-AE$26) | BB8: =IF(ISERROR(J8-AF$26),"",J8-AF$26) | ... BD8: =IF(ISERROR(L8-AH$26),"",L8-AH$26) | BE8: =IF(ISERROR(O8-AI$26),"",O8-AI$26) | BF8: =IF(ISERROR(P8-AJ$26),"",P8-AJ$26) | BG8: =IF(ISERROR(Q8-AK$26),"",Q8-AK$26) | BH8: =IF(ISERROR(R8-AL$26),"",R8-AL$26) | BI8: =IF(ISERROR(S8-AM$26),"",S8-AM$26) | BJ8: =IF(ISERROR(T8-AN$26),"",T8-AN$26) | BK8: =IF(ISERROR(U8-AO$26),"",U8-AO$26) | BL8: =IF(ISERROR(V8-AP$26),"",V8-AP$26) | ... BN8: =IF(ISERROR(X8-AR$26),"",X8-AR$26) | BO8: =IF(ISERROR(AVERAGE(AU8:BD8)),"N/A",AVERAGE(AU8:BD8)) -> N/A | BP8: =IF(ISERROR(AVERAGE(BE8:BN8)),"N/A",AVERAGE(BE8:BN8)) -> N/A | BQ8: =A8 -> hsa-miR-15b-5p | BR8: A05 | BS8: =IF(AU8="","",POWER(2,-AU8)) | BT8: =IF(AV8="","",POWER(2,-AV8)) | BU8: =IF(AW8="","",POWER(2,-AW8)) | BV8: =IF(AX8="","",POWER(2,-AX8)) | BW8: =IF(AY8="","",POWER(2,-AY8)) | BX8: =IF(AZ8="","",POWER(2,-AZ8)) | BY8: =IF(BA8="","",POWER(2,-BA8)) | BZ8: =IF(BB8="","",POWER(2,-BB8)) | ... CL8: =IF(BN8="","",POWER(2,-BN8))
A9: ='Gene Table'!D8 -> hsa-miR-208a | B9: A06 | C9: =IF('Test Sample Data'!C8="","",IF(SUM('Test Sample Data'!C$3:C$98)>10,IF(AND(ISNUMBER('Test Sample Data'!C8),'Test Sample Data'!C8<35,'Test Sample Data'!C8>0),'Test Sample Data'!C8,35),"")) | D9: =IF('Test Sample Data'!D8="","",IF(SUM('Test Sample Data'!D$3:D$98)>10,IF(AND(ISNUMBER('Test Sample Data'!D8),'Test Sample Data'!D8<35,'Test Sample Data'!D8>0),'Test Sample Data'!D8,35),"")) | E9: =IF('Test Sample Data'!E8="","",IF(SUM('Test Sample Data'!E$3:E$98)>10,IF(AND(ISNUMBER('Test Sample Data'!E8),'Test Sample Data'!E8<35,'Test Sample Data'!E8>0),'Test Sample Data'!E8,35),"")) | F9: =IF('Test Sample Data'!F8="","",IF(SUM('Test Sample Data'!F$3:F$98)>10,IF(AND(ISNUMBER('Test Sample Data'!F8),'Test Sample Data'!F8<35,'Test Sample Data'!F8>0),'Test Sample Data'!F8,35),"")) | G9: =IF('Test Sample Data'!G8="","",IF(SUM('Test Sample Data'!G$3:G$98)>10,IF(AND(ISNUMBER('Test Sample Data'!G8),'Test Sample Data'!G8<35,'Test Sample Data'!G8>0),'Test Sample Data'!G8,35),"")) | H9: =IF('Test Sample Data'!H8="","",IF(SUM('Test Sample Data'!H$3:H$98)>10,IF(AND(ISNUMBER('Test Sample Data'!H8),'Test Sample Data'!H8<35,'Test Sample Data'!H8>0),'Test Sample Data'!H8,35),"")) | I9: =IF('Test Sample Data'!I8="","",IF(SUM('Test Sample Data'!I$3:I$98)>10,IF(AND(ISNUMBER('Test Sample Data'!I8),'Test Sample Data'!I8<35,'Test Sample Data'!I8>0),'Test Sample Data'!I8,35),"")) | J9: =IF('Test Sample Data'!J8="","",IF(SUM('Test Sample Data'!J$3:J$98)>10,IF(AND(ISNUMBER('Test Sample Data'!J8),'Test Sample Data'!J8<35,'Test Sample Data'!J8>0),'Test Sample Data'!J8,35),"")) | ... L9: =IF('Test Sample Data'!L8="","",IF(SUM('Test Sample Data'!L$3:L$98)>10,IF(AND(ISNUMBER('Test Sample Data'!L8),'Test Sample Data'!L8<35,'Test Sample Data'!L8>0),'Test Sample Data'!L8,35),"")) | M9: ='Gene Table'!D8 -> hsa-miR-208a | N9: A06 | O9: =IF('Control Sample Data'!C8="","",IF(SUM('Control Sample Data'!C$3:C$98)>10,IF(AND(ISNUMBER('Control Sample Data'!C8),'Control Sample Data'!C8<35,'Control Sample Data'!C8>0),'Control Sample Data'!C8,35),"")) | P9: =IF('Control Sample Data'!D8="","",IF(SUM('Control Sample Data'!D$3:D$98)>10,IF(AND(ISNUMBER('Control Sample Data'!D8),'Control Sample Data'!D8<35,'Control Sample Data'!D8>0),'Control Sample Data'!D8,35),"")) | Q9: =IF('Control Sample Data'!E8="","",IF(SUM('Control Sample Data'!E$3:E$98)>10,IF(AND(ISNUMBER('Control Sample Data'!E8),'Control Sample Data'!E8<35,'Control Sample Data'!E8>0),'Control Sample Data'!E8,35),"")) | R9: =IF('Control Sample Data'!F8="","",IF(SUM('Control Sample Data'!F$3:F$98)>10,IF(AND(ISNUMBER('Control Sample Data'!F8),'Control Sample Data'!F8<35,'Control Sample Data'!F8>0),'Control Sample Data'!F8,35),"")) | S9: =IF('Control Sample Data'!G8="","",IF(SUM('Control Sample Data'!G$3:G$98)>10,IF(AND(ISNUMBER('Control Sample Data'!G8),'Control Sample Data'!G8<35,'Control Sample Data'!G8>0),'Control Sample Data'!G8,35),"")) | T9: =IF('Control Sample Data'!H8="","",IF(SUM('Control Sample Data'!H$3:H$98)>10,IF(AND(ISNUMBER('Control Sample Data'!H8),'Control Sample Data'!H8<35,'Control Sample Data'!H8>0),'Control Sample Data'!H8,35),"")) | U9: =IF('Control Sample Data'!I8="","",IF(SUM('Control Sample Data'!I$3:I$98)>10,IF(AND(ISNUMBER('Control Sample Data'!I8),'Control Sample Data'!I8<35,'Control Sample Data'!I8>0),'Control Sample Data'!I8,35),"")) | V9: =IF('Control Sample Data'!J8="","",IF(SUM('Control Sample Data'!J$3:J$98)>10,IF(AND(ISNUMBER('Control Sample Data'!J8),'Control Sample Data'!J8<35,'Control Sample Data'!J8>0),'Control Sample Data'!J8,35),"")) | ... X9: =IF('Control Sample Data'!L8="","",IF(SUM('Control Sample Data'!L$3:L$98)>10,IF(AND(ISNUMBER('Control Sample Data'!L8),'Control Sample Data'!L8<35,'Control Sample Data'!L8>0),'Control Sample Data'!L8,35),"")) | Y9: =IF(ISERROR(VLOOKUP('Choose Housekeeping Genes'!$A8,Calculations!$A$4:$L$99,3,0)),"",VLOOKUP('Choose Housekeeping Genes'!$A8,Calculations!$A$4:$L$99,3,0)) | Z9: =IF(ISERROR(VLOOKUP('Choose Housekeeping Genes'!$A8,Calculations!$A$4:$L$99,4,0)),"",VLOOKUP('Choose Housekeeping Genes'!$A8,Calculations!$A$4:$L$99,4,0)) | AA9: =IF(ISERROR(VLOOKUP('Choose Housekeeping Genes'!$A8,Calculations!$A$4:$L$99,5,0)),"",VLOOKUP('Choose Housekeeping Genes'!$A8,Calculations!$A$4:$L$99,5,0)) | AB9: =IF(ISERROR(VLOOKUP('Choose Housekeeping Genes'!$A8,Calculations!$A$4:$L$99,6,0)),"",VLOOKUP('Choose Housekeeping Genes'!$A8,Calculations!$A$4:$L$99,6,0)) | AC9: =IF(ISERROR(VLOOKUP('Choose Housekeeping Genes'!$A8,Calculations!$A$4:$L$99,7,0)),"",VLOOKUP('Choose Housekeeping Genes'!$A8,Calculations!$A$4:$L$99,7,0)) | AD9: =IF(ISERROR(VLOOKUP('Choose Housekeeping Genes'!$A8,Calculations!$A$4:$L$99,8,0)),"",VLOOKUP('Choose Housekeeping Genes'!$A8,Calculations!$A$4:$L$99,8,0)) | AE9: =IF(ISERROR(VLOOKUP('Choose Housekeeping Genes'!$A8,Calculations!$A$4:$L$99,9,0)),"",VLOOKUP('Choose Housekeeping Genes'!$A8,Calculations!$A$4:$L$99,9,0)) | AF9: =IF(ISERROR(VLOOKUP('Choose Housekeeping Genes'!$A8,Calculations!$A$4:$L$99,10,0)),"",VLOOKUP('Choose Housekeeping Genes'!$A8,Calculations!$A$4:$L$99,10,0)) | AG9: =IF(ISERROR(VLOOKUP('Choose Housekeeping Genes'!$A8,Calculations!$A$4:$L$99,11,0)),"",VLOOKUP('Choose Housekeeping Genes'!$A8,Calculations!$A$4:$L$99,11,0)) | AH9: =IF(ISERROR(VLOOKUP('Choose Housekeeping Genes'!$A8,Calculations!$A$4:$M$99,12,0)),"",VLOOKUP('Choose Housekeeping Genes'!$A8,Calculations!$A$4:$M$99,12,0)) | AI9: =IF(ISERROR(VLOOKUP('Choose Housekeeping Genes'!$A8,Calculations!$A$4:$AA$99,15,0)),"",VLOOKUP('Choose Housekeeping Genes'!$A8,Calculations!$A$4:$AA$99,15,0)) | AJ9: =IF(ISERROR(VLOOKUP('Choose Housekeeping Genes'!$A8,Calculations!$A$4:$AA$99,16,0)),"",VLOOKUP('Choose Housekeeping Genes'!$A8,Calculations!$A$4:$AA$99,16,0)) | AK9: =IF(ISERROR(VLOOKUP('Choose Housekeeping Genes'!$A8,Calculations!$A$4:$AA$99,17,0)),"",VLOOKUP('Choose Housekeeping Genes'!$A8,Calculations!$A$4:$AA$99,17,0)) | AL9: =IF(ISERROR(VLOOKUP('Choose Housekeeping Genes'!$A8,Calculations!$A$4:$AA$99,18,0)),"",VLOOKUP('Choose Housekeeping Genes'!$A8,Calculations!$A$4:$AA$99,18,0)) | AM9: =IF(ISERROR(VLOOKUP('Choose Housekeeping Genes'!$A8,Calculations!$A$4:$AA$99,19,0)),"",VLOOKUP('Choose Housekeeping Genes'!$A8,Calculations!$A$4:$AA$99,19,0)) | AN9: =IF(ISERROR(VLOOKUP('Choose Housekeeping Genes'!$A8,Calculations!$A$4:$AA$99,20,0)),"",VLOOKUP('Choose Housekeeping Genes'!$A8,Calculations!$A$4:$AA$99,20,0)) | AO9: =IF(ISERROR(VLOOKUP('Choose Housekeeping Genes'!$A8,Calculations!$A$4:$AA$99,21,0)),"",VLOOKUP('Choose Housekeeping Genes'!$A8,Calculations!$A$4:$AA$99,21,0)) | AP9: =IF(ISERROR(VLOOKUP('Choose Housekeeping Genes'!$A8,Calculations!$A$4:$AA$99,22,0)),"",VLOOKUP('Choose Housekeeping Genes'!$A8,Calculations!$A$4:$AA$99,22,0)) | AQ9: =IF(ISERROR(VLOOKUP('Choose Housekeeping Genes'!$A8,Calculations!$A$4:$AA$99,23,0)),"",VLOOKUP('Choose Housekeeping Genes'!$A8,Calculations!$A$4:$AA$99,23,0)) | AR9: =IF(ISERROR(VLOOKUP('Choose Housekeeping Genes'!$A8,Calculations!$A$4:$AA$99,24,0)),"",VLOOKUP('Choose Housekeeping Genes'!$A8,Calculations!$A$4:$AA$99,24,0)) | AS9: =A9 -> hsa-miR-208a | AT9: A06 | AU9: =IF(ISERROR(C9-Y$26),"",C9-Y$26) | AV9: =IF(ISERROR(D9-Z$26),"",D9-Z$26) | AW9: =IF(ISERROR(E9-AA$26),"",E9-AA$26) | AX9: =IF(ISERROR(F9-AB$26),"",F9-AB$26) | AY9: =IF(ISERROR(G9-AC$26),"",G9-AC$26) | AZ9: =IF(ISERROR(H9-AD$26),"",H9-AD$26) | BA9: =IF(ISERROR(I9-AE$26),"",I9-AE$26) | BB9: =IF(ISERROR(J9-AF$26),"",J9-AF$26) | ... BD9: =IF(ISERROR(L9-AH$26),"",L9-AH$26) | BE9: =IF(ISERROR(O9-AI$26),"",O9-AI$26) | BF9: =IF(ISERROR(P9-AJ$26),"",P9-AJ$26) | BG9: =IF(ISERROR(Q9-AK$26),"",Q9-AK$26) | BH9: =IF(ISERROR(R9-AL$26),"",R9-AL$26) | BI9: =IF(ISERROR(S9-AM$26),"",S9-AM$26) | BJ9: =IF(ISERROR(T9-AN$26),"",T9-AN$26) | BK9: =IF(ISERROR(U9-AO$26),"",U9-AO$26) | BL9: =IF(ISERROR(V9-AP$26),"",V9-AP$26) | ... BN9: =IF(ISERROR(X9-AR$26),"",X9-AR$26) | BO9: =IF(ISERROR(AVERAGE(AU9:BD9)),"N/A",AVERAGE(AU9:BD9)) -> N/A | BP9: =IF(ISERROR(AVERAGE(BE9:BN9)),"N/A",AVERAGE(BE9:BN9)) -> N/A | BQ9: =A9 -> hsa-miR-208a | BR9: A06 | BS9: =IF(AU9="","",POWER(2,-AU9)) | BT9: =IF(AV9="","",POWER(2,-AV9)) | BU9: =IF(AW9="","",POWER(2,-AW9)) | BV9: =IF(AX9="","",POWER(2,-AX9)) | BW9: =IF(AY9="","",POWER(2,-AY9)) | BX9: =IF(AZ9="","",POWER(2,-AZ9)) | BY9: =IF(BA9="","",POWER(2,-BA9)) | BZ9: =IF(BB9="","",POWER(2,-BB9)) | ... CL9: =IF(BN9="","",POWER(2,-BN9))
A10: ='Gene Table'!D9 -> hsa-miR-208b | B10: A07 | C10: =IF('Test Sample Data'!C9="","",IF(SUM('Test Sample Data'!C$3:C$98)>10,IF(AND(ISNUMBER('Test Sample Data'!C9),'Test Sample Data'!C9<35,'Test Sample Data'!C9>0),'Test Sample Data'!C9,35),"")) | D10: =IF('Test Sample Data'!D9="","",IF(SUM('Test Sample Data'!D$3:D$98)>10,IF(AND(ISNUMBER('Test Sample Data'!D9),'Test Sample Data'!D9<35,'Test Sample Data'!D9>0),'Test Sample Data'!D9,35),"")) | E10: =IF('Test Sample Data'!E9="","",IF(SUM('Test Sample Data'!E$3:E$98)>10,IF(AND(ISNUMBER('Test Sample Data'!E9),'Test Sample Data'!E9<35,'Test Sample Data'!E9>0),'Test Sample Data'!E9,35),"")) | F10: =IF('Test Sample Data'!F9="","",IF(SUM('Test Sample Data'!F$3:F$98)>10,IF(AND(ISNUMBER('Test Sample Data'!F9),'Test Sample Data'!F9<35,'Test Sample Data'!F9>0),'Test Sample Data'!F9,35),"")) | G10: =IF('Test Sample Data'!G9="","",IF(SUM('Test Sample Data'!G$3:G$98)>10,IF(AND(ISNUMBER('Test Sample Data'!G9),'Test Sample Data'!G9<35,'Test Sample Data'!G9>0),'Test Sample Data'!G9,35),"")) | H10: =IF('Test Sample Data'!H9="","",IF(SUM('Test Sample Data'!H$3:H$98)>10,IF(AND(ISNUMBER('Test Sample Data'!H9),'Test Sample Data'!H9<35,'Test Sample Data'!H9>0),'Test Sample Data'!H9,35),"")) | I10: =IF('Test Sample Data'!I9="","",IF(SUM('Test Sample Data'!I$3:I$98)>10,IF(AND(ISNUMBER('Test Sample Data'!I9),'Test Sample Data'!I9<35,'Test Sample Data'!I9>0),'Test Sample Data'!I9,35),"")) | J10: =IF('Test Sample Data'!J9="","",IF(SUM('Test Sample Data'!J$3:J$98)>10,IF(AND(ISNUMBER('Test Sample Data'!J9),'Test Sample Data'!J9<35,'Test Sample Data'!J9>0),'Test Sample Data'!J9,35),"")) | ... L10: =IF('Test Sample Data'!L9="","",IF(SUM('Test Sample Data'!L$3:L$98)>10,IF(AND(ISNUMBER('Test Sample Data'!L9),'Test Sample Data'!L9<35,'Test Sample Data'!L9>0),'Test Sample Data'!L9,35),"")) | M10: ='Gene Table'!D9 -> hsa-miR-208b | N10: A07 | O10: =IF('Control Sample Data'!C9="","",IF(SUM('Control Sample Data'!C$3:C$98)>10,IF(AND(ISNUMBER('Control Sample Data'!C9),'Control Sample Data'!C9<35,'Control Sample Data'!C9>0),'Control Sample Data'!C9,35),"")) | P10: =IF('Control Sample Data'!D9="","",IF(SUM('Control Sample Data'!D$3:D$98)>10,IF(AND(ISNUMBER('Control Sample Data'!D9),'Control Sample Data'!D9<35,'Control Sample Data'!D9>0),'Control Sample Data'!D9,35),"")) | Q10: =IF('Control Sample Data'!E9="","",IF(SUM('Control Sample Data'!E$3:E$98)>10,IF(AND(ISNUMBER('Control Sample Data'!E9),'Control Sample Data'!E9<35,'Control Sample Data'!E9>0),'Control Sample Data'!E9,35),"")) | R10: =IF('Control Sample Data'!F9="","",IF(SUM('Control Sample Data'!F$3:F$98)>10,IF(AND(ISNUMBER('Control Sample Data'!F9),'Control Sample Data'!F9<35,'Control Sample Data'!F9>0),'Control Sample Data'!F9,35),"")) | S10: =IF('Control Sample Data'!G9="","",IF(SUM('Control Sample Data'!G$3:G$98)>10,IF(AND(ISNUMBER('Control Sample Data'!G9),'Control Sample Data'!G9<35,'Control Sample Data'!G9>0),'Control Sample Data'!G9,35),"")) | T10: =IF('Control Sample Data'!H9="","",IF(SUM('Control Sample Data'!H$3:H$98)>10,IF(AND(ISNUMBER('Control Sample Data'!H9),'Control Sample Data'!H9<35,'Control Sample Data'!H9>0),'Control Sample Data'!H9,35),"")) | U10: =IF('Control Sample Data'!I9="","",IF(SUM('Control Sample Data'!I$3:I$98)>10,IF(AND(ISNUMBER('Control Sample Data'!I9),'Control Sample Data'!I9<35,'Control Sample Data'!I9>0),'Control Sample Data'!I9,35),"")) | V10: =IF('Control Sample Data'!J9="","",IF(SUM('Control Sample Data'!J$3:J$98)>10,IF(AND(ISNUMBER('Control Sample Data'!J9),'Control Sample Data'!J9<35,'Control Sample Data'!J9>0),'Control Sample Data'!J9,35),"")) | ... X10: =IF('Control Sample Data'!L9="","",IF(SUM('Control Sample Data'!L$3:L$98)>10,IF(AND(ISNUMBER('Control Sample Data'!L9),'Control Sample Data'!L9<35,'Control Sample Data'!L9>0),'Control Sample Data'!L9,35),"")) | Y10: =IF(ISERROR(VLOOKUP('Choose Housekeeping Genes'!$A9,Calculations!$A$4:$L$99,3,0)),"",VLOOKUP('Choose Housekeeping Genes'!$A9,Calculations!$A$4:$L$99,3,0)) | Z10: =IF(ISERROR(VLOOKUP('Choose Housekeeping Genes'!$A9,Calculations!$A$4:$L$99,4,0)),"",VLOOKUP('Choose Housekeeping Genes'!$A9,Calculations!$A$4:$L$99,4,0)) | AA10: =IF(ISERROR(VLOOKUP('Choose Housekeeping Genes'!$A9,Calculations!$A$4:$L$99,5,0)),"",VLOOKUP('Choose Housekeeping Genes'!$A9,Calculations!$A$4:$L$99,5,0)) | AB10: =IF(ISERROR(VLOOKUP('Choose Housekeeping Genes'!$A9,Calculations!$A$4:$L$99,6,0)),"",VLOOKUP('Choose Housekeeping Genes'!$A9,Calculations!$A$4:$L$99,6,0)) | AC10: =IF(ISERROR(VLOOKUP('Choose Housekeeping Genes'!$A9,Calculations!$A$4:$L$99,7,0)),"",VLOOKUP('Choose Housekeeping Genes'!$A9,Calculations!$A$4:$L$99,7,0)) | AD10: =IF(ISERROR(VLOOKUP('Choose Housekeeping Genes'!$A9,Calculations!$A$4:$L$99,8,0)),"",VLOOKUP('Choose Housekeeping Genes'!$A9,Calculations!$A$4:$L$99,8,0)) | AE10: =IF(ISERROR(VLOOKUP('Choose Housekeeping Genes'!$A9,Calculations!$A$4:$L$99,9,0)),"",VLOOKUP('Choose Housekeeping Genes'!$A9,Calculations!$A$4:$L$99,9,0)) | AF10: =IF(ISERROR(VLOOKUP('Choose Housekeeping Genes'!$A9,Calculations!$A$4:$L$99,10,0)),"",VLOOKUP('Choose Housekeeping Genes'!$A9,Calculations!$A$4:$L$99,10,0)) | AG10: =IF(ISERROR(VLOOKUP('Choose Housekeeping Genes'!$A9,Calculations!$A$4:$L$99,11,0)),"",VLOOKUP('Choose Housekeeping Genes'!$A9,Calculations!$A$4:$L$99,11,0)) | AH10: =IF(ISERROR(VLOOKUP('Choose Housekeeping Genes'!$A9,Calculations!$A$4:$M$99,12,0)),"",VLOOKUP('Choose Housekeeping Genes'!$A9,Calculations!$A$4:$M$99,12,0)) | AI10: =IF(ISERROR(VLOOKUP('Choose Housekeeping Genes'!$A9,Calculations!$A$4:$AA$99,15,0)),"",VLOOKUP('Choose Housekeeping Genes'!$A9,Calculations!$A$4:$AA$99,15,0)) | AJ10: =IF(ISERROR(VLOOKUP('Choose Housekeeping Genes'!$A9,Calculations!$A$4:$AA$99,16,0)),"",VLOOKUP('Choose Housekeeping Genes'!$A9,Calculations!$A$4:$AA$99,16,0)) | AK10: =IF(ISERROR(VLOOKUP('Choose Housekeeping Genes'!$A9,Calculations!$A$4:$AA$99,17,0)),"",VLOOKUP('Choose Housekeeping Genes'!$A9,Calculations!$A$4:$AA$99,17,0)) | AL10: =IF(ISERROR(VLOOKUP('Choose Housekeeping Genes'!$A9,Calculations!$A$4:$AA$99,18,0)),"",VLOOKUP('Choose Housekeeping Genes'!$A9,Calculations!$A$4:$AA$99,18,0)) | AM10: =IF(ISERROR(VLOOKUP('Choose Housekeeping Genes'!$A9,Calculations!$A$4:$AA$99,19,0)),"",VLOOKUP('Choose Housekeeping Genes'!$A9,Calculations!$A$4:$AA$99,19,0)) | AN10: =IF(ISERROR(VLOOKUP('Choose Housekeeping Genes'!$A9,Calculations!$A$4:$AA$99,20,0)),"",VLOOKUP('Choose Housekeeping Genes'!$A9,Calculations!$A$4:$AA$99,20,0)) | AO10: =IF(ISERROR(VLOOKUP('Choose Housekeeping Genes'!$A9,Calculations!$A$4:$AA$99,21,0)),"",VLOOKUP('Choose Housekeeping Genes'!$A9,Calculations!$A$4:$AA$99,21,0)) | AP10: =IF(ISERROR(VLOOKUP('Choose Housekeeping Genes'!$A9,Calculations!$A$4:$AA$99,22,0)),"",VLOOKUP('Choose Housekeeping Genes'!$A9,Calculations!$A$4:$AA$99,22,0)) | AQ10: =IF(ISERROR(VLOOKUP('Choose Housekeeping Genes'!$A9,Calculations!$A$4:$AA$99,23,0)),"",VLOOKUP('Choose Housekeeping Genes'!$A9,Calculations!$A$4:$AA$99,23,0)) | AR10: =IF(ISERROR(VLOOKUP('Choose Housekeeping Genes'!$A9,Calculations!$A$4:$AA$99,24,0)),"",VLOOKUP('Choose Housekeeping Genes'!$A9,Calculations!$A$4:$AA$99,24,0)) | AS10: =A10 -> hsa-miR-208b | AT10: A07 | AU10: =IF(ISERROR(C10-Y$26),"",C10-Y$26) | AV10: =IF(ISERROR(D10-Z$26),"",D10-Z$26) | AW10: =IF(ISERROR(E10-AA$26),"",E10-AA$26) | AX10: =IF(ISERROR(F10-AB$26),"",F10-AB$26) | AY10: =IF(ISERROR(G10-AC$26),"",G10-AC$26) | AZ10: =IF(ISERROR(H10-AD$26),"",H10-AD$26) | BA10: =IF(ISERROR(I10-AE$26),"",I10-AE$26) | BB10: =IF(ISERROR(J10-AF$26),"",J10-AF$26) | ... BD10: =IF(ISERROR(L10-AH$26),"",L10-AH$26) | BE10: =IF(ISERROR(O10-AI$26),"",O10-AI$26) | BF10: =IF(ISERROR(P10-AJ$26),"",P10-AJ$26) | BG10: =IF(ISERROR(Q10-AK$26),"",Q10-AK$26) | BH10: =IF(ISERROR(R10-AL$26),"",R10-AL$26) | BI10: =IF(ISERROR(S10-AM$26),"",S10-AM$26) | BJ10: =IF(ISERROR(T10-AN$26),"",T10-AN$26) | BK10: =IF(ISERROR(U10-AO$26),"",U10-AO$26) | BL10: =IF(ISERROR(V10-AP$26),"",V10-AP$26) | ... BN10: =IF(ISERROR(X10-AR$26),"",X10-AR$26) | BO10: =IF(ISERROR(AVERAGE(AU10:BD10)),"N/A",AVERAGE(AU10:BD10)) -> N/A | BP10: =IF(ISERROR(AVERAGE(BE10:BN10)),"N/A",AVERAGE(BE10:BN10)) -> N/A | BQ10: =A10 -> hsa-miR-208b | BR10: A07 | BS10: =IF(AU10="","",POWER(2,-AU10)) | BT10: =IF(AV10="","",POWER(2,-AV10)) | BU10: =IF(AW10="","",POWER(2,-AW10)) | BV10: =IF(AX10="","",POWER(2,-AX10)) | BW10: =IF(AY10="","",POWER(2,-AY10)) | BX10: =IF(AZ10="","",POWER(2,-AZ10)) | BY10: =IF(BA10="","",POWER(2,-BA10)) | BZ10: =IF(BB10="","",POWER(2,-BB10)) | ... CL10: =IF(BN10="","",POWER(2,-BN10))
A11: ='Gene Table'!D10 -> hsa-miR-21-5p | B11: A08 | C11: =IF('Test Sample Data'!C10="","",IF(SUM('Test Sample Data'!C$3:C$98)>10,IF(AND(ISNUMBER('Test Sample Data'!C10),'Test Sample Data'!C10<35,'Test Sample Data'!C10>0),'Test Sample Data'!C10,35),"")) | D11: =IF('Test Sample Data'!D10="","",IF(SUM('Test Sample Data'!D$3:D$98)>10,IF(AND(ISNUMBER('Test Sample Data'!D10),'Test Sample Data'!D10<35,'Test Sample Data'!D10>0),'Test Sample Data'!D10,35),"")) | E11: =IF('Test Sample Data'!E10="","",IF(SUM('Test Sample Data'!E$3:E$98)>10,IF(AND(ISNUMBER('Test Sample Data'!E10),'Test Sample Data'!E10<35,'Test Sample Data'!E10>0),'Test Sample Data'!E10,35),"")) | F11: =IF('Test Sample Data'!F10="","",IF(SUM('Test Sample Data'!F$3:F$98)>10,IF(AND(ISNUMBER('Test Sample Data'!F10),'Test Sample Data'!F10<35,'Test Sample Data'!F10>0),'Test Sample Data'!F10,35),"")) | G11: =IF('Test Sample Data'!G10="","",IF(SUM('Test Sample Data'!G$3:G$98)>10,IF(AND(ISNUMBER('Test Sample Data'!G10),'Test Sample Data'!G10<35,'Test Sample Data'!G10>0),'Test Sample Data'!G10,35),"")) | H11: =IF('Test Sample Data'!H10="","",IF(SUM('Test Sample Data'!H$3:H$98)>10,IF(AND(ISNUMBER('Test Sample Data'!H10),'Test Sample Data'!H10<35,'Test Sample Data'!H10>0),'Test Sample Data'!H10,35),"")) | I11: =IF('Test Sample Data'!I10="","",IF(SUM('Test Sample Data'!I$3:I$98)>10,IF(AND(ISNUMBER('Test Sample Data'!I10),'Test Sample Data'!I10<35,'Test Sample Data'!I10>0),'Test Sample Data'!I10,35),"")) | J11: =IF('Test Sample Data'!J10="","",IF(SUM('Test Sample Data'!J$3:J$98)>10,IF(AND(ISNUMBER('Test Sample Data'!J10),'Test Sample Data'!J10<35,'Test Sample Data'!J10>0),'Test Sample Data'!J10,35),"")) | ... L11: =IF('Test Sample Data'!L10="","",IF(SUM('Test Sample Data'!L$3:L$98)>10,IF(AND(ISNUMBER('Test Sample Data'!L10),'Test Sample Data'!L10<35,'Test Sample Data'!L10>0),'Test Sample Data'!L10,35),"")) | M11: ='Gene Table'!D10 -> hsa-miR-21-5p | N11: A08 | O11: =IF('Control Sample Data'!C10="","",IF(SUM('Control Sample Data'!C$3:C$98)>10,IF(AND(ISNUMBER('Control Sample Data'!C10),'Control Sample Data'!C10<35,'Control Sample Data'!C10>0),'Control Sample Data'!C10,35),"")) | P11: =IF('Control Sample Data'!D10="","",IF(SUM('Control Sample Data'!D$3:D$98)>10,IF(AND(ISNUMBER('Control Sample Data'!D10),'Control Sample Data'!D10<35,'Control Sample Data'!D10>0),'Control Sample Data'!D10,35),"")) | Q11: =IF('Control Sample Data'!E10="","",IF(SUM('Control Sample Data'!E$3:E$98)>10,IF(AND(ISNUMBER('Control Sample Data'!E10),'Control Sample Data'!E10<35,'Control Sample Data'!E10>0),'Control Sample Data'!E10,35),"")) | R11: =IF('Control Sample Data'!F10="","",IF(SUM('Control Sample Data'!F$3:F$98)>10,IF(AND(ISNUMBER('Control Sample Data'!F10),'Control Sample Data'!F10<35,'Control Sample Data'!F10>0),'Control Sample Data'!F10,35),"")) | S11: =IF('Control Sample Data'!G10="","",IF(SUM('Control Sample Data'!G$3:G$98)>10,IF(AND(ISNUMBER('Control Sample Data'!G10),'Control Sample Data'!G10<35,'Control Sample Data'!G10>0),'Control Sample Data'!G10,35),"")) | T11: =IF('Control Sample Data'!H10="","",IF(SUM('Control Sample Data'!H$3:H$98)>10,IF(AND(ISNUMBER('Control Sample Data'!H10),'Control Sample Data'!H10<35,'Control Sample Data'!H10>0),'Control Sample Data'!H10,35),"")) | U11: =IF('Control Sample Data'!I10="","",IF(SUM('Control Sample Data'!I$3:I$98)>10,IF(AND(ISNUMBER('Control Sample Data'!I10),'Control Sample Data'!I10<35,'Control Sample Data'!I10>0),'Control Sample Data'!I10,35),"")) | V11: =IF('Control Sample Data'!J10="","",IF(SUM('Control Sample Data'!J$3:J$98)>10,IF(AND(ISNUMBER('Control Sample Data'!J10),'Control Sample Data'!J10<35,'Control Sample Data'!J10>0),'Control Sample Data'!J10,35),"")) | ... X11: =IF('Control Sample Data'!L10="","",IF(SUM('Control Sample Data'!L$3:L$98)>10,IF(AND(ISNUMBER('Control Sample Data'!L10),'Control Sample Data'!L10<35,'Control Sample Data'!L10>0),'Control Sample Data'!L10,35),"")) | Y11: =IF(ISERROR(VLOOKUP('Choose Housekeeping Genes'!$A10,Calculations!$A$4:$L$99,3,0)),"",VLOOKUP('Choose Housekeeping Genes'!$A10,Calculations!$A$4:$L$99,3,0)) | Z11: =IF(ISERROR(VLOOKUP('Choose Housekeeping Genes'!$A10,Calculations!$A$4:$L$99,4,0)),"",VLOOKUP('Choose Housekeeping Genes'!$A10,Calculations!$A$4:$L$99,4,0)) | AA11: =IF(ISERROR(VLOOKUP('Choose Housekeeping Genes'!$A10,Calculations!$A$4:$L$99,5,0)),"",VLOOKUP('Choose Housekeeping Genes'!$A10,Calculations!$A$4:$L$99,5,0)) | AB11: =IF(ISERROR(VLOOKUP('Choose Housekeeping Genes'!$A10,Calculations!$A$4:$L$99,6,0)),"",VLOOKUP('Choose Housekeeping Genes'!$A10,Calculations!$A$4:$L$99,6,0)) | AC11: =IF(ISERROR(VLOOKUP('Choose Housekeeping Genes'!$A10,Calculations!$A$4:$L$99,7,0)),"",VLOOKUP('Choose Housekeeping Genes'!$A10,Calculations!$A$4:$L$99,7,0)) | AD11: =IF(ISERROR(VLOOKUP('Choose Housekeeping Genes'!$A10,Calculations!$A$4:$L$99,8,0)),"",VLOOKUP('Choose Housekeeping Genes'!$A10,Calculations!$A$4:$L$99,8,0)) | AE11: =IF(ISERROR(VLOOKUP('Choose Housekeeping Genes'!$A10,Calculations!$A$4:$L$99,9,0)),"",VLOOKUP('Choose Housekeeping Genes'!$A10,Calculations!$A$4:$L$99,9,0)) | AF11: =IF(ISERROR(VLOOKUP('Choose Housekeeping Genes'!$A10,Calculations!$A$4:$L$99,10,0)),"",VLOOKUP('Choose Housekeeping Genes'!$A10,Calculations!$A$4:$L$99,10,0)) | AG11: =IF(ISERROR(VLOOKUP('Choose Housekeeping Genes'!$A10,Calculations!$A$4:$L$99,11,0)),"",VLOOKUP('Choose Housekeeping Genes'!$A10,Calculations!$A$4:$L$99,11,0)) | AH11: =IF(ISERROR(VLOOKUP('Choose Housekeeping Genes'!$A10,Calculations!$A$4:$M$99,12,0)),"",VLOOKUP('Choose Housekeeping Genes'!$A10,Calculations!$A$4:$M$99,12,0)) | AI11: =IF(ISERROR(VLOOKUP('Choose Housekeeping Genes'!$A10,Calculations!$A$4:$AA$99,15,0)),"",VLOOKUP('Choose Housekeeping Genes'!$A10,Calculations!$A$4:$AA$99,15,0)) | AJ11: =IF(ISERROR(VLOOKUP('Choose Housekeeping Genes'!$A10,Calculations!$A$4:$AA$99,16,0)),"",VLOOKUP('Choose Housekeeping Genes'!$A10,Calculations!$A$4:$AA$99,16,0)) | AK11: =IF(ISERROR(VLOOKUP('Choose Housekeeping Genes'!$A10,Calculations!$A$4:$AA$99,17,0)),"",VLOOKUP('Choose Housekeeping Genes'!$A10,Calculations!$A$4:$AA$99,17,0)) | AL11: =IF(ISERROR(VLOOKUP('Choose Housekeeping Genes'!$A10,Calculations!$A$4:$AA$99,18,0)),"",VLOOKUP('Choose Housekeeping Genes'!$A10,Calculations!$A$4:$AA$99,18,0)) | AM11: =IF(ISERROR(VLOOKUP('Choose Housekeeping Genes'!$A10,Calculations!$A$4:$AA$99,19,0)),"",VLOOKUP('Choose Housekeeping Genes'!$A10,Calculations!$A$4:$AA$99,19,0)) | AN11: =IF(ISERROR(VLOOKUP('Choose Housekeeping Genes'!$A10,Calculations!$A$4:$AA$99,20,0)),"",VLOOKUP('Choose Housekeeping Genes'!$A10,Calculations!$A$4:$AA$99,20,0)) | AO11: =IF(ISERROR(VLOOKUP('Choose Housekeeping Genes'!$A10,Calculations!$A$4:$AA$99,21,0)),"",VLOOKUP('Choose Housekeeping Genes'!$A10,Calculations!$A$4:$AA$99,21,0)) | AP11: =IF(ISERROR(VLOOKUP('Choose Housekeeping Genes'!$A10,Calculations!$A$4:$AA$99,22,0)),"",VLOOKUP('Choose Housekeeping Genes'!$A10,Calculations!$A$4:$AA$99,22,0)) | AQ11: =IF(ISERROR(VLOOKUP('Choose Housekeeping Genes'!$A10,Calculations!$A$4:$AA$99,23,0)),"",VLOOKUP('Choose Housekeeping Genes'!$A10,Calculations!$A$4:$AA$99,23,0)) | AR11: =IF(ISERROR(VLOOKUP('Choose Housekeeping Genes'!$A10,Calculations!$A$4:$AA$99,24,0)),"",VLOOKUP('Choose Housekeeping Genes'!$A10,Calculations!$A$4:$AA$99,24,0)) | AS11: =A11 -> hsa-miR-21-5p | AT11: A08 | AU11: =IF(ISERROR(C11-Y$26),"",C11-Y$26) | AV11: =IF(ISERROR(D11-Z$26),"",D11-Z$26) | AW11: =IF(ISERROR(E11-AA$26),"",E11-AA$26) | AX11: =IF(ISERROR(F11-AB$26),"",F11-AB$26) | AY11: =IF(ISERROR(G11-AC$26),"",G11-AC$26) | AZ11: =IF(ISERROR(H11-AD$26),"",H11-AD$26) | BA11: =IF(ISERROR(I11-AE$26),"",I11-AE$26) | BB11: =IF(ISERROR(J11-AF$26),"",J11-AF$26) | ... BD11: =IF(ISERROR(L11-AH$26),"",L11-AH$26) | BE11: =IF(ISERROR(O11-AI$26),"",O11-AI$26) | BF11: =IF(ISERROR(P11-AJ$26),"",P11-AJ$26) | BG11: =IF(ISERROR(Q11-AK$26),"",Q11-AK$26) | BH11: =IF(ISERROR(R11-AL$26),"",R11-AL$26) | BI11: =IF(ISERROR(S11-AM$26),"",S11-AM$26) | BJ11: =IF(ISERROR(T11-AN$26),"",T11-AN$26) | BK11: =IF(ISERROR(U11-AO$26),"",U11-AO$26) | BL11: =IF(ISERROR(V11-AP$26),"",V11-AP$26) | ... BN11: =IF(ISERROR(X11-AR$26),"",X11-AR$26) | BO11: =IF(ISERROR(AVERAGE(AU11:BD11)),"N/A",AVERAGE(AU11:BD11)) -> N/A | BP11: =IF(ISERROR(AVERAGE(BE11:BN11)),"N/A",AVERAGE(BE11:BN11)) -> N/A | BQ11: =A11 -> hsa-miR-21-5p | BR11: A08 | BS11: =IF(AU11="","",POWER(2,-AU11)) | BT11: =IF(AV11="","",POWER(2,-AV11)) | BU11: =IF(AW11="","",POWER(2,-AW11)) | BV11: =IF(AX11="","",POWER(2,-AX11)) | BW11: =IF(AY11="","",POWER(2,-AY11)) | BX11: =IF(AZ11="","",POWER(2,-AZ11)) | BY11: =IF(BA11="","",POWER(2,-BA11)) | BZ11: =IF(BB11="","",POWER(2,-BB11)) | ... CL11: =IF(BN11="","",POWER(2,-BN11))
A12: ='Gene Table'!D11 -> hsa-miR-210 | B12: A09 | C12: =IF('Test Sample Data'!C11="","",IF(SUM('Test Sample Data'!C$3:C$98)>10,IF(AND(ISNUMBER('Test Sample Data'!C11),'Test Sample Data'!C11<35,'Test Sample Data'!C11>0),'Test Sample Data'!C11,35),"")) | D12: =IF('Test Sample Data'!D11="","",IF(SUM('Test Sample Data'!D$3:D$98)>10,IF(AND(ISNUMBER('Test Sample Data'!D11),'Test Sample Data'!D11<35,'Test Sample Data'!D11>0),'Test Sample Data'!D11,35),"")) | E12: =IF('Test Sample Data'!E11="","",IF(SUM('Test Sample Data'!E$3:E$98)>10,IF(AND(ISNUMBER('Test Sample Data'!E11),'Test Sample Data'!E11<35,'Test Sample Data'!E11>0),'Test Sample Data'!E11,35),"")) | F12: =IF('Test Sample Data'!F11="","",IF(SUM('Test Sample Data'!F$3:F$98)>10,IF(AND(ISNUMBER('Test Sample Data'!F11),'Test Sample Data'!F11<35,'Test Sample Data'!F11>0),'Test Sample Data'!F11,35),"")) | G12: =IF('Test Sample Data'!G11="","",IF(SUM('Test Sample Data'!G$3:G$98)>10,IF(AND(ISNUMBER('Test Sample Data'!G11),'Test Sample Data'!G11<35,'Test Sample Data'!G11>0),'Test Sample Data'!G11,35),"")) | H12: =IF('Test Sample Data'!H11="","",IF(SUM('Test Sample Data'!H$3:H$98)>10,IF(AND(ISNUMBER('Test Sample Data'!H11),'Test Sample Data'!H11<35,'Test Sample Data'!H11>0),'Test Sample Data'!H11,35),"")) | I12: =IF('Test Sample Data'!I11="","",IF(SUM('Test Sample Data'!I$3:I$98)>10,IF(AND(ISNUMBER('Test Sample Data'!I11),'Test Sample Data'!I11<35,'Test Sample Data'!I11>0),'Test Sample Data'!I11,35),"")) | J12: =IF('Test Sample Data'!J11="","",IF(SUM('Test Sample Data'!J$3:J$98)>10,IF(AND(ISNUMBER('Test Sample Data'!J11),'Test Sample Data'!J11<35,'Test Sample Data'!J11>0),'Test Sample Data'!J11,35),"")) | ... L12: =IF('Test Sample Data'!L11="","",IF(SUM('Test Sample Data'!L$3:L$98)>10,IF(AND(ISNUMBER('Test Sample Data'!L11),'Test Sample Data'!L11<35,'Test Sample Data'!L11>0),'Test Sample Data'!L11,35),"")) | M12: ='Gene Table'!D11 -> hsa-miR-210 | N12: A09 | O12: =IF('Control Sample Data'!C11="","",IF(SUM('Control Sample Data'!C$3:C$98)>10,IF(AND(ISNUMBER('Control Sample Data'!C11),'Control Sample Data'!C11<35,'Control Sample Data'!C11>0),'Control Sample Data'!C11,35),"")) | P12: =IF('Control Sample Data'!D11="","",IF(SUM('Control Sample Data'!D$3:D$98)>10,IF(AND(ISNUMBER('Control Sample Data'!D11),'Control Sample Data'!D11<35,'Control Sample Data'!D11>0),'Control Sample Data'!D11,35),"")) | Q12: =IF('Control Sample Data'!E11="","",IF(SUM('Control Sample Data'!E$3:E$98)>10,IF(AND(ISNUMBER('Control Sample Data'!E11),'Control Sample Data'!E11<35,'Control Sample Data'!E11>0),'Control Sample Data'!E11,35),"")) | R12: =IF('Control Sample Data'!F11="","",IF(SUM('Control Sample Data'!F$3:F$98)>10,IF(AND(ISNUMBER('Control Sample Data'!F11),'Control Sample Data'!F11<35,'Control Sample Data'!F11>0),'Control Sample Data'!F11,35),"")) | S12: =IF('Control Sample Data'!G11="","",IF(SUM('Control Sample Data'!G$3:G$98)>10,IF(AND(ISNUMBER('Control Sample Data'!G11),'Control Sample Data'!G11<35,'Control Sample Data'!G11>0),'Control Sample Data'!G11,35),"")) | T12: =IF('Control Sample Data'!H11="","",IF(SUM('Control Sample Data'!H$3:H$98)>10,IF(AND(ISNUMBER('Control Sample Data'!H11),'Control Sample Data'!H11<35,'Control Sample Data'!H11>0),'Control Sample Data'!H11,35),"")) | U12: =IF('Control Sample Data'!I11="","",IF(SUM('Control Sample Data'!I$3:I$98)>10,IF(AND(ISNUMBER('Control Sample Data'!I11),'Control Sample Data'!I11<35,'Control Sample Data'!I11>0),'Control Sample Data'!I11,35),"")) | V12: =IF('Control Sample Data'!J11="","",IF(SUM('Control Sample Data'!J$3:J$98)>10,IF(AND(ISNUMBER('Control Sample Data'!J11),'Control Sample Data'!J11<35,'Control Sample Data'!J11>0),'Control Sample Data'!J11,35),"")) | ... X12: =IF('Control Sample Data'!L11="","",IF(SUM('Control Sample Data'!L$3:L$98)>10,IF(AND(ISNUMBER('Control Sample Data'!L11),'Control Sample Data'!L11<35,'Control Sample Data'!L11>0),'Control Sample Data'!L11,35),"")) | Y12: =IF(ISERROR(VLOOKUP('Choose Housekeeping Genes'!$A11,Calculations!$A$4:$L$99,3,0)),"",VLOOKUP('Choose Housekeeping Genes'!$A11,Calculations!$A$4:$L$99,3,0)) | Z12: =IF(ISERROR(VLOOKUP('Choose Housekeeping Genes'!$A11,Calculations!$A$4:$L$99,4,0)),"",VLOOKUP('Choose Housekeeping Genes'!$A11,Calculations!$A$4:$L$99,4,0)) | AA12: =IF(ISERROR(VLOOKUP('Choose Housekeeping Genes'!$A11,Calculations!$A$4:$L$99,5,0)),"",VLOOKUP('Choose Housekeeping Genes'!$A11,Calculations!$A$4:$L$99,5,0)) | AB12: =IF(ISERROR(VLOOKUP('Choose Housekeeping Genes'!$A11,Calculations!$A$4:$L$99,6,0)),"",VLOOKUP('Choose Housekeeping Genes'!$A11,Calculations!$A$4:$L$99,6,0)) | AC12: =IF(ISERROR(VLOOKUP('Choose Housekeeping Genes'!$A11,Calculations!$A$4:$L$99,7,0)),"",VLOOKUP('Choose Housekeeping Genes'!$A11,Calculations!$A$4:$L$99,7,0)) | AD12: =IF(ISERROR(VLOOKUP('Choose Housekeeping Genes'!$A11,Calculations!$A$4:$L$99,8,0)),"",VLOOKUP('Choose Housekeeping Genes'!$A11,Calculations!$A$4:$L$99,8,0)) | AE12: =IF(ISERROR(VLOOKUP('Choose Housekeeping Genes'!$A11,Calculations!$A$4:$L$99,9,0)),"",VLOOKUP('Choose Housekeeping Genes'!$A11,Calculations!$A$4:$L$99,9,0)) | AF12: =IF(ISERROR(VLOOKUP('Choose Housekeeping Genes'!$A11,Calculations!$A$4:$L$99,10,0)),"",VLOOKUP('Choose Housekeeping Genes'!$A11,Calculations!$A$4:$L$99,10,0)) | AG12: =IF(ISERROR(VLOOKUP('Choose Housekeeping Genes'!$A11,Calculations!$A$4:$L$99,11,0)),"",VLOOKUP('Choose Housekeeping Genes'!$A11,Calculations!$A$4:$L$99,11,0)) | AH12: =IF(ISERROR(VLOOKUP('Choose Housekeeping Genes'!$A11,Calculations!$A$4:$M$99,12,0)),"",VLOOKUP('Choose Housekeeping Genes'!$A11,Calculations!$A$4:$M$99,12,0)) | AI12: =IF(ISERROR(VLOOKUP('Choose Housekeeping Genes'!$A11,Calculations!$A$4:$AA$99,15,0)),"",VLOOKUP('Choose Housekeeping Genes'!$A11,Calculations!$A$4:$AA$99,15,0)) | AJ12: =IF(ISERROR(VLOOKUP('Choose Housekeeping Genes'!$A11,Calculations!$A$4:$AA$99,16,0)),"",VLOOKUP('Choose Housekeeping Genes'!$A11,Calculations!$A$4:$AA$99,16,0)) | AK12: =IF(ISERROR(VLOOKUP('Choose Housekeeping Genes'!$A11,Calculations!$A$4:$AA$99,17,0)),"",VLOOKUP('Choose Housekeeping Genes'!$A11,Calculations!$A$4:$AA$99,17,0)) | AL12: =IF(ISERROR(VLOOKUP('Choose Housekeeping Genes'!$A11,Calculations!$A$4:$AA$99,18,0)),"",VLOOKUP('Choose Housekeeping Genes'!$A11,Calculations!$A$4:$AA$99,18,0)) | AM12: =IF(ISERROR(VLOOKUP('Choose Housekeeping Genes'!$A11,Calculations!$A$4:$AA$99,19,0)),"",VLOOKUP('Choose Housekeeping Genes'!$A11,Calculations!$A$4:$AA$99,19,0)) | AN12: =IF(ISERROR(VLOOKUP('Choose Housekeeping Genes'!$A11,Calculations!$A$4:$AA$99,20,0)),"",VLOOKUP('Choose Housekeeping Genes'!$A11,Calculations!$A$4:$AA$99,20,0)) | AO12: =IF(ISERROR(VLOOKUP('Choose Housekeeping Genes'!$A11,Calculations!$A$4:$AA$99,21,0)),"",VLOOKUP('Choose Housekeeping Genes'!$A11,Calculations!$A$4:$AA$99,21,0)) | AP12: =IF(ISERROR(VLOOKUP('Choose Housekeeping Genes'!$A11,Calculations!$A$4:$AA$99,22,0)),"",VLOOKUP('Choose Housekeeping Genes'!$A11,Calculations!$A$4:$AA$99,22,0)) | AQ12: =IF(ISERROR(VLOOKUP('Choose Housekeeping Genes'!$A11,Calculations!$A$4:$AA$99,23,0)),"",VLOOKUP('Choose Housekeeping Genes'!$A11,Calculations!$A$4:$AA$99,23,0)) | AR12: =IF(ISERROR(VLOOKUP('Choose Housekeeping Genes'!$A11,Calculations!$A$4:$AA$99,24,0)),"",VLOOKUP('Choose Housekeeping Genes'!$A11,Calculations!$A$4:$AA$99,24,0)) | AS12: =A12 -> hsa-miR-210 | AT12: A09 | AU12: =IF(ISERROR(C12-Y$26),"",C12-Y$26) | AV12: =IF(ISERROR(D12-Z$26),"",D12-Z$26) | AW12: =IF(ISERROR(E12-AA$26),"",E12-AA$26) | AX12: =IF(ISERROR(F12-AB$26),"",F12-AB$26) | AY12: =IF(ISERROR(G12-AC$26),"",G12-AC$26) | AZ12: =IF(ISERROR(H12-AD$26),"",H12-AD$26) | BA12: =IF(ISERROR(I12-AE$26),"",I12-AE$26) | BB12: =IF(ISERROR(J12-AF$26),"",J12-AF$26) | ... BD12: =IF(ISERROR(L12-AH$26),"",L12-AH$26) | BE12: =IF(ISERROR(O12-AI$26),"",O12-AI$26) | BF12: =IF(ISERROR(P12-AJ$26),"",P12-AJ$26) | BG12: =IF(ISERROR(Q12-AK$26),"",Q12-AK$26) | BH12: =IF(ISERROR(R12-AL$26),"",R12-AL$26) | BI12: =IF(ISERROR(S12-AM$26),"",S12-AM$26) | BJ12: =IF(ISERROR(T12-AN$26),"",T12-AN$26) | BK12: =IF(ISERROR(U12-AO$26),"",U12-AO$26) | BL12: =IF(ISERROR(V12-AP$26),"",V12-AP$26) | ... BN12: =IF(ISERROR(X12-AR$26),"",X12-AR$26) | BO12: =IF(ISERROR(AVERAGE(AU12:BD12)),"N/A",AVERAGE(AU12:BD12)) -> N/A | BP12: =IF(ISERROR(AVERAGE(BE12:BN12)),"N/A",AVERAGE(BE12:BN12)) -> N/A | BQ12: =A12 -> hsa-miR-210 | BR12: A09 | BS12: =IF(AU12="","",POWER(2,-AU12)) | BT12: =IF(AV12="","",POWER(2,-AV12)) | BU12: =IF(AW12="","",POWER(2,-AW12)) | BV12: =IF(AX12="","",POWER(2,-AX12)) | BW12: =IF(AY12="","",POWER(2,-AY12)) | BX12: =IF(AZ12="","",POWER(2,-AZ12)) | BY12: =IF(BA12="","",POWER(2,-BA12)) | BZ12: =IF(BB12="","",POWER(2,-BB12)) | ... CL12: =IF(BN12="","",POWER(2,-BN12))
