Workbook
Name Control_Avg: 'Control Sample Data'!$M$3:$M$98
Name new: [1]newLot!$E$5:$E$132
Name old: [1]oldLot!$E$5:$E$132
Name Test_Avg: 'Test Sample Data'!$M$3:$M$98

Sheet Instructions
A2: Instructions for using the analysis worksheets Important notes: 1. Data cells are yellow. You can change and input values in these cells. 2. Formulas cells are gray or white. Please do not touch these cells. They contain formulas for calculation use. 3. A set of sample data is displayed for illustration purpose. Follow the instruction and replace sample data with your array info and experimental Ct values. 4. To ensure the best performance, use GeneCopoeia recommended and supported reagents. Test sample data: input test sample Ct values 1. Yellow cells: copy and paste your test sample Ct values by clicking “paste special” then selecting “paste values” 2. Up to 10 replicated samples’ Ct values can be uploaded Control sample data: input control sample Ct values 1. Yellow cells: copy and paste your control sample Ct values by clicking “paste special” then selecting “paste values” 2. Up to 10 replicated samples’ Ct values can be uploaded Normalization: choose housekeeping genes 1. Yellow cells: type the gene symbols of housekeeping (HK) genes that will be used for normalization. 2. Up to 20 HK genes can be used. Results: display fold difference 1. The fold changes of the differential expression (test vs. control) are displayed here automatically. 2. T-test p values will be automatically displayed if sample replicates are included. 3D plot: Illustrate fold difference in 3D 1. Up-regulation: z-axis values >1 2. Down-regulation: z-axis values <1 3. The title of each axis can be changed by clicking and editing it Scatter plot: Display fold change with defined threshold 1. Graphs the expression level ((2 ^ (-ΔCt)) of each gene (control vs. test). 2. Black line: indicates fold change ((2 ^ (-ΔΔCt)) of 1, which means no change. 3. Yellow cell: enter and define your desired threshold of fold change. 4. Pink line: indicates the desired threshold of fold change. 5. The scale and title of each axis can be adjusted and edited by clicking and reformatting it. 6. Note: ΔCt = Ct (GOI) – avg. (Ct (HKG)). GOI stands for each gene of interest. HKG stands for the housekeeping genes. Volcano plot: Display fold change with defined threshold and p-value 1. Yellow cells: define threshold of fold change and p-value 2. Black line: indicates fold change of 1. 3. Pink line: indicates the desired threshold of fold change 4. Blue line: indicates the desired p value of the t-test threshold. 5. The scale and title of each axis can be adjusted and edited. QC report: display the analysis of array control wells 1. Display analysis of PCR, RT and NC control wells.

Sheet Gene Table
A1: PCR Array Catalog #: | C1: QM031
A2: Position | B2: Catalog No. | C2: Mature miRNA accession No. | D2: Mature miRNA ID
A3: A01 | B3: HmiRQP0227 | C3: MIMAT0000069 | D3: hsa-miR-16-5p
A4: A02 | B4: HmiRQP0074 | C4: MIMAT0000422 | D4: hsa-miR-124-3p
A5: A03 | B5: HmiRQP0219 | C5: MIMAT0000452 | D5: hsa-miR-154-5p
A6: A04 | B6: HmiRQP0354 | C6: MIMAT0000082 | D6: hsa-miR-26a-5p
A7: A05 | B7: HmiRQP0225 | C7: MIMAT0000417 | D7: hsa-miR-15b-5p
A8: A06 | B8: HmiRQP0309 | C8: MIMAT0000241 | D8: hsa-miR-208a
A9: A07 | B9: HmiRQP0310 | C9: MIMAT0004960 | D9: hsa-miR-208b
A10: A08 | B10: HmiRQP0316 | C10: MIMAT0000076 | D10: hsa-miR-21-5p
A11: A09 | B11: HmiRQP0317 | C11: MIMAT0000267 | D11: hsa-miR-210
A12: A10 | B12: HmiRQP0349 | C12: MIMAT0000080 | D12: hsa-miR-24-3p
A13: A11 | B13: HmiRQP0491 | C13: MIMAT0001340 | D13: hsa-miR-423-3p
... A98: H12 | B98: PCR | C98: PCR | D98: PCR

Sheet Test Sample Data
A1: Symbol | B1: Well | C1: =Results!C2 -> Test Sample | P1: Ct Range | Q1: Distribution of Ct Values | AA1: AVG | AB1: STD
C2: exp1 | D2: exp2 | E2: exp3 | F2: exp4 | G2: exp5 | H2: exp6 | I2: exp7 | J2: exp8 | K2: exp9 | L2: exp10 | M2: AVG | N2: SD | Q2: exp1 | R2: exp2 | S2: exp3 | T2: exp4 | U2: exp5 | V2: exp6 | W2: exp7 | X2: exp8 | Y2: exp9 | Z2: exp10
A3: ='Gene Table'!D3 -> hsa-miR-16-5p | B3: A01 | P3: <25 | Q3: =IF(COUNTIF(C$3:C$98,"<35")=0,"",COUNTIF(C$3:C$98,"<25")-COUNTIF(C$3:C$98,"=0")) | R3: =IF(COUNTIF(D$3:D$98,"<35")=0,"",COUNTIF(D$3:D$98,"<25")-COUNTIF(D$3:D$98,"=0")) | S3: =IF(COUNTIF(E$3:E$98,"<35")=0,"",COUNTIF(E$3:E$98,"<25")-COUNTIF(E$3:E$98,"=0")) | T3: =IF(COUNTIF(F$3:F$98,"<35")=0,"",COUNTIF(F$3:F$98,"<25")-COUNTIF(F$3:F$98,"=0")) | U3: =IF(COUNTIF(G$3:G$98,"<35")=0,"",COUNTIF(G$3:G$98,"<25")-COUNTIF(G$3:G$98,"=0")) | V3: =IF(COUNTIF(H$3:H$98,"<35")=0,"",COUNTIF(H$3:H$98,"<25")-COUNTIF(H$3:H$98,"=0")) | W3: =IF(COUNTIF(I$3:I$98,"<35")=0,"",COUNTIF(I$3:I$98,"<25")-COUNTIF(I$3:I$98,"=0")) | X3: =IF(COUNTIF(J$3:J$98,"<35")=0,"",COUNTIF(J$3:J$98,"<25")-COUNTIF(J$3:J$98,"=0")) | ... Z3: =IF(COUNTIF(L$3:L$98,"<35")=0,"",COUNTIF(L$3:L$98,"<25")-COUNTIF(L$3:L$98,"=0")) | AA3: =AVERAGE(Q3:Z3) -> #DIV/0! | AB3: =STDEV(Q3:Z3) -> #DIV/0!
A4: ='Gene Table'!D4 -> hsa-miR-124-3p | B4: A02 | P4: 25-30 | Q4: =IF(COUNTIF(C$3:C$98,"<35")=0,"",COUNTIF(C$3:C$98,"<30")-Q3-COUNTIF(C$3:C$98,"=0")) | R4: =IF(COUNTIF(D$3:D$98,"<35")=0,"",COUNTIF(D$3:D$98,"<30")-R3-COUNTIF(D$3:D$98,"=0")) | S4: =IF(COUNTIF(E$3:E$98,"<35")=0,"",COUNTIF(E$3:E$98,"<30")-S3-COUNTIF(E$3:E$98,"=0")) | T4: =IF(COUNTIF(F$3:F$98,"<35")=0,"",COUNTIF(F$3:F$98,"<30")-T3-COUNTIF(F$3:F$98,"=0")) | U4: =IF(COUNTIF(G$3:G$98,"<35")=0,"",COUNTIF(G$3:G$98,"<30")-U3-COUNTIF(G$3:G$98,"=0")) | V4: =IF(COUNTIF(H$3:H$98,"<35")=0,"",COUNTIF(H$3:H$98,"<30")-V3-COUNTIF(H$3:H$98,"=0")) | W4: =IF(COUNTIF(I$3:I$98,"<35")=0,"",COUNTIF(I$3:I$98,"<30")-W3-COUNTIF(I$3:I$98,"=0")) | X4: =IF(COUNTIF(J$3:J$98,"<35")=0,"",COUNTIF(J$3:J$98,"<30")-X3-COUNTIF(J$3:J$98,"=0")) | ... Z4: =IF(COUNTIF(L$3:L$98,"<35")=0,"",COUNTIF(L$3:L$98,"<30")-Z3-COUNTIF(L$3:L$98,"=0")) | AA4: =AVERAGE(Q4:Z4) -> #DIV/0! | AB4: =STDEV(Q4:Z4) -> #DIV/0!
A5: ='Gene Table'!D5 -> hsa-miR-154-5p | B5: A03 | P5: 30-35 | Q5: =IF(COUNTIF(C$3:C$98,"<35")=0,"",COUNTIF(C$3:C$98,"<35")-SUM(Q3:Q4)-COUNTIF(C$3:C$98,"=0")) | R5: =IF(COUNTIF(D$3:D$98,"<35")=0,"",COUNTIF(D$3:D$98,"<35")-SUM(R3:R4)-COUNTIF(D$3:D$98,"=0")) | S5: =IF(COUNTIF(E$3:E$98,"<35")=0,"",COUNTIF(E$3:E$98,"<35")-SUM(S3:S4)-COUNTIF(E$3:E$98,"=0")) | T5: =IF(COUNTIF(F$3:F$98,"<35")=0,"",COUNTIF(F$3:F$98,"<35")-SUM(T3:T4)-COUNTIF(F$3:F$98,"=0")) | U5: =IF(COUNTIF(G$3:G$98,"<35")=0,"",COUNTIF(G$3:G$98,"<35")-SUM(U3:U4)-COUNTIF(G$3:G$98,"=0")) | V5: =IF(COUNTIF(H$3:H$98,"<35")=0,"",COUNTIF(H$3:H$98,"<35")-SUM(V3:V4)-COUNTIF(H$3:H$98,"=0")) | W5: =IF(COUNTIF(I$3:I$98,"<35")=0,"",COUNTIF(I$3:I$98,"<35")-SUM(W3:W4)-COUNTIF(I$3:I$98,"=0")) | X5: =IF(COUNTIF(J$3:J$98,"<35")=0,"",COUNTIF(J$3:J$98,"<35")-SUM(X3:X4)-COUNTIF(J$3:J$98,"=0")) | ... Z5: =IF(COUNTIF(L$3:L$98,"<35")=0,"",COUNTIF(L$3:L$98,"<35")-SUM(Z3:Z4)-COUNTIF(L$3:L$98,"=0")) | AA5: =AVERAGE(Q5:Z5) -> #DIV/0! | AB5: =STDEV(Q5:Z5) -> #DIV/0!
A6: ='Gene Table'!D6 -> hsa-miR-26a-5p | B6: A04 | P6: Absent Calls | Q6: =IF(COUNTIF(C$3:C$98,"<40")=0,"",COUNTIF(C$3:C$98,"N/A")+COUNTBLANK(C$3:C$98)+COUNTIF(C$3:C$98,">=35")+COUNTIF(C$3:C$98,"=0")+COUNTIF(C$3:C$98,"Undetermined")) | R6: =IF(COUNTIF(D$3:D$98,"<40")=0,"",COUNTIF(D$3:D$98,"N/A")+COUNTBLANK(D$3:D$98)+COUNTIF(D$3:D$98,">=35")+COUNTIF(D$3:D$98,"=0")+COUNTIF(D$3:D$98,"Undetermined")) | S6: =IF(COUNTIF(E$3:E$98,"<40")=0,"",COUNTIF(E$3:E$98,"N/A")+COUNTBLANK(E$3:E$98)+COUNTIF(E$3:E$98,">=35")+COUNTIF(E$3:E$98,"=0")+COUNTIF(E$3:E$98,"Undetermined")) | T6: =IF(COUNTIF(F$3:F$98,"<40")=0,"",COUNTIF(F$3:F$98,"N/A")+COUNTBLANK(F$3:F$98)+COUNTIF(F$3:F$98,">=35")+COUNTIF(F$3:F$98,"=0")+COUNTIF(F$3:F$98,"Undetermined")) | U6: =IF(COUNTIF(G$3:G$98,"<40")=0,"",COUNTIF(G$3:G$98,"N/A")+COUNTBLANK(G$3:G$98)+COUNTIF(G$3:G$98,">=35")+COUNTIF(G$3:G$98,"=0")+COUNTIF(G$3:G$98,"Undetermined")) | V6: =IF(COUNTIF(H$3:H$98,"<40")=0,"",COUNTIF(H$3:H$98,"N/A")+COUNTBLANK(H$3:H$98)+COUNTIF(H$3:H$98,">=35")+COUNTIF(H$3:H$98,"=0")+COUNTIF(H$3:H$98,"Undetermined")) | W6: =IF(COUNTIF(I$3:I$98,"<40")=0,"",COUNTIF(I$3:I$98,"N/A")+COUNTBLANK(I$3:I$98)+COUNTIF(I$3:I$98,">=35")+COUNTIF(I$3:I$98,"=0")+COUNTIF(I$3:I$98,"Undetermined")) | X6: =IF(COUNTIF(J$3:J$98,"<40")=0,"",COUNTIF(J$3:J$98,"N/A")+COUNTBLANK(J$3:J$98)+COUNTIF(J$3:J$98,">=35")+COUNTIF(J$3:J$98,"=0")+COUNTIF(J$3:J$98,"Undetermined")) | ... Z6: =IF(COUNTIF(L$3:L$98,"<40")=0,"",COUNTIF(L$3:L$98,"N/A")+COUNTBLANK(L$3:L$98)+COUNTIF(L$3:L$98,">=35")+COUNTIF(L$3:L$98,"=0")+COUNTIF(L$3:L$98,"Undetermined")) | AA6: =AVERAGE(Q6:Z6) -> #DIV/0! | AB6: =STDEV(Q6:Z6) -> #DIV/0!
A7: ='Gene Table'!D7 -> hsa-miR-15b-5p | B7: A05 | P7: Percent Distribution of Ct Values
A8: ='Gene Table'!D8 -> hsa-miR-208a | B8: A06 | P8: <25 | Q8: =IF(Q3="","",Q3/SUM(Q$3:Q$6)) | R8: =IF(R3="","",R3/SUM(R$3:R$6)) | S8: =IF(S3="","",S3/SUM(S$3:S$6)) | T8: =IF(T3="","",T3/SUM(T$3:T$6)) | U8: =IF(U3="","",U3/SUM(U$3:U$6)) | V8: =IF(V3="","",V3/SUM(V$3:V$6)) | W8: =IF(W3="","",W3/SUM(W$3:W$6)) | X8: =IF(X3="","",X3/SUM(X$3:X$6)) | ... Z8: =IF(Z3="","",Z3/SUM(Z$3:Z$6)) | AA8: =AVERAGE(Q8:Z8) -> #DIV/0! | AB8: =STDEV(Q8:Z8) -> #DIV/0!
A9: ='Gene Table'!D9 -> hsa-miR-208b | B9: A07 | P9: 25-30 | Q9: =IF(Q4="","",Q4/SUM(Q$3:Q$6)) | R9: =IF(R4="","",R4/SUM(R$3:R$6)) | S9: =IF(S4="","",S4/SUM(S$3:S$6)) | T9: =IF(T4="","",T4/SUM(T$3:T$6)) | U9: =IF(U4="","",U4/SUM(U$3:U$6)) | V9: =IF(V4="","",V4/SUM(V$3:V$6)) | W9: =IF(W4="","",W4/SUM(W$3:W$6)) | X9: =IF(X4="","",X4/SUM(X$3:X$6)) | ... Z9: =IF(Z4="","",Z4/SUM(Z$3:Z$6)) | AA9: =AVERAGE(Q9:Z9) -> #DIV/0! | AB9: =STDEV(Q9:Z9) -> #DIV/0!
A10: ='Gene Table'!D10 -> hsa-miR-21-5p | B10: A08 | P10: 30-35 | Q10: =IF(Q5="","",Q5/SUM(Q$3:Q$6)) | R10: =IF(R5="","",R5/SUM(R$3:R$6)) | S10: =IF(S5="","",S5/SUM(S$3:S$6)) | T10: =IF(T5="","",T5/SUM(T$3:T$6)) | U10: =IF(U5="","",U5/SUM(U$3:U$6)) | V10: =IF(V5="","",V5/SUM(V$3:V$6)) | W10: =IF(W5="","",W5/SUM(W$3:W$6)) | X10: =IF(X5="","",X5/SUM(X$3:X$6)) | ... Z10: =IF(Z5="","",Z5/SUM(Z$3:Z$6)) | AA10: =AVERAGE(Q10:Z10) -> #DIV/0! | AB10: =STDEV(Q10:Z10) -> #DIV/0!
A11: ='Gene Table'!D11 -> hsa-miR-210 | B11: A09 | P11: Absent Calls | Q11: =IF(Q6="","",Q6/SUM(Q$3:Q$6)) | R11: =IF(R6="","",R6/SUM(R$3:R$6)) | S11: =IF(S6="","",S6/SUM(S$3:S$6)) | T11: =IF(T6="","",T6/SUM(T$3:T$6)) | U11: =IF(U6="","",U6/SUM(U$3:U$6)) | V11: =IF(V6="","",V6/SUM(V$3:V$6)) | W11: =IF(W6="","",W6/SUM(W$3:W$6)) | X11: =IF(X6="","",X6/SUM(X$3:X$6)) | ... Z11: =IF(Z6="","",Z6/SUM(Z$3:Z$6)) | AA11: =AVERAGE(Q11:Z11) -> #DIV/0! | AB11: =STDEV(Q11:Z11) -> #DIV/0!
A12: ='Gene Table'!D12 -> hsa-miR-24-3p | B12: A10
A13: ='Gene Table'!D13 -> hsa-miR-423-3p | B13: A11
A14: ='Gene Table'!D14 -> hsa-miR-126-3p | B14: A12
A15: ='Gene Table'!D15 -> hsa-miR-132-3p | B15: B01
A16: ='Gene Table'!D16 -> hsa-miR-134 | B16: B02
A17: ='Gene Table'!D17 -> hsa-miR-142-5p | B17: B03
A18: ='Gene Table'!D18 -> hsa-miR-185-5p | B18: B04
A19: ='Gene Table'!D19 -> hsa-miR-195-5p | B19: B05
A20: ='Gene Table'!D20 -> hsa-miR-221-3p | B20: B06
A21: ='Gene Table'!D21 -> hsa-miR-223-3p | B21: B07
A22: ='Gene Table'!D22 -> hsa-miR-296-5p | B22: B08
A23: ='Gene Table'!D23 -> hsa-miR-335-5p | B23: B09
... A98: ='Gene Table'!D98 -> PCR | B98: H12
A100: Note: If there are fewer than 3 data points, the standard deviation (SD) will appear as "N/A".

Sheet Control Sample Data
A1: Symbol | B1: Well | C1: =Results!D2 -> Control Sample | P1: Ct Range | Q1: Distribution of Ct Values | AA1: AVG | AB1: STD
C2: exp1 | D2: exp2 | E2: exp3 | F2: exp4 | G2: exp5 | H2: exp6 | I2: exp7 | J2: exp8 | K2: exp9 | L2: exp10 | M2: AVG | N2: SD | Q2: exp1 | R2: exp2 | S2: exp3 | T2: exp4 | U2: exp5 | V2: exp6 | W2: exp7 | X2: exp8 | Y2: exp9 | Z2: exp10
A3: ='Gene Table'!D3 -> hsa-miR-16-5p | B3: A01 | P3: <25 | Q3: =IF(COUNTIF(C$3:C$98,"<35")=0,"",COUNTIF(C$3:C$98,"<25")-COUNTIF(C$3:C$98,"=0")) | R3: =IF(COUNTIF(D$3:D$98,"<35")=0,"",COUNTIF(D$3:D$98,"<25")-COUNTIF(D$3:D$98,"=0")) | S3: =IF(COUNTIF(E$3:E$98,"<35")=0,"",COUNTIF(E$3:E$98,"<25")-COUNTIF(E$3:E$98,"=0")) | T3: =IF(COUNTIF(F$3:F$98,"<35")=0,"",COUNTIF(F$3:F$98,"<25")-COUNTIF(F$3:F$98,"=0")) | U3: =IF(COUNTIF(G$3:G$98,"<35")=0,"",COUNTIF(G$3:G$98,"<25")-COUNTIF(G$3:G$98,"=0")) | V3: =IF(COUNTIF(H$3:H$98,"<35")=0,"",COUNTIF(H$3:H$98,"<25")-COUNTIF(H$3:H$98,"=0")) | W3: =IF(COUNTIF(I$3:I$98,"<35")=0,"",COUNTIF(I$3:I$98,"<25")-COUNTIF(I$3:I$98,"=0")) | X3: =IF(COUNTIF(J$3:J$98,"<35")=0,"",COUNTIF(J$3:J$98,"<25")-COUNTIF(J$3:J$98,"=0")) | ... Z3: =IF(COUNTIF(L$3:L$98,"<35")=0,"",COUNTIF(L$3:L$98,"<25")-COUNTIF(L$3:L$98,"=0")) | AA3: =AVERAGE(Q3:Z3) -> #DIV/0! | AB3: =STDEV(Q3:Z3) -> #DIV/0!
A4: ='Gene Table'!D4 -> hsa-miR-124-3p | B4: A02 | P4: 25-30 | Q4: =IF(COUNTIF(C$3:C$98,"<35")=0,"",COUNTIF(C$3:C$98,"<30")-Q3-COUNTIF(C$3:C$98,"=0")) | R4: =IF(COUNTIF(D$3:D$98,"<35")=0,"",COUNTIF(D$3:D$98,"<30")-R3-COUNTIF(D$3:D$98,"=0")) | S4: =IF(COUNTIF(E$3:E$98,"<35")=0,"",COUNTIF(E$3:E$98,"<30")-S3-COUNTIF(E$3:E$98,"=0")) | T4: =IF(COUNTIF(F$3:F$98,"<35")=0,"",COUNTIF(F$3:F$98,"<30")-T3-COUNTIF(F$3:F$98,"=0")) | U4: =IF(COUNTIF(G$3:G$98,"<35")=0,"",COUNTIF(G$3:G$98,"<30")-U3-COUNTIF(G$3:G$98,"=0")) | V4: =IF(COUNTIF(H$3:H$98,"<35")=0,"",COUNTIF(H$3:H$98,"<30")-V3-COUNTIF(H$3:H$98,"=0")) | W4: =IF(COUNTIF(I$3:I$98,"<35")=0,"",COUNTIF(I$3:I$98,"<30")-W3-COUNTIF(I$3:I$98,"=0")) | X4: =IF(COUNTIF(J$3:J$98,"<35")=0,"",COUNTIF(J$3:J$98,"<30")-X3-COUNTIF(J$3:J$98,"=0")) | ... Z4: =IF(COUNTIF(L$3:L$98,"<35")=0,"",COUNTIF(L$3:L$98,"<30")-Z3-COUNTIF(L$3:L$98,"=0")) | AA4: =AVERAGE(Q4:Z4) -> #DIV/0! | AB4: =STDEV(Q4:Z4) -> #DIV/0!
A5: ='Gene Table'!D5 -> hsa-miR-154-5p | B5: A03 | P5: 30-35 | Q5: =IF(COUNTIF(C$3:C$98,"<35")=0,"",COUNTIF(C$3:C$98,"<35")-SUM(Q3:Q4)-COUNTIF(C$3:C$98,"=0")) | R5: =IF(COUNTIF(D$3:D$98,"<35")=0,"",COUNTIF(D$3:D$98,"<35")-SUM(R3:R4)-COUNTIF(D$3:D$98,"=0")) | S5: =IF(COUNTIF(E$3:E$98,"<35")=0,"",COUNTIF(E$3:E$98,"<35")-SUM(S3:S4)-COUNTIF(E$3:E$98,"=0")) | T5: =IF(COUNTIF(F$3:F$98,"<35")=0,"",COUNTIF(F$3:F$98,"<35")-SUM(T3:T4)-COUNTIF(F$3:F$98,"=0")) | U5: =IF(COUNTIF(G$3:G$98,"<35")=0,"",COUNTIF(G$3:G$98,"<35")-SUM(U3:U4)-COUNTIF(G$3:G$98,"=0")) | V5: =IF(COUNTIF(H$3:H$98,"<35")=0,"",COUNTIF(H$3:H$98,"<35")-SUM(V3:V4)-COUNTIF(H$3:H$98,"=0")) | W5: =IF(COUNTIF(I$3:I$98,"<35")=0,"",COUNTIF(I$3:I$98,"<35")-SUM(W3:W4)-COUNTIF(I$3:I$98,"=0")) | X5: =IF(COUNTIF(J$3:J$98,"<35")=0,"",COUNTIF(J$3:J$98,"<35")-SUM(X3:X4)-COUNTIF(J$3:J$98,"=0")) | ... Z5: =IF(COUNTIF(L$3:L$98,"<35")=0,"",COUNTIF(L$3:L$98,"<35")-SUM(Z3:Z4)-COUNTIF(L$3:L$98,"=0")) | AA5: =AVERAGE(Q5:Z5) -> #DIV/0! | AB5: =STDEV(Q5:Z5) -> #DIV/0!
A6: ='Gene Table'!D6 -> hsa-miR-26a-5p | B6: A04 | P6: Absent Calls | Q6: =IF(COUNTIF(C$3:C$98,"<40")=0,"",COUNTIF(C$3:C$98,"N/A")+COUNTBLANK(C$3:C$98)+COUNTIF(C$3:C$98,">=35")+COUNTIF(C$3:C$98,"=0")+COUNTIF(C$3:C$98,"Undetermined")) | R6: =IF(COUNTIF(D$3:D$98,"<40")=0,"",COUNTIF(D$3:D$98,"N/A")+COUNTBLANK(D$3:D$98)+COUNTIF(D$3:D$98,">=35")+COUNTIF(D$3:D$98,"=0")+COUNTIF(D$3:D$98,"Undetermined")) | S6: =IF(COUNTIF(E$3:E$98,"<40")=0,"",COUNTIF(E$3:E$98,"N/A")+COUNTBLANK(E$3:E$98)+COUNTIF(E$3:E$98,">=35")+COUNTIF(E$3:E$98,"=0")+COUNTIF(E$3:E$98,"Undetermined")) | T6: =IF(COUNTIF(F$3:F$98,"<40")=0,"",COUNTIF(F$3:F$98,"N/A")+COUNTBLANK(F$3:F$98)+COUNTIF(F$3:F$98,">=35")+COUNTIF(F$3:F$98,"=0")+COUNTIF(F$3:F$98,"Undetermined")) | U6: =IF(COUNTIF(G$3:G$98,"<40")=0,"",COUNTIF(G$3:G$98,"N/A")+COUNTBLANK(G$3:G$98)+COUNTIF(G$3:G$98,">=35")+COUNTIF(G$3:G$98,"=0")+COUNTIF(G$3:G$98,"Undetermined")) | V6: =IF(COUNTIF(H$3:H$98,"<40")=0,"",COUNTIF(H$3:H$98,"N/A")+COUNTBLANK(H$3:H$98)+COUNTIF(H$3:H$98,">=35")+COUNTIF(H$3:H$98,"=0")+COUNTIF(H$3:H$98,"Undetermined")) | W6: =IF(COUNTIF(I$3:I$98,"<40")=0,"",COUNTIF(I$3:I$98,"N/A")+COUNTBLANK(I$3:I$98)+COUNTIF(I$3:I$98,">=35")+COUNTIF(I$3:I$98,"=0")+COUNTIF(I$3:I$98,"Undetermined")) | X6: =IF(COUNTIF(J$3:J$98,"<40")=0,"",COUNTIF(J$3:J$98,"N/A")+COUNTBLANK(J$3:J$98)+COUNTIF(J$3:J$98,">=35")+COUNTIF(J$3:J$98,"=0")+COUNTIF(J$3:J$98,"Undetermined")) | ... Z6: =IF(COUNTIF(L$3:L$98,"<40")=0,"",COUNTIF(L$3:L$98,"N/A")+COUNTBLANK(L$3:L$98)+COUNTIF(L$3:L$98,">=35")+COUNTIF(L$3:L$98,"=0")+COUNTIF(L$3:L$98,"Undetermined")) | AA6: =AVERAGE(Q6:Z6) -> #DIV/0! | AB6: =STDEV(Q6:Z6) -> #DIV/0!
A7: ='Gene Table'!D7 -> hsa-miR-15b-5p | B7: A05 | P7: Percent Distribution of Ct Values
A8: ='Gene Table'!D8 -> hsa-miR-208a | B8: A06 | P8: <25 | Q8: =IF(Q3="","",Q3/SUM(Q$3:Q$6)) | R8: =IF(R3="","",R3/SUM(R$3:R$6)) | S8: =IF(S3="","",S3/SUM(S$3:S$6)) | T8: =IF(T3="","",T3/SUM(T$3:T$6)) | U8: =IF(U3="","",U3/SUM(U$3:U$6)) | V8: =IF(V3="","",V3/SUM(V$3:V$6)) | W8: =IF(W3="","",W3/SUM(W$3:W$6)) | X8: =IF(X3="","",X3/SUM(X$3:X$6)) | ... AA8: =IF(AA3="","",AA3/SUM(AA$3:AA$6)) -> #DIV/0! | AB8: =STDEV(Q8:Z8) -> #DIV/0!
A9: ='Gene Table'!D9 -> hsa-miR-208b | B9: A07 | P9: 25-30 | Q9: =IF(Q4="","",Q4/SUM(Q$3:Q$6)) | R9: =IF(R4="","",R4/SUM(R$3:R$6)) | S9: =IF(S4="","",S4/SUM(S$3:S$6)) | T9: =IF(T4="","",T4/SUM(T$3:T$6)) | U9: =IF(U4="","",U4/SUM(U$3:U$6)) | V9: =IF(V4="","",V4/SUM(V$3:V$6)) | W9: =IF(W4="","",W4/SUM(W$3:W$6)) | X9: =IF(X4="","",X4/SUM(X$3:X$6)) | ... AA9: =IF(AA4="","",AA4/SUM(AA$3:AA$6)) -> #DIV/0! | AB9: =STDEV(Q9:Z9) -> #DIV/0!
A10: ='Gene Table'!D10 -> hsa-miR-21-5p | B10: A08 | P10: 30-35 | Q10: =IF(Q5="","",Q5/SUM(Q$3:Q$6)) | R10: =IF(R5="","",R5/SUM(R$3:R$6)) | S10: =IF(S5="","",S5/SUM(S$3:S$6)) | T10: =IF(T5="","",T5/SUM(T$3:T$6)) | U10: =IF(U5="","",U5/SUM(U$3:U$6)) | V10: =IF(V5="","",V5/SUM(V$3:V$6)) | W10: =IF(W5="","",W5/SUM(W$3:W$6)) | X10: =IF(X5="","",X5/SUM(X$3:X$6)) | ... AA10: =IF(AA5="","",AA5/SUM(AA$3:AA$6)) -> #DIV/0! | AB10: =STDEV(Q10:Z10) -> #DIV/0!
A11: ='Gene Table'!D11 -> hsa-miR-210 | B11: A09 | P11: Absent Calls | Q11: =IF(Q6="","",Q6/SUM(Q$3:Q$6)) | R11: =IF(R6="","",R6/SUM(R$3:R$6)) | S11: =IF(S6="","",S6/SUM(S$3:S$6)) | T11: =IF(T6="","",T6/SUM(T$3:T$6)) | U11: =IF(U6="","",U6/SUM(U$3:U$6)) | V11: =IF(V6="","",V6/SUM(V$3:V$6)) | W11: =IF(W6="","",W6/SUM(W$3:W$6)) | X11: =IF(X6="","",X6/SUM(X$3:X$6)) | ... AA11: =IF(AA6="","",AA6/SUM(AA$3:AA$6)) -> #DIV/0! | AB11: =STDEV(Q11:Z11) -> #DIV/0!
A12: ='Gene Table'!D12 -> hsa-miR-24-3p | B12: A10
A13: ='Gene Table'!D13 -> hsa-miR-423-3p | B13: A11
A14: ='Gene Table'!D14 -> hsa-miR-126-3p | B14: A12
A15: ='Gene Table'!D15 -> hsa-miR-132-3p | B15: B01
A16: ='Gene Table'!D16 -> hsa-miR-134 | B16: B02
A17: ='Gene Table'!D17 -> hsa-miR-142-5p | B17: B03
A18: ='Gene Table'!D18 -> hsa-miR-185-5p | B18: B04
A19: ='Gene Table'!D19 -> hsa-miR-195-5p | B19: B05
A20: ='Gene Table'!D20 -> hsa-miR-221-3p | B20: B06
A21: ='Gene Table'!D21 -> hsa-miR-223-3p | B21: B07
A22: ='Gene Table'!D22 -> hsa-miR-296-5p | B22: B08
A23: ='Gene Table'!D23 -> hsa-miR-335-5p | B23: B09
... A98: ='Gene Table'!D98 -> PCR | B98: H12
A100: Note: If there are fewer than 3 data points, the standard deviation (SD) will appear as "N/A".

Sheet Choose Housekeeping Genes
A1: Housekeeping Gene Symbol | C1: Well | D1: =Results!C2 -> Test Sample | O1: Housekeeping Gene Symbol | Q1: Well | R1: =Results!D2 -> Control Sample
D2: exp1 | E2: exp2 | F2: exp3 | G2: exp4 | H2: exp5 | I2: exp6 | J2: exp7 | K2: exp8 | L2: exp9 | M2: exp10 | R2: exp1 | S2: exp2 | T2: exp3 | U2: exp4 | V2: exp5 | W2: exp6 | X2: exp7 | Y2: exp8 | Z2: exp9 | AA2: exp10
A3: ='Gene Table'!D89 -> HK1 | C3: =IF(A3="","",IF(VLOOKUP($A3,'Test Sample Data'!$A$3:$L$98,2,FALSE)=0,"",VLOOKUP($A3,'Test Sample Data'!$A$3:$L$98,2,FALSE))) -> H03 | D3: =IF(A3="","",IF(VLOOKUP($A3,'Test Sample Data'!$A$3:$L$98,3,FALSE)=0,"",VLOOKUP($A3,'Test Sample Data'!$A$3:$L$98,3,FALSE))) | E3: =IF(A3="","",IF(VLOOKUP($A3,'Test Sample Data'!$A$3:$L$98,4,FALSE)=0,"",VLOOKUP($A3,'Test Sample Data'!$A$3:$L$98,4,FALSE))) | F3: =IF(A3="","",IF(VLOOKUP($A3,'Test Sample Data'!$A$3:$L$98,5,FALSE)=0,"",VLOOKUP($A3,'Test Sample Data'!$A$3:$L$98,5,FALSE))) | G3: =IF(A3="","",IF(VLOOKUP($A3,'Test Sample Data'!$A$3:$L$98,6,FALSE)=0,"",VLOOKUP($A3,'Test Sample Data'!$A$3:$L$98,6,FALSE))) | H3: =IF(A3="","",IF(VLOOKUP($A3,'Test Sample Data'!$A$3:$L$98,7,FALSE)=0,"",VLOOKUP($A3,'Test Sample Data'!$A$3:$L$98,7,FALSE))) | I3: =IF(A3="","",IF(VLOOKUP($A3,'Test Sample Data'!$A$3:$L$98,8,FALSE)=0,"",VLOOKUP($A3,'Test Sample Data'!$A$3:$L$98,8,FALSE))) | J3: =IF(A3="","",IF(VLOOKUP($A3,'Test Sample Data'!$A$3:$L$98,9,FALSE)=0,"",VLOOKUP($A3,'Test Sample Data'!$A$3:$L$98,9,FALSE))) | K3: =IF(A3="","",IF(VLOOKUP($A3,'Test Sample Data'!$A$3:$L$98,10,FALSE)=0,"",VLOOKUP($A3,'Test Sample Data'!$A$3:$L$98,10,FALSE))) | L3: =IF(A3="","",IF(VLOOKUP($A3,'Test Sample Data'!$A$3:$L$98,11,FALSE)=0,"",VLOOKUP($A3,'Test Sample Data'!$A$3:$L$98,11,FALSE))) | M3: =IF(A3="","",IF(VLOOKUP($A3,'Test Sample Data'!$A$3:$L$98,12,FALSE)=0,"",VLOOKUP($A3,'Test Sample Data'!$A$3:$L$98,12,FALSE))) | O3: =IF(A3=0,"",A3) -> HK1 | Q3: =IF('Choose Housekeeping Genes'!C3=0,"",'Choose Housekeeping Genes'!C3) -> H03 | R3: =IF(A3="","",IF(VLOOKUP($A3,'Control Sample Data'!$A$3:$L$98,3,FALSE)=0,"",VLOOKUP($A3,'Control Sample Data'!$A$3:$L$98,3,FALSE))) | S3: =IF(A3="","",IF(VLOOKUP($A3,'Control Sample Data'!$A$3:$L$98,4,FALSE)=0,"",VLOOKUP($A3,'Control Sample Data'!$A$3:$L$98,4,FALSE))) | T3: =IF(A3="","",IF(VLOOKUP($A3,'Control Sample Data'!$A$3:$L$98,5,FALSE)=0,"",VLOOKUP($A3,'Control Sample Data'!$A$3:$L$98,5,FALSE))) | U3: =IF(A3="","",IF(VLOOKUP($A3,'Control Sample Data'!$A$3:$L$98,6,FALSE)=0,"",VLOOKUP($A3,'Control Sample Data'!$A$3:$L$98,6,FALSE))) | V3: =IF(A3="","",IF(VLOOKUP($A3,'Control Sample Data'!$A$3:$L$98,7,FALSE)=0,"",VLOOKUP($A3,'Control Sample Data'!$A$3:$L$98,7,FALSE))) | W3: =IF(A3="","",IF(VLOOKUP($A3,'Control Sample Data'!$A$3:$L$98,8,FALSE)=0,"",VLOOKUP($A3,'Control Sample Data'!$A$3:$L$98,8,FALSE))) | X3: =IF(A3="","",IF(VLOOKUP($A3,'Control Sample Data'!$A$3:$L$98,9,FALSE)=0,"",VLOOKUP($A3,'Control Sample Data'!$A$3:$L$98,9,FALSE))) | Y3: =IF($A3="","",IF(VLOOKUP($A3,'Control Sample Data'!$A$3:$L$98,10,FALSE)=0,"",VLOOKUP($A3,'Control Sample Data'!$A$3:$L$98,10,FALSE))) | Z3: =IF(A3="","",IF(VLOOKUP($A3,'Control Sample Data'!$A$3:$L$98,11,FALSE)=0,"",VLOOKUP($A3,'Control Sample Data'!$A$3:$L$98,11,FALSE))) | AA3: =IF(A3="","",IF(VLOOKUP($A3,'Control Sample Data'!$A$3:$L$98,12,FALSE)=0,"",VLOOKUP($A3,'Control Sample Data'!$A$3:$L$98,12,FALSE)))
A4: ='Gene Table'!D90 -> HK2 | C4: =IF(A4="","",IF(VLOOKUP($A4,'Test Sample Data'!$A$3:$L$98,2,FALSE)=0,"",VLOOKUP($A4,'Test Sample Data'!$A$3:$L$98,2,FALSE))) -> H04 | D4: =IF(A4="","",IF(VLOOKUP($A4,'Test Sample Data'!$A$3:$L$98,3,FALSE)=0,"",VLOOKUP($A4,'Test Sample Data'!$A$3:$L$98,3,FALSE))) | E4: =IF(A4="","",IF(VLOOKUP($A4,'Test Sample Data'!$A$3:$L$98,4,FALSE)=0,"",VLOOKUP($A4,'Test Sample Data'!$A$3:$L$98,4,FALSE))) | F4: =IF(A4="","",IF(VLOOKUP($A4,'Test Sample Data'!$A$3:$L$98,5,FALSE)=0,"",VLOOKUP($A4,'Test Sample Data'!$A$3:$L$98,5,FALSE))) | G4: =IF(A4="","",IF(VLOOKUP($A4,'Test Sample Data'!$A$3:$L$98,6,FALSE)=0,"",VLOOKUP($A4,'Test Sample Data'!$A$3:$L$98,6,FALSE))) | H4: =IF(A4="","",IF(VLOOKUP($A4,'Test Sample Data'!$A$3:$L$98,7,FALSE)=0,"",VLOOKUP($A4,'Test Sample Data'!$A$3:$L$98,7,FALSE))) | I4: =IF(A4="","",IF(VLOOKUP($A4,'Test Sample Data'!$A$3:$L$98,8,FALSE)=0,"",VLOOKUP($A4,'Test Sample Data'!$A$3:$L$98,8,FALSE))) | J4: =IF(A4="","",IF(VLOOKUP($A4,'Test Sample Data'!$A$3:$L$98,9,FALSE)=0,"",VLOOKUP($A4,'Test Sample Data'!$A$3:$L$98,9,FALSE))) | K4: =IF(A4="","",IF(VLOOKUP($A4,'Test Sample Data'!$A$3:$L$98,10,FALSE)=0,"",VLOOKUP($A4,'Test Sample Data'!$A$3:$L$98,10,FALSE))) | L4: =IF(A4="","",IF(VLOOKUP($A4,'Test Sample Data'!$A$3:$L$98,11,FALSE)=0,"",VLOOKUP($A4,'Test Sample Data'!$A$3:$L$98,11,FALSE))) | M4: =IF(A4="","",IF(VLOOKUP($A4,'Test Sample Data'!$A$3:$L$98,12,FALSE)=0,"",VLOOKUP($A4,'Test Sample Data'!$A$3:$L$98,12,FALSE))) | O4: =IF(A4=0,"",A4) -> HK2 | Q4: =IF('Choose Housekeeping Genes'!C4=0,"",'Choose Housekeeping Genes'!C4) -> H04 | R4: =IF(A4="","",IF(VLOOKUP($A4,'Control Sample Data'!$A$3:$L$98,3,FALSE)=0,"",VLOOKUP($A4,'Control Sample Data'!$A$3:$L$98,3,FALSE))) | S4: =IF(A4="","",IF(VLOOKUP($A4,'Control Sample Data'!$A$3:$L$98,4,FALSE)=0,"",VLOOKUP($A4,'Control Sample Data'!$A$3:$L$98,4,FALSE))) | T4: =IF(A4="","",IF(VLOOKUP($A4,'Control Sample Data'!$A$3:$L$98,5,FALSE)=0,"",VLOOKUP($A4,'Control Sample Data'!$A$3:$L$98,5,FALSE))) | U4: =IF(A4="","",IF(VLOOKUP($A4,'Control Sample Data'!$A$3:$L$98,6,FALSE)=0,"",VLOOKUP($A4,'Control Sample Data'!$A$3:$L$98,6,FALSE))) | V4: =IF(A4="","",IF(VLOOKUP($A4,'Control Sample Data'!$A$3:$L$98,7,FALSE)=0,"",VLOOKUP($A4,'Control Sample Data'!$A$3:$L$98,7,FALSE))) | W4: =IF(A4="","",IF(VLOOKUP($A4,'Control Sample Data'!$A$3:$L$98,8,FALSE)=0,"",VLOOKUP($A4,'Control Sample Data'!$A$3:$L$98,8,FALSE))) | X4: =IF(A4="","",IF(VLOOKUP($A4,'Control Sample Data'!$A$3:$L$98,9,FALSE)=0,"",VLOOKUP($A4,'Control Sample Data'!$A$3:$L$98,9,FALSE))) | Y4: =IF($A4="","",IF(VLOOKUP($A4,'Control Sample Data'!$A$3:$L$98,10,FALSE)=0,"",VLOOKUP($A4,'Control Sample Data'!$A$3:$L$98,10,FALSE))) | Z4: =IF(A4="","",IF(VLOOKUP($A4,'Control Sample Data'!$A$3:$L$98,11,FALSE)=0,"",VLOOKUP($A4,'Control Sample Data'!$A$3:$L$98,11,FALSE))) | AA4: =IF(A4="","",IF(VLOOKUP($A4,'Control Sample Data'!$A$3:$L$98,12,FALSE)=0,"",VLOOKUP($A4,'Control Sample Data'!$A$3:$L$98,12,FALSE)))
A5: ='Gene Table'!D91 -> HK3 | C5: =IF(A5="","",IF(VLOOKUP($A5,'Test Sample Data'!$A$3:$L$98,2,FALSE)=0,"",VLOOKUP($A5,'Test Sample Data'!$A$3:$L$98,2,FALSE))) -> H05 | D5: =IF(A5="","",IF(VLOOKUP($A5,'Test Sample Data'!$A$3:$L$98,3,FALSE)=0,"",VLOOKUP($A5,'Test Sample Data'!$A$3:$L$98,3,FALSE))) | E5: =IF(A5="","",IF(VLOOKUP($A5,'Test Sample Data'!$A$3:$L$98,4,FALSE)=0,"",VLOOKUP($A5,'Test Sample Data'!$A$3:$L$98,4,FALSE))) | F5: =IF(A5="","",IF(VLOOKUP($A5,'Test Sample Data'!$A$3:$L$98,5,FALSE)=0,"",VLOOKUP($A5,'Test Sample Data'!$A$3:$L$98,5,FALSE))) | G5: =IF(A5="","",IF(VLOOKUP($A5,'Test Sample Data'!$A$3:$L$98,6,FALSE)=0,"",VLOOKUP($A5,'Test Sample Data'!$A$3:$L$98,6,FALSE))) | H5: =IF(A5="","",IF(VLOOKUP($A5,'Test Sample Data'!$A$3:$L$98,7,FALSE)=0,"",VLOOKUP($A5,'Test Sample Data'!$A$3:$L$98,7,FALSE))) | I5: =IF(A5="","",IF(VLOOKUP($A5,'Test Sample Data'!$A$3:$L$98,8,FALSE)=0,"",VLOOKUP($A5,'Test Sample Data'!$A$3:$L$98,8,FALSE))) | J5: =IF(A5="","",IF(VLOOKUP($A5,'Test Sample Data'!$A$3:$L$98,9,FALSE)=0,"",VLOOKUP($A5,'Test Sample Data'!$A$3:$L$98,9,FALSE))) | K5: =IF(A5="","",IF(VLOOKUP($A5,'Test Sample Data'!$A$3:$L$98,10,FALSE)=0,"",VLOOKUP($A5,'Test Sample Data'!$A$3:$L$98,10,FALSE))) | L5: =IF(A5="","",IF(VLOOKUP($A5,'Test Sample Data'!$A$3:$L$98,11,FALSE)=0,"",VLOOKUP($A5,'Test Sample Data'!$A$3:$L$98,11,FALSE))) | M5: =IF(A5="","",IF(VLOOKUP($A5,'Test Sample Data'!$A$3:$L$98,12,FALSE)=0,"",VLOOKUP($A5,'Test Sample Data'!$A$3:$L$98,12,FALSE))) | O5: =IF(A5=0,"",A5) -> HK3 | Q5: =IF('Choose Housekeeping Genes'!C5=0,"",'Choose Housekeeping Genes'!C5) -> H05 | R5: =IF(A5="","",IF(VLOOKUP($A5,'Control Sample Data'!$A$3:$L$98,3,FALSE)=0,"",VLOOKUP($A5,'Control Sample Data'!$A$3:$L$98,3,FALSE))) | S5: =IF(A5="","",IF(VLOOKUP($A5,'Control Sample Data'!$A$3:$L$98,4,FALSE)=0,"",VLOOKUP($A5,'Control Sample Data'!$A$3:$L$98,4,FALSE))) | T5: =IF(A5="","",IF(VLOOKUP($A5,'Control Sample Data'!$A$3:$L$98,5,FALSE)=0,"",VLOOKUP($A5,'Control Sample Data'!$A$3:$L$98,5,FALSE))) | U5: =IF(A5="","",IF(VLOOKUP($A5,'Control Sample Data'!$A$3:$L$98,6,FALSE)=0,"",VLOOKUP($A5,'Control Sample Data'!$A$3:$L$98,6,FALSE))) | V5: =IF(A5="","",IF(VLOOKUP($A5,'Control Sample Data'!$A$3:$L$98,7,FALSE)=0,"",VLOOKUP($A5,'Control Sample Data'!$A$3:$L$98,7,FALSE))) | W5: =IF(A5="","",IF(VLOOKUP($A5,'Control Sample Data'!$A$3:$L$98,8,FALSE)=0,"",VLOOKUP($A5,'Control Sample Data'!$A$3:$L$98,8,FALSE))) | X5: =IF(A5="","",IF(VLOOKUP($A5,'Control Sample Data'!$A$3:$L$98,9,FALSE)=0,"",VLOOKUP($A5,'Control Sample Data'!$A$3:$L$98,9,FALSE))) | Y5: =IF($A5="","",IF(VLOOKUP($A5,'Control Sample Data'!$A$3:$L$98,10,FALSE)=0,"",VLOOKUP($A5,'Control Sample Data'!$A$3:$L$98,10,FALSE))) | Z5: =IF(A5="","",IF(VLOOKUP($A5,'Control Sample Data'!$A$3:$L$98,11,FALSE)=0,"",VLOOKUP($A5,'Control Sample Data'!$A$3:$L$98,11,FALSE))) | AA5: =IF(A5="","",IF(VLOOKUP($A5,'Control Sample Data'!$A$3:$L$98,12,FALSE)=0,"",VLOOKUP($A5,'Control Sample Data'!$A$3:$L$98,12,FALSE)))
A6: ='Gene Table'!D92 -> HK4 | C6: =IF(A6="","",IF(VLOOKUP($A6,'Test Sample Data'!$A$3:$L$98,2,FALSE)=0,"",VLOOKUP($A6,'Test Sample Data'!$A$3:$L$98,2,FALSE))) -> H06 | D6: =IF(A6="","",IF(VLOOKUP($A6,'Test Sample Data'!$A$3:$L$98,3,FALSE)=0,"",VLOOKUP($A6,'Test Sample Data'!$A$3:$L$98,3,FALSE))) | E6: =IF(A6="","",IF(VLOOKUP($A6,'Test Sample Data'!$A$3:$L$98,4,FALSE)=0,"",VLOOKUP($A6,'Test Sample Data'!$A$3:$L$98,4,FALSE))) | F6: =IF(A6="","",IF(VLOOKUP($A6,'Test Sample Data'!$A$3:$L$98,5,FALSE)=0,"",VLOOKUP($A6,'Test Sample Data'!$A$3:$L$98,5,FALSE))) | G6: =IF(A6="","",IF(VLOOKUP($A6,'Test Sample Data'!$A$3:$L$98,6,FALSE)=0,"",VLOOKUP($A6,'Test Sample Data'!$A$3:$L$98,6,FALSE))) | H6: =IF(A6="","",IF(VLOOKUP($A6,'Test Sample Data'!$A$3:$L$98,7,FALSE)=0,"",VLOOKUP($A6,'Test Sample Data'!$A$3:$L$98,7,FALSE))) | I6: =IF(A6="","",IF(VLOOKUP($A6,'Test Sample Data'!$A$3:$L$98,8,FALSE)=0,"",VLOOKUP($A6,'Test Sample Data'!$A$3:$L$98,8,FALSE))) | J6: =IF(A6="","",IF(VLOOKUP($A6,'Test Sample Data'!$A$3:$L$98,9,FALSE)=0,"",VLOOKUP($A6,'Test Sample Data'!$A$3:$L$98,9,FALSE))) | K6: =IF(A6="","",IF(VLOOKUP($A6,'Test Sample Data'!$A$3:$L$98,10,FALSE)=0,"",VLOOKUP($A6,'Test Sample Data'!$A$3:$L$98,10,FALSE))) | L6: =IF(A6="","",IF(VLOOKUP($A6,'Test Sample Data'!$A$3:$L$98,11,FALSE)=0,"",VLOOKUP($A6,'Test Sample Data'!$A$3:$L$98,11,FALSE))) | M6: =IF(A6="","",IF(VLOOKUP($A6,'Test Sample Data'!$A$3:$L$98,12,FALSE)=0,"",VLOOKUP($A6,'Test Sample Data'!$A$3:$L$98,12,FALSE))) | O6: =IF(A6=0,"",A6) -> HK4 | Q6: =IF('Choose Housekeeping Genes'!C6=0,"",'Choose Housekeeping Genes'!C6) -> H06 | R6: =IF(A6="","",IF(VLOOKUP($A6,'Control Sample Data'!$A$3:$L$98,3,FALSE)=0,"",VLOOKUP($A6,'Control Sample Data'!$A$3:$L$98,3,FALSE))) | S6: =IF(A6="","",IF(VLOOKUP($A6,'Control Sample Data'!$A$3:$L$98,4,FALSE)=0,"",VLOOKUP($A6,'Control Sample Data'!$A$3:$L$98,4,FALSE))) | T6: =IF(A6="","",IF(VLOOKUP($A6,'Control Sample Data'!$A$3:$L$98,5,FALSE)=0,"",VLOOKUP($A6,'Control Sample Data'!$A$3:$L$98,5,FALSE))) | U6: =IF(A6="","",IF(VLOOKUP($A6,'Control Sample Data'!$A$3:$L$98,6,FALSE)=0,"",VLOOKUP($A6,'Control Sample Data'!$A$3:$L$98,6,FALSE))) | V6: =IF(A6="","",IF(VLOOKUP($A6,'Control Sample Data'!$A$3:$L$98,7,FALSE)=0,"",VLOOKUP($A6,'Control Sample Data'!$A$3:$L$98,7,FALSE))) | W6: =IF(A6="","",IF(VLOOKUP($A6,'Control Sample Data'!$A$3:$L$98,8,FALSE)=0,"",VLOOKUP($A6,'Control Sample Data'!$A$3:$L$98,8,FALSE))) | X6: =IF(A6="","",IF(VLOOKUP($A6,'Control Sample Data'!$A$3:$L$98,9,FALSE)=0,"",VLOOKUP($A6,'Control Sample Data'!$A$3:$L$98,9,FALSE))) | Y6: =IF($A6="","",IF(VLOOKUP($A6,'Control Sample Data'!$A$3:$L$98,10,FALSE)=0,"",VLOOKUP($A6,'Control Sample Data'!$A$3:$L$98,10,FALSE))) | Z6: =IF(A6="","",IF(VLOOKUP($A6,'Control Sample Data'!$A$3:$L$98,11,FALSE)=0,"",VLOOKUP($A6,'Control Sample Data'!$A$3:$L$98,11,FALSE))) | AA6: =IF(A6="","",IF(VLOOKUP($A6,'Control Sample Data'!$A$3:$L$98,12,FALSE)=0,"",VLOOKUP($A6,'Control Sample Data'!$A$3:$L$98,12,FALSE)))
A7: ='Gene Table'!D93 -> HK5 | C7: =IF(A7="","",IF(VLOOKUP($A7,'Test Sample Data'!$A$3:$L$98,2,FALSE)=0,"",VLOOKUP($A7,'Test Sample Data'!$A$3:$L$98,2,FALSE))) -> H07 | D7: =IF(A7="","",IF(VLOOKUP($A7,'Test Sample Data'!$A$3:$L$98,3,FALSE)=0,"",VLOOKUP($A7,'Test Sample Data'!$A$3:$L$98,3,FALSE))) | E7: =IF(A7="","",IF(VLOOKUP($A7,'Test Sample Data'!$A$3:$L$98,4,FALSE)=0,"",VLOOKUP($A7,'Test Sample Data'!$A$3:$L$98,4,FALSE))) | F7: =IF(A7="","",IF(VLOOKUP($A7,'Test Sample Data'!$A$3:$L$98,5,FALSE)=0,"",VLOOKUP($A7,'Test Sample Data'!$A$3:$L$98,5,FALSE))) | G7: =IF(A7="","",IF(VLOOKUP($A7,'Test Sample Data'!$A$3:$L$98,6,FALSE)=0,"",VLOOKUP($A7,'Test Sample Data'!$A$3:$L$98,6,FALSE))) | H7: =IF(A7="","",IF(VLOOKUP($A7,'Test Sample Data'!$A$3:$L$98,7,FALSE)=0,"",VLOOKUP($A7,'Test Sample Data'!$A$3:$L$98,7,FALSE))) | I7: =IF(A7="","",IF(VLOOKUP($A7,'Test Sample Data'!$A$3:$L$98,8,FALSE)=0,"",VLOOKUP($A7,'Test Sample Data'!$A$3:$L$98,8,FALSE))) | J7: =IF(A7="","",IF(VLOOKUP($A7,'Test Sample Data'!$A$3:$L$98,9,FALSE)=0,"",VLOOKUP($A7,'Test Sample Data'!$A$3:$L$98,9,FALSE))) | K7: =IF(A7="","",IF(VLOOKUP($A7,'Test Sample Data'!$A$3:$L$98,10,FALSE)=0,"",VLOOKUP($A7,'Test Sample Data'!$A$3:$L$98,10,FALSE))) | L7: =IF(A7="","",IF(VLOOKUP($A7,'Test Sample Data'!$A$3:$L$98,11,FALSE)=0,"",VLOOKUP($A7,'Test Sample Data'!$A$3:$L$98,11,FALSE))) | M7: =IF(A7="","",IF(VLOOKUP($A7,'Test Sample Data'!$A$3:$L$98,12,FALSE)=0,"",VLOOKUP($A7,'Test Sample Data'!$A$3:$L$98,12,FALSE))) | O7: =IF(A7=0,"",A7) -> HK5 | Q7: =IF('Choose Housekeeping Genes'!C7=0,"",'Choose Housekeeping Genes'!C7) -> H07 | R7: =IF(A7="","",IF(VLOOKUP($A7,'Control Sample Data'!$A$3:$L$98,3,FALSE)=0,"",VLOOKUP($A7,'Control Sample Data'!$A$3:$L$98,3,FALSE))) | S7: =IF(A7="","",IF(VLOOKUP($A7,'Control Sample Data'!$A$3:$L$98,4,FALSE)=0,"",VLOOKUP($A7,'Control Sample Data'!$A$3:$L$98,4,FALSE))) | T7: =IF(A7="","",IF(VLOOKUP($A7,'Control Sample Data'!$A$3:$L$98,5,FALSE)=0,"",VLOOKUP($A7,'Control Sample Data'!$A$3:$L$98,5,FALSE))) | U7: =IF(A7="","",IF(VLOOKUP($A7,'Control Sample Data'!$A$3:$L$98,6,FALSE)=0,"",VLOOKUP($A7,'Control Sample Data'!$A$3:$L$98,6,FALSE))) | V7: =IF(A7="","",IF(VLOOKUP($A7,'Control Sample Data'!$A$3:$L$98,7,FALSE)=0,"",VLOOKUP($A7,'Control Sample Data'!$A$3:$L$98,7,FALSE))) | W7: =IF(A7="","",IF(VLOOKUP($A7,'Control Sample Data'!$A$3:$L$98,8,FALSE)=0,"",VLOOKUP($A7,'Control Sample Data'!$A$3:$L$98,8,FALSE))) | X7: =IF(A7="","",IF(VLOOKUP($A7,'Control Sample Data'!$A$3:$L$98,9,FALSE)=0,"",VLOOKUP($A7,'Control Sample Data'!$A$3:$L$98,9,FALSE))) | Y7: =IF($A7="","",IF(VLOOKUP($A7,'Control Sample Data'!$A$3:$L$98,10,FALSE)=0,"",VLOOKUP($A7,'Control Sample Data'!$A$3:$L$98,10,FALSE))) | Z7: =IF(A7="","",IF(VLOOKUP($A7,'Control Sample Data'!$A$3:$L$98,11,FALSE)=0,"",VLOOKUP($A7,'Control Sample Data'!$A$3:$L$98,11,FALSE))) | AA7: =IF(A7="","",IF(VLOOKUP($A7,'Control Sample Data'!$A$3:$L$98,12,FALSE)=0,"",VLOOKUP($A7,'Control Sample Data'!$A$3:$L$98,12,FALSE)))
C8: =IF(A8="","",IF(VLOOKUP($A8,'Test Sample Data'!$A$3:$L$98,2,FALSE)=0,"",VLOOKUP($A8,'Test Sample Data'!$A$3:$L$98,2,FALSE))) | D8: =IF(A8="","",IF(VLOOKUP($A8,'Test Sample Data'!$A$3:$L$98,3,FALSE)=0,"",VLOOKUP($A8,'Test Sample Data'!$A$3:$L$98,3,FALSE))) | E8: =IF(A8="","",IF(VLOOKUP($A8,'Test Sample Data'!$A$3:$L$98,4,FALSE)=0,"",VLOOKUP($A8,'Test Sample Data'!$A$3:$L$98,4,FALSE))) | F8: =IF(A8="","",IF(VLOOKUP($A8,'Test Sample Data'!$A$3:$L$98,5,FALSE)=0,"",VLOOKUP($A8,'Test Sample Data'!$A$3:$L$98,5,FALSE))) | G8: =IF(A8="","",IF(VLOOKUP($A8,'Test Sample Data'!$A$3:$L$98,6,FALSE)=0,"",VLOOKUP($A8,'Test Sample Data'!$A$3:$L$98,6,FALSE))) | H8: =IF(A8="","",IF(VLOOKUP($A8,'Test Sample Data'!$A$3:$L$98,7,FALSE)=0,"",VLOOKUP($A8,'Test Sample Data'!$A$3:$L$98,7,FALSE))) | I8: =IF(A8="","",IF(VLOOKUP($A8,'Test Sample Data'!$A$3:$L$98,8,FALSE)=0,"",VLOOKUP($A8,'Test Sample Data'!$A$3:$L$98,8,FALSE))) | J8: =IF(A8="","",IF(VLOOKUP($A8,'Test Sample Data'!$A$3:$L$98,9,FALSE)=0,"",VLOOKUP($A8,'Test Sample Data'!$A$3:$L$98,9,FALSE))) | K8: =IF(A8="","",IF(VLOOKUP($A8,'Test Sample Data'!$A$3:$L$98,10,FALSE)=0,"",VLOOKUP($A8,'Test Sample Data'!$A$3:$L$98,10,FALSE))) | L8: =IF(A8="","",IF(VLOOKUP($A8,'Test Sample Data'!$A$3:$L$98,11,FALSE)=0,"",VLOOKUP($A8,'Test Sample Data'!$A$3:$L$98,11,FALSE))) | M8: =IF(A8="","",IF(VLOOKUP($A8,'Test Sample Data'!$A$3:$L$98,12,FALSE)=0,"",VLOOKUP($A8,'Test Sample Data'!$A$3:$L$98,12,FALSE))) | O8: =IF(A8=0,"",A8) | Q8: =IF('Choose Housekeeping Genes'!C8=0,"",'Choose Housekeeping Genes'!C8) | R8: =IF(A8="","",IF(VLOOKUP($A8,'Control Sample Data'!$A$3:$L$98,3,FALSE)=0,"",VLOOKUP($A8,'Control Sample Data'!$A$3:$L$98,3,FALSE))) | S8: =IF(A8="","",IF(VLOOKUP($A8,'Control Sample Data'!$A$3:$L$98,4,FALSE)=0,"",VLOOKUP($A8,'Control Sample Data'!$A$3:$L$98,4,FALSE))) | T8: =IF(A8="","",IF(VLOOKUP($A8,'Control Sample Data'!$A$3:$L$98,5,FALSE)=0,"",VLOOKUP($A8,'Control Sample Data'!$A$3:$L$98,5,FALSE))) | U8: =IF(A8="","",IF(VLOOKUP($A8,'Control Sample Data'!$A$3:$L$98,6,FALSE)=0,"",VLOOKUP($A8,'Control Sample Data'!$A$3:$L$98,6,FALSE))) | V8: =IF(A8="","",IF(VLOOKUP($A8,'Control Sample Data'!$A$3:$L$98,7,FALSE)=0,"",VLOOKUP($A8,'Control Sample Data'!$A$3:$L$98,7,FALSE))) | W8: =IF(A8="","",IF(VLOOKUP($A8,'Control Sample Data'!$A$3:$L$98,8,FALSE)=0,"",VLOOKUP($A8,'Control Sample Data'!$A$3:$L$98,8,FALSE))) | X8: =IF(A8="","",IF(VLOOKUP($A8,'Control Sample Data'!$A$3:$L$98,9,FALSE)=0,"",VLOOKUP($A8,'Control Sample Data'!$A$3:$L$98,9,FALSE))) | Y8: =IF($A8="","",IF(VLOOKUP($A8,'Control Sample Data'!$A$3:$L$98,10,FALSE)=0,"",VLOOKUP($A8,'Control Sample Data'!$A$3:$L$98,10,FALSE))) | Z8: =IF(A8="","",IF(VLOOKUP($A8,'Control Sample Data'!$A$3:$L$98,11,FALSE)=0,"",VLOOKUP($A8,'Control Sample Data'!$A$3:$L$98,11,FALSE))) | AA8: =IF(A8="","",IF(VLOOKUP($A8,'Control Sample Data'!$A$3:$L$98,12,FALSE)=0,"",VLOOKUP($A8,'Control Sample Data'!$A$3:$L$98,12,FALSE)))
C9: =IF(A9="","",IF(VLOOKUP($A9,'Test Sample Data'!$A$3:$L$98,2,FALSE)=0,"",VLOOKUP($A9,'Test Sample Data'!$A$3:$L$98,2,FALSE))) | D9: =IF(A9="","",IF(VLOOKUP($A9,'Test Sample Data'!$A$3:$L$98,3,FALSE)=0,"",VLOOKUP($A9,'Test Sample Data'!$A$3:$L$98,3,FALSE))) | E9: =IF(A9="","",IF(VLOOKUP($A9,'Test Sample Data'!$A$3:$L$98,4,FALSE)=0,"",VLOOKUP($A9,'Test Sample Data'!$A$3:$L$98,4,FALSE))) | F9: =IF(A9="","",IF(VLOOKUP($A9,'Test Sample Data'!$A$3:$L$98,5,FALSE)=0,"",VLOOKUP($A9,'Test Sample Data'!$A$3:$L$98,5,FALSE))) | G9: =IF(A9="","",IF(VLOOKUP($A9,'Test Sample Data'!$A$3:$L$98,6,FALSE)=0,"",VLOOKUP($A9,'Test Sample Data'!$A$3:$L$98,6,FALSE))) | H9: =IF(A9="","",IF(VLOOKUP($A9,'Test Sample Data'!$A$3:$L$98,7,FALSE)=0,"",VLOOKUP($A9,'Test Sample Data'!$A$3:$L$98,7,FALSE))) | I9: =IF(A9="","",IF(VLOOKUP($A9,'Test Sample Data'!$A$3:$L$98,8,FALSE)=0,"",VLOOKUP($A9,'Test Sample Data'!$A$3:$L$98,8,FALSE))) | J9: =IF(A9="","",IF(VLOOKUP($A9,'Test Sample Data'!$A$3:$L$98,9,FALSE)=0,"",VLOOKUP($A9,'Test Sample Data'!$A$3:$L$98,9,FALSE))) | K9: =IF(A9="","",IF(VLOOKUP($A9,'Test Sample Data'!$A$3:$L$98,10,FALSE)=0,"",VLOOKUP($A9,'Test Sample Data'!$A$3:$L$98,10,FALSE))) | L9: =IF(A9="","",IF(VLOOKUP($A9,'Test Sample Data'!$A$3:$L$98,11,FALSE)=0,"",VLOOKUP($A9,'Test Sample Data'!$A$3:$L$98,11,FALSE))) | M9: =IF(A9="","",IF(VLOOKUP($A9,'Test Sample Data'!$A$3:$L$98,12,FALSE)=0,"",VLOOKUP($A9,'Test Sample Data'!$A$3:$L$98,12,FALSE))) | O9: =IF(A9=0,"",A9) | Q9: =IF('Choose Housekeeping Genes'!C9=0,"",'Choose Housekeeping Genes'!C9) | R9: =IF(A9="","",IF(VLOOKUP($A9,'Control Sample Data'!$A$3:$L$98,3,FALSE)=0,"",VLOOKUP($A9,'Control Sample Data'!$A$3:$L$98,3,FALSE))) | S9: =IF(A9="","",IF(VLOOKUP($A9,'Control Sample Data'!$A$3:$L$98,4,FALSE)=0,"",VLOOKUP($A9,'Control Sample Data'!$A$3:$L$98,4,FALSE))) | T9: =IF(A9="","",IF(VLOOKUP($A9,'Control Sample Data'!$A$3:$L$98,5,FALSE)=0,"",VLOOKUP($A9,'Control Sample Data'!$A$3:$L$98,5,FALSE))) | U9: =IF(A9="","",IF(VLOOKUP($A9,'Control Sample Data'!$A$3:$L$98,6,FALSE)=0,"",VLOOKUP($A9,'Control Sample Data'!$A$3:$L$98,6,FALSE))) | V9: =IF(A9="","",IF(VLOOKUP($A9,'Control Sample Data'!$A$3:$L$98,7,FALSE)=0,"",VLOOKUP($A9,'Control Sample Data'!$A$3:$L$98,7,FALSE))) | W9: =IF(A9="","",IF(VLOOKUP($A9,'Control Sample Data'!$A$3:$L$98,8,FALSE)=0,"",VLOOKUP($A9,'Control Sample Data'!$A$3:$L$98,8,FALSE))) | X9: =IF(A9="","",IF(VLOOKUP($A9,'Control Sample Data'!$A$3:$L$98,9,FALSE)=0,"",VLOOKUP($A9,'Control Sample Data'!$A$3:$L$98,9,FALSE))) | Y9: =IF($A9="","",IF(VLOOKUP($A9,'Control Sample Data'!$A$3:$L$98,10,FALSE)=0,"",VLOOKUP($A9,'Control Sample Data'!$A$3:$L$98,10,FALSE))) | Z9: =IF(A9="","",IF(VLOOKUP($A9,'Control Sample Data'!$A$3:$L$98,11,FALSE)=0,"",VLOOKUP($A9,'Control Sample Data'!$A$3:$L$98,11,FALSE))) | AA9: =IF(A9="","",IF(VLOOKUP($A9,'Control Sample Data'!$A$3:$L$98,12,FALSE)=0,"",VLOOKUP($A9,'Control Sample Data'!$A$3:$L$98,12,FALSE)))
C10: =IF(A10="","",IF(VLOOKUP($A10,'Test Sample Data'!$A$3:$L$98,2,FALSE)=0,"",VLOOKUP($A10,'Test Sample Data'!$A$3:$L$98,2,FALSE))) | D10: =IF(A10="","",IF(VLOOKUP($A10,'Test Sample Data'!$A$3:$L$98,3,FALSE)=0,"",VLOOKUP($A10,'Test Sample Data'!$A$3:$L$98,3,FALSE))) | E10: =IF(A10="","",IF(VLOOKUP($A10,'Test Sample Data'!$A$3:$L$98,4,FALSE)=0,"",VLOOKUP($A10,'Test Sample Data'!$A$3:$L$98,4,FALSE))) | F10: =IF(A10="","",IF(VLOOKUP($A10,'Test Sample Data'!$A$3:$L$98,5,FALSE)=0,"",VLOOKUP($A10,'Test Sample Data'!$A$3:$L$98,5,FALSE))) | G10: =IF(A10="","",IF(VLOOKUP($A10,'Test Sample Data'!$A$3:$L$98,6,FALSE)=0,"",VLOOKUP($A10,'Test Sample Data'!$A$3:$L$98,6,FALSE))) | H10: =IF(A10="","",IF(VLOOKUP($A10,'Test Sample Data'!$A$3:$L$98,7,FALSE)=0,"",VLOOKUP($A10,'Test Sample Data'!$A$3:$L$98,7,FALSE))) | I10: =IF(A10="","",IF(VLOOKUP($A10,'Test Sample Data'!$A$3:$L$98,8,FALSE)=0,"",VLOOKUP($A10,'Test Sample Data'!$A$3:$L$98,8,FALSE))) | J10: =IF(A10="","",IF(VLOOKUP($A10,'Test Sample Data'!$A$3:$L$98,9,FALSE)=0,"",VLOOKUP($A10,'Test Sample Data'!$A$3:$L$98,9,FALSE))) | K10: =IF(A10="","",IF(VLOOKUP($A10,'Test Sample Data'!$A$3:$L$98,10,FALSE)=0,"",VLOOKUP($A10,'Test Sample Data'!$A$3:$L$98,10,FALSE))) | L10: =IF(A10="","",IF(VLOOKUP($A10,'Test Sample Data'!$A$3:$L$98,11,FALSE)=0,"",VLOOKUP($A10,'Test Sample Data'!$A$3:$L$98,11,FALSE))) | M10: =IF(A10="","",IF(VLOOKUP($A10,'Test Sample Data'!$A$3:$L$98,12,FALSE)=0,"",VLOOKUP($A10,'Test Sample Data'!$A$3:$L$98,12,FALSE))) | O10: =IF(A10=0,"",A10) | Q10: =IF('Choose Housekeeping Genes'!C10=0,"",'Choose Housekeeping Genes'!C10) | R10: =IF(A10="","",IF(VLOOKUP($A10,'Control Sample Data'!$A$3:$L$98,3,FALSE)=0,"",VLOOKUP($A10,'Control Sample Data'!$A$3:$L$98,3,FALSE))) | S10: =IF(A10="","",IF(VLOOKUP($A10,'Control Sample Data'!$A$3:$L$98,4,FALSE)=0,"",VLOOKUP($A10,'Control Sample Data'!$A$3:$L$98,4,FALSE))) | T10: =IF(A10="","",IF(VLOOKUP($A10,'Control Sample Data'!$A$3:$L$98,5,FALSE)=0,"",VLOOKUP($A10,'Control Sample Data'!$A$3:$L$98,5,FALSE))) | U10: =IF(A10="","",IF(VLOOKUP($A10,'Control Sample Data'!$A$3:$L$98,6,FALSE)=0,"",VLOOKUP($A10,'Control Sample Data'!$A$3:$L$98,6,FALSE))) | V10: =IF(A10="","",IF(VLOOKUP($A10,'Control Sample Data'!$A$3:$L$98,7,FALSE)=0,"",VLOOKUP($A10,'Control Sample Data'!$A$3:$L$98,7,FALSE))) | W10: =IF(A10="","",IF(VLOOKUP($A10,'Control Sample Data'!$A$3:$L$98,8,FALSE)=0,"",VLOOKUP($A10,'Control Sample Data'!$A$3:$L$98,8,FALSE))) | X10: =IF(A10="","",IF(VLOOKUP($A10,'Control Sample Data'!$A$3:$L$98,9,FALSE)=0,"",VLOOKUP($A10,'Control Sample Data'!$A$3:$L$98,9,FALSE))) | Y10: =IF($A10="","",IF(VLOOKUP($A10,'Control Sample Data'!$A$3:$L$98,10,FALSE)=0,"",VLOOKUP($A10,'Control Sample Data'!$A$3:$L$98,10,FALSE))) | Z10: =IF(A10="","",IF(VLOOKUP($A10,'Control Sample Data'!$A$3:$L$98,11,FALSE)=0,"",VLOOKUP($A10,'Control Sample Data'!$A$3:$L$98,11,FALSE))) | AA10: =IF(A10="","",IF(VLOOKUP($A10,'Control Sample Data'!$A$3:$L$98,12,FALSE)=0,"",VLOOKUP($A10,'Control Sample Data'!$A$3:$L$98,12,FALSE)))
C11: =IF(A11="","",IF(VLOOKUP($A11,'Test Sample Data'!$A$3:$L$98,2,FALSE)=0,"",VLOOKUP($A11,'Test Sample Data'!$A$3:$L$98,2,FALSE))) | D11: =IF(A11="","",IF(VLOOKUP($A11,'Test Sample Data'!$A$3:$L$98,3,FALSE)=0,"",VLOOKUP($A11,'Test Sample Data'!$A$3:$L$98,3,FALSE))) | E11: =IF(A11="","",IF(VLOOKUP($A11,'Test Sample Data'!$A$3:$L$98,4,FALSE)=0,"",VLOOKUP($A11,'Test Sample Data'!$A$3:$L$98,4,FALSE))) | F11: =IF(A11="","",IF(VLOOKUP($A11,'Test Sample Data'!$A$3:$L$98,5,FALSE)=0,"",VLOOKUP($A11,'Test Sample Data'!$A$3:$L$98,5,FALSE))) | G11: =IF(A11="","",IF(VLOOKUP($A11,'Test Sample Data'!$A$3:$L$98,6,FALSE)=0,"",VLOOKUP($A11,'Test Sample Data'!$A$3:$L$98,6,FALSE))) | H11: =IF(A11="","",IF(VLOOKUP($A11,'Test Sample Data'!$A$3:$L$98,7,FALSE)=0,"",VLOOKUP($A11,'Test Sample Data'!$A$3:$L$98,7,FALSE))) | I11: =IF(A11="","",IF(VLOOKUP($A11,'Test Sample Data'!$A$3:$L$98,8,FALSE)=0,"",VLOOKUP($A11,'Test Sample Data'!$A$3:$L$98,8,FALSE))) | J11: =IF(A11="","",IF(VLOOKUP($A11,'Test Sample Data'!$A$3:$L$98,9,FALSE)=0,"",VLOOKUP($A11,'Test Sample Data'!$A$3:$L$98,9,FALSE))) | K11: =IF(A11="","",IF(VLOOKUP($A11,'Test Sample Data'!$A$3:$L$98,10,FALSE)=0,"",VLOOKUP($A11,'Test Sample Data'!$A$3:$L$98,10,FALSE))) | L11: =IF(A11="","",IF(VLOOKUP($A11,'Test Sample Data'!$A$3:$L$98,11,FALSE)=0,"",VLOOKUP($A11,'Test Sample Data'!$A$3:$L$98,11,FALSE))) | M11: =IF(A11="","",IF(VLOOKUP($A11,'Test Sample Data'!$A$3:$L$98,12,FALSE)=0,"",VLOOKUP($A11,'Test Sample Data'!$A$3:$L$98,12,FALSE))) | O11: =IF(A11=0,"",A11) | Q11: =IF('Choose Housekeeping Genes'!C11=0,"",'Choose Housekeeping Genes'!C11) | R11: =IF(A11="","",IF(VLOOKUP($A11,'Control Sample Data'!$A$3:$L$98,3,FALSE)=0,"",VLOOKUP($A11,'Control Sample Data'!$A$3:$L$98,3,FALSE))) | S11: =IF(A11="","",IF(VLOOKUP($A11,'Control Sample Data'!$A$3:$L$98,4,FALSE)=0,"",VLOOKUP($A11,'Control Sample Data'!$A$3:$L$98,4,FALSE))) | T11: =IF(A11="","",IF(VLOOKUP($A11,'Control Sample Data'!$A$3:$L$98,5,FALSE)=0,"",VLOOKUP($A11,'Control Sample Data'!$A$3:$L$98,5,FALSE))) | U11: =IF(A11="","",IF(VLOOKUP($A11,'Control Sample Data'!$A$3:$L$98,6,FALSE)=0,"",VLOOKUP($A11,'Control Sample Data'!$A$3:$L$98,6,FALSE))) | V11: =IF(A11="","",IF(VLOOKUP($A11,'Control Sample Data'!$A$3:$L$98,7,FALSE)=0,"",VLOOKUP($A11,'Control Sample Data'!$A$3:$L$98,7,FALSE))) | W11: =IF(A11="","",IF(VLOOKUP($A11,'Control Sample Data'!$A$3:$L$98,8,FALSE)=0,"",VLOOKUP($A11,'Control Sample Data'!$A$3:$L$98,8,FALSE))) | X11: =IF(A11="","",IF(VLOOKUP($A11,'Control Sample Data'!$A$3:$L$98,9,FALSE)=0,"",VLOOKUP($A11,'Control Sample Data'!$A$3:$L$98,9,FALSE))) | Y11: =IF($A11="","",IF(VLOOKUP($A11,'Control Sample Data'!$A$3:$L$98,10,FALSE)=0,"",VLOOKUP($A11,'Control Sample Data'!$A$3:$L$98,10,FALSE))) | Z11: =IF(A11="","",IF(VLOOKUP($A11,'Control Sample Data'!$A$3:$L$98,11,FALSE)=0,"",VLOOKUP($A11,'Control Sample Data'!$A$3:$L$98,11,FALSE))) | AA11: =IF(A11="","",IF(VLOOKUP($A11,'Control Sample Data'!$A$3:$L$98,12,FALSE)=0,"",VLOOKUP($A11,'Control Sample Data'!$A$3:$L$98,12,FALSE)))
C12: =IF(A12="","",IF(VLOOKUP($A12,'Test Sample Data'!$A$3:$L$98,2,FALSE)=0,"",VLOOKUP($A12,'Test Sample Data'!$A$3:$L$98,2,FALSE))) | D12: =IF(A12="","",IF(VLOOKUP($A12,'Test Sample Data'!$A$3:$L$98,3,FALSE)=0,"",VLOOKUP($A12,'Test Sample Data'!$A$3:$L$98,3,FALSE))) | E12: =IF(A12="","",IF(VLOOKUP($A12,'Test Sample Data'!$A$3:$L$98,4,FALSE)=0,"",VLOOKUP($A12,'Test Sample Data'!$A$3:$L$98,4,FALSE))) | F12: =IF(A12="","",IF(VLOOKUP($A12,'Test Sample Data'!$A$3:$L$98,5,FALSE)=0,"",VLOOKUP($A12,'Test Sample Data'!$A$3:$L$98,5,FALSE))) | G12: =IF(A12="","",IF(VLOOKUP($A12,'Test Sample Data'!$A$3:$L$98,6,FALSE)=0,"",VLOOKUP($A12,'Test Sample Data'!$A$3:$L$98,6,FALSE))) | H12: =IF(A12="","",IF(VLOOKUP($A12,'Test Sample Data'!$A$3:$L$98,7,FALSE)=0,"",VLOOKUP($A12,'Test Sample Data'!$A$3:$L$98,7,FALSE))) | I12: =IF(A12="","",IF(VLOOKUP($A12,'Test Sample Data'!$A$3:$L$98,8,FALSE)=0,"",VLOOKUP($A12,'Test Sample Data'!$A$3:$L$98,8,FALSE))) | J12: =IF(A12="","",IF(VLOOKUP($A12,'Test Sample Data'!$A$3:$L$98,9,FALSE)=0,"",VLOOKUP($A12,'Test Sample Data'!$A$3:$L$98,9,FALSE))) | K12: =IF(A12="","",IF(VLOOKUP($A12,'Test Sample Data'!$A$3:$L$98,10,FALSE)=0,"",VLOOKUP($A12,'Test Sample Data'!$A$3:$L$98,10,FALSE))) | L12: =IF(A12="","",IF(VLOOKUP($A12,'Test Sample Data'!$A$3:$L$98,11,FALSE)=0,"",VLOOKUP($A12,'Test Sample Data'!$A$3:$L$98,11,FALSE))) | M12: =IF(A12="","",IF(VLOOKUP($A12,'Test Sample Data'!$A$3:$L$98,12,FALSE)=0,"",VLOOKUP($A12,'Test Sample Data'!$A$3:$L$98,12,FALSE))) | O12: =IF(A12=0,"",A12) | Q12: =IF('Choose Housekeeping Genes'!C12=0,"",'Choose Housekeeping Genes'!C12) | R12: =IF(A12="","",IF(VLOOKUP($A12,'Control Sample Data'!$A$3:$L$98,3,FALSE)=0,"",VLOOKUP($A12,'Control Sample Data'!$A$3:$L$98,3,FALSE))) | S12: =IF(A12="","",IF(VLOOKUP($A12,'Control Sample Data'!$A$3:$L$98,4,FALSE)=0,"",VLOOKUP($A12,'Control Sample Data'!$A$3:$L$98,4,FALSE))) | T12: =IF(A12="","",IF(VLOOKUP($A12,'Control Sample Data'!$A$3:$L$98,5,FALSE)=0,"",VLOOKUP($A12,'Control Sample Data'!$A$3:$L$98,5,FALSE))) | U12: =IF(A12="","",IF(VLOOKUP($A12,'Control Sample Data'!$A$3:$L$98,6,FALSE)=0,"",VLOOKUP($A12,'Control Sample Data'!$A$3:$L$98,6,FALSE))) | V12: =IF(A12="","",IF(VLOOKUP($A12,'Control Sample Data'!$A$3:$L$98,7,FALSE)=0,"",VLOOKUP($A12,'Control Sample Data'!$A$3:$L$98,7,FALSE))) | W12: =IF(A12="","",IF(VLOOKUP($A12,'Control Sample Data'!$A$3:$L$98,8,FALSE)=0,"",VLOOKUP($A12,'Control Sample Data'!$A$3:$L$98,8,FALSE))) | X12: =IF(A12="","",IF(VLOOKUP($A12,'Control Sample Data'!$A$3:$L$98,9,FALSE)=0,"",VLOOKUP($A12,'Control Sample Data'!$A$3:$L$98,9,FALSE))) | Y12: =IF($A12="","",IF(VLOOKUP($A12,'Control Sample Data'!$A$3:$L$98,10,FALSE)=0,"",VLOOKUP($A12,'Control Sample Data'!$A$3:$L$98,10,FALSE))) | Z12: =IF(A12="","",IF(VLOOKUP($A12,'Control Sample Data'!$A$3:$L$98,11,FALSE)=0,"",VLOOKUP($A12,'Control Sample Data'!$A$3:$L$98,11,FALSE))) | AA12: =IF(A12="","",IF(VLOOKUP($A12,'Control Sample Data'!$A$3:$L$98,12,FALSE)=0,"",VLOOKUP($A12,'Control Sample Data'!$A$3:$L$98,12,FALSE)))
C13: =IF(A13="","",IF(VLOOKUP($A13,'Test Sample Data'!$A$3:$L$98,2,FALSE)=0,"",VLOOKUP($A13,'Test Sample Data'!$A$3:$L$98,2,FALSE))) | D13: =IF(A13="","",IF(VLOOKUP($A13,'Test Sample Data'!$A$3:$L$98,3,FALSE)=0,"",VLOOKUP($A13,'Test Sample Data'!$A$3:$L$98,3,FALSE))) | E13: =IF(A13="","",IF(VLOOKUP($A13,'Test Sample Data'!$A$3:$L$98,4,FALSE)=0,"",VLOOKUP($A13,'Test Sample Data'!$A$3:$L$98,4,FALSE))) | F13: =IF(A13="","",IF(VLOOKUP($A13,'Test Sample Data'!$A$3:$L$98,5,FALSE)=0,"",VLOOKUP($A13,'Test Sample Data'!$A$3:$L$98,5,FALSE))) | G13: =IF(A13="","",IF(VLOOKUP($A13,'Test Sample Data'!$A$3:$L$98,6,FALSE)=0,"",VLOOKUP($A13,'Test Sample Data'!$A$3:$L$98,6,FALSE))) | H13: =IF(A13="","",IF(VLOOKUP($A13,'Test Sample Data'!$A$3:$L$98,7,FALSE)=0,"",VLOOKUP($A13,'Test Sample Data'!$A$3:$L$98,7,FALSE))) | I13: =IF(A13="","",IF(VLOOKUP($A13,'Test Sample Data'!$A$3:$L$98,8,FALSE)=0,"",VLOOKUP($A13,'Test Sample Data'!$A$3:$L$98,8,FALSE))) | J13: =IF(A13="","",IF(VLOOKUP($A13,'Test Sample Data'!$A$3:$L$98,9,FALSE)=0,"",VLOOKUP($A13,'Test Sample Data'!$A$3:$L$98,9,FALSE))) | K13: =IF(A13="","",IF(VLOOKUP($A13,'Test Sample Data'!$A$3:$L$98,10,FALSE)=0,"",VLOOKUP($A13,'Test Sample Data'!$A$3:$L$98,10,FALSE))) | L13: =IF(A13="","",IF(VLOOKUP($A13,'Test Sample Data'!$A$3:$L$98,11,FALSE)=0,"",VLOOKUP($A13,'Test Sample Data'!$A$3:$L$98,11,FALSE))) | M13: =IF(A13="","",IF(VLOOKUP($A13,'Test Sample Data'!$A$3:$L$98,12,FALSE)=0,"",VLOOKUP($A13,'Test Sample Data'!$A$3:$L$98,12,FALSE))) | O13: =IF(A13=0,"",A13) | Q13: =IF('Choose Housekeeping Genes'!C13=0,"",'Choose Housekeeping Genes'!C13) | R13: =IF(A13="","",IF(VLOOKUP($A13,'Control Sample Data'!$A$3:$L$98,3,FALSE)=0,"",VLOOKUP($A13,'Control Sample Data'!$A$3:$L$98,3,FALSE))) | S13: =IF(A13="","",IF(VLOOKUP($A13,'Control Sample Data'!$A$3:$L$98,4,FALSE)=0,"",VLOOKUP($A13,'Control Sample Data'!$A$3:$L$98,4,FALSE))) | T13: =IF(A13="","",IF(VLOOKUP($A13,'Control Sample Data'!$A$3:$L$98,5,FALSE)=0,"",VLOOKUP($A13,'Control Sample Data'!$A$3:$L$98,5,FALSE))) | U13: =IF(A13="","",IF(VLOOKUP($A13,'Control Sample Data'!$A$3:$L$98,6,FALSE)=0,"",VLOOKUP($A13,'Control Sample Data'!$A$3:$L$98,6,FALSE))) | V13: =IF(A13="","",IF(VLOOKUP($A13,'Control Sample Data'!$A$3:$L$98,7,FALSE)=0,"",VLOOKUP($A13,'Control Sample Data'!$A$3:$L$98,7,FALSE))) | W13: =IF(A13="","",IF(VLOOKUP($A13,'Control Sample Data'!$A$3:$L$98,8,FALSE)=0,"",VLOOKUP($A13,'Control Sample Data'!$A$3:$L$98,8,FALSE))) | X13: =IF(A13="","",IF(VLOOKUP($A13,'Control Sample Data'!$A$3:$L$98,9,FALSE)=0,"",VLOOKUP($A13,'Control Sample Data'!$A$3:$L$98,9,FALSE))) | Y13: =IF($A13="","",IF(VLOOKUP($A13,'Control Sample Data'!$A$3:$L$98,10,FALSE)=0,"",VLOOKUP($A13,'Control Sample Data'!$A$3:$L$98,10,FALSE))) | Z13: =IF(A13="","",IF(VLOOKUP($A13,'Control Sample Data'!$A$3:$L$98,11,FALSE)=0,"",VLOOKUP($A13,'Control Sample Data'!$A$3:$L$98,11,FALSE))) | AA13: =IF(A13="","",IF(VLOOKUP($A13,'Control Sample Data'!$A$3:$L$98,12,FALSE)=0,"",VLOOKUP($A13,'Control Sample Data'!$A$3:$L$98,12,FALSE)))
C14: =IF(A14="","",IF(VLOOKUP($A14,'Test Sample Data'!$A$3:$L$98,2,FALSE)=0,"",VLOOKUP($A14,'Test Sample Data'!$A$3:$L$98,2,FALSE))) | D14: =IF(A14="","",IF(VLOOKUP($A14,'Test Sample Data'!$A$3:$L$98,3,FALSE)=0,"",VLOOKUP($A14,'Test Sample Data'!$A$3:$L$98,3,FALSE))) | E14: =IF(A14="","",IF(VLOOKUP($A14,'Test Sample Data'!$A$3:$L$98,4,FALSE)=0,"",VLOOKUP($A14,'Test Sample Data'!$A$3:$L$98,4,FALSE))) | F14: =IF(A14="","",IF(VLOOKUP($A14,'Test Sample Data'!$A$3:$L$98,5,FALSE)=0,"",VLOOKUP($A14,'Test Sample Data'!$A$3:$L$98,5,FALSE))) | G14: =IF(A14="","",IF(VLOOKUP($A14,'Test Sample Data'!$A$3:$L$98,6,FALSE)=0,"",VLOOKUP($A14,'Test Sample Data'!$A$3:$L$98,6,FALSE))) | H14: =IF(A14="","",IF(VLOOKUP($A14,'Test Sample Data'!$A$3:$L$98,7,FALSE)=0,"",VLOOKUP($A14,'Test Sample Data'!$A$3:$L$98,7,FALSE))) | I14: =IF(A14="","",IF(VLOOKUP($A14,'Test Sample Data'!$A$3:$L$98,8,FALSE)=0,"",VLOOKUP($A14,'Test Sample Data'!$A$3:$L$98,8,FALSE))) | J14: =IF(A14="","",IF(VLOOKUP($A14,'Test Sample Data'!$A$3:$L$98,9,FALSE)=0,"",VLOOKUP($A14,'Test Sample Data'!$A$3:$L$98,9,FALSE))) | K14: =IF(A14="","",IF(VLOOKUP($A14,'Test Sample Data'!$A$3:$L$98,10,FALSE)=0,"",VLOOKUP($A14,'Test Sample Data'!$A$3:$L$98,10,FALSE))) | L14: =IF(A14="","",IF(VLOOKUP($A14,'Test Sample Data'!$A$3:$L$98,11,FALSE)=0,"",VLOOKUP($A14,'Test Sample Data'!$A$3:$L$98,11,FALSE))) | M14: =IF(A14="","",IF(VLOOKUP($A14,'Test Sample Data'!$A$3:$L$98,12,FALSE)=0,"",VLOOKUP($A14,'Test Sample Data'!$A$3:$L$98,12,FALSE))) | O14: =IF(A14=0,"",A14) | Q14: =IF('Choose Housekeeping Genes'!C14=0,"",'Choose Housekeeping Genes'!C14) | R14: =IF(A14="","",IF(VLOOKUP($A14,'Control Sample Data'!$A$3:$L$98,3,FALSE)=0,"",VLOOKUP($A14,'Control Sample Data'!$A$3:$L$98,3,FALSE))) | S14: =IF(A14="","",IF(VLOOKUP($A14,'Control Sample Data'!$A$3:$L$98,4,FALSE)=0,"",VLOOKUP($A14,'Control Sample Data'!$A$3:$L$98,4,FALSE))) | T14: =IF(A14="","",IF(VLOOKUP($A14,'Control Sample Data'!$A$3:$L$98,5,FALSE)=0,"",VLOOKUP($A14,'Control Sample Data'!$A$3:$L$98,5,FALSE))) | U14: =IF(A14="","",IF(VLOOKUP($A14,'Control Sample Data'!$A$3:$L$98,6,FALSE)=0,"",VLOOKUP($A14,'Control Sample Data'!$A$3:$L$98,6,FALSE))) | V14: =IF(A14="","",IF(VLOOKUP($A14,'Control Sample Data'!$A$3:$L$98,7,FALSE)=0,"",VLOOKUP($A14,'Control Sample Data'!$A$3:$L$98,7,FALSE))) | W14: =IF(A14="","",IF(VLOOKUP($A14,'Control Sample Data'!$A$3:$L$98,8,FALSE)=0,"",VLOOKUP($A14,'Control Sample Data'!$A$3:$L$98,8,FALSE))) | X14: =IF(A14="","",IF(VLOOKUP($A14,'Control Sample Data'!$A$3:$L$98,9,FALSE)=0,"",VLOOKUP($A14,'Control Sample Data'!$A$3:$L$98,9,FALSE))) | Y14: =IF($A14="","",IF(VLOOKUP($A14,'Control Sample Data'!$A$3:$L$98,10,FALSE)=0,"",VLOOKUP($A14,'Control Sample Data'!$A$3:$L$98,10,FALSE))) | Z14: =IF(A14="","",IF(VLOOKUP($A14,'Control Sample Data'!$A$3:$L$98,11,FALSE)=0,"",VLOOKUP($A14,'Control Sample Data'!$A$3:$L$98,11,FALSE))) | AA14: =IF(A14="","",IF(VLOOKUP($A14,'Control Sample Data'!$A$3:$L$98,12,FALSE)=0,"",VLOOKUP($A14,'Control Sample Data'!$A$3:$L$98,12,FALSE)))
C15: =IF(A15="","",IF(VLOOKUP($A15,'Test Sample Data'!$A$3:$L$98,2,FALSE)=0,"",VLOOKUP($A15,'Test Sample Data'!$A$3:$L$98,2,FALSE))) | D15: =IF(A15="","",IF(VLOOKUP($A15,'Test Sample Data'!$A$3:$L$98,3,FALSE)=0,"",VLOOKUP($A15,'Test Sample Data'!$A$3:$L$98,3,FALSE))) | E15: =IF(A15="","",IF(VLOOKUP($A15,'Test Sample Data'!$A$3:$L$98,4,FALSE)=0,"",VLOOKUP($A15,'Test Sample Data'!$A$3:$L$98,4,FALSE))) | F15: =IF(A15="","",IF(VLOOKUP($A15,'Test Sample Data'!$A$3:$L$98,5,FALSE)=0,"",VLOOKUP($A15,'Test Sample Data'!$A$3:$L$98,5,FALSE))) | G15: =IF(A15="","",IF(VLOOKUP($A15,'Test Sample Data'!$A$3:$L$98,6,FALSE)=0,"",VLOOKUP($A15,'Test Sample Data'!$A$3:$L$98,6,FALSE))) | H15: =IF(A15="","",IF(VLOOKUP($A15,'Test Sample Data'!$A$3:$L$98,7,FALSE)=0,"",VLOOKUP($A15,'Test Sample Data'!$A$3:$L$98,7,FALSE))) | I15: =IF(A15="","",IF(VLOOKUP($A15,'Test Sample Data'!$A$3:$L$98,8,FALSE)=0,"",VLOOKUP($A15,'Test Sample Data'!$A$3:$L$98,8,FALSE))) | J15: =IF(A15="","",IF(VLOOKUP($A15,'Test Sample Data'!$A$3:$L$98,9,FALSE)=0,"",VLOOKUP($A15,'Test Sample Data'!$A$3:$L$98,9,FALSE))) | K15: =IF(A15="","",IF(VLOOKUP($A15,'Test Sample Data'!$A$3:$L$98,10,FALSE)=0,"",VLOOKUP($A15,'Test Sample Data'!$A$3:$L$98,10,FALSE))) | L15: =IF(A15="","",IF(VLOOKUP($A15,'Test Sample Data'!$A$3:$L$98,11,FALSE)=0,"",VLOOKUP($A15,'Test Sample Data'!$A$3:$L$98,11,FALSE))) | M15: =IF(A15="","",IF(VLOOKUP($A15,'Test Sample Data'!$A$3:$L$98,12,FALSE)=0,"",VLOOKUP($A15,'Test Sample Data'!$A$3:$L$98,12,FALSE))) | O15: =IF(A15=0,"",A15) | Q15: =IF('Choose Housekeeping Genes'!C15=0,"",'Choose Housekeeping Genes'!C15) | R15: =IF(A15="","",IF(VLOOKUP($A15,'Control Sample Data'!$A$3:$L$98,3,FALSE)=0,"",VLOOKUP($A15,'Control Sample Data'!$A$3:$L$98,3,FALSE))) | S15: =IF(A15="","",IF(VLOOKUP($A15,'Control Sample Data'!$A$3:$L$98,4,FALSE)=0,"",VLOOKUP($A15,'Control Sample Data'!$A$3:$L$98,4,FALSE))) | T15: =IF(A15="","",IF(VLOOKUP($A15,'Control Sample Data'!$A$3:$L$98,5,FALSE)=0,"",VLOOKUP($A15,'Control Sample Data'!$A$3:$L$98,5,FALSE))) | U15: =IF(A15="","",IF(VLOOKUP($A15,'Control Sample Data'!$A$3:$L$98,6,FALSE)=0,"",VLOOKUP($A15,'Control Sample Data'!$A$3:$L$98,6,FALSE))) | V15: =IF(A15="","",IF(VLOOKUP($A15,'Control Sample Data'!$A$3:$L$98,7,FALSE)=0,"",VLOOKUP($A15,'Control Sample Data'!$A$3:$L$98,7,FALSE))) | W15: =IF(A15="","",IF(VLOOKUP($A15,'Control Sample Data'!$A$3:$L$98,8,FALSE)=0,"",VLOOKUP($A15,'Control Sample Data'!$A$3:$L$98,8,FALSE))) | X15: =IF(A15="","",IF(VLOOKUP($A15,'Control Sample Data'!$A$3:$L$98,9,FALSE)=0,"",VLOOKUP($A15,'Control Sample Data'!$A$3:$L$98,9,FALSE))) | Y15: =IF($A15="","",IF(VLOOKUP($A15,'Control Sample Data'!$A$3:$L$98,10,FALSE)=0,"",VLOOKUP($A15,'Control Sample Data'!$A$3:$L$98,10,FALSE))) | Z15: =IF(A15="","",IF(VLOOKUP($A15,'Control Sample Data'!$A$3:$L$98,11,FALSE)=0,"",VLOOKUP($A15,'Control Sample Data'!$A$3:$L$98,11,FALSE))) | AA15: =IF(A15="","",IF(VLOOKUP($A15,'Control Sample Data'!$A$3:$L$98,12,FALSE)=0,"",VLOOKUP($A15,'Control Sample Data'!$A$3:$L$98,12,FALSE)))
